BEGIN:VCALENDAR
VERSION:2.0
PRODID:-//Toledo Police Department - ECPv6.15.20//NONSGML v1.0//EN
CALSCALE:GREGORIAN
METHOD:PUBLISH
X-WR-CALNAME:Toledo Police Department
X-ORIGINAL-URL:https://toledopolice.com
X-WR-CALDESC:Events for Toledo Police Department
REFRESH-INTERVAL;VALUE=DURATION:PT1H
X-Robots-Tag:noindex
X-PUBLISHED-TTL:PT1H
BEGIN:VTIMEZONE
TZID:America/New_York
BEGIN:DAYLIGHT
TZOFFSETFROM:-0500
TZOFFSETTO:-0400
TZNAME:EDT
DTSTART:20240310T070000
END:DAYLIGHT
BEGIN:STANDARD
TZOFFSETFROM:-0400
TZOFFSETTO:-0500
TZNAME:EST
DTSTART:20241103T060000
END:STANDARD
BEGIN:DAYLIGHT
TZOFFSETFROM:-0500
TZOFFSETTO:-0400
TZNAME:EDT
DTSTART:20250309T070000
END:DAYLIGHT
BEGIN:STANDARD
TZOFFSETFROM:-0400
TZOFFSETTO:-0500
TZNAME:EST
DTSTART:20251102T060000
END:STANDARD
BEGIN:DAYLIGHT
TZOFFSETFROM:-0500
TZOFFSETTO:-0400
TZNAME:EDT
DTSTART:20260308T070000
END:DAYLIGHT
BEGIN:STANDARD
TZOFFSETFROM:-0400
TZOFFSETTO:-0500
TZNAME:EST
DTSTART:20261101T060000
END:STANDARD
END:VTIMEZONE
BEGIN:VEVENT
DTSTART;TZID=America/New_York:20250318T080000
DTEND;TZID=America/New_York:20250318T170000
DTSTAMP:20260421T092221
CREATED:20250316T121332Z
LAST-MODIFIED:20250316T121802Z
UID:10000018-1742284800-1742317200@toledopolice.com
SUMMARY:DNA LCCP
DESCRIPTION:CR-24-02067 3-18-2025 0900hrs. (#2750\, 2696\, 2538\, 2694\, 2227) 3-13-2025 0700hrs. #2547.
URL:https://toledopolice.com/event/dna-lccp-8/
END:VEVENT
BEGIN:VEVENT
DTSTART;TZID=America/New_York:20250318T080000
DTEND;TZID=America/New_York:20250318T170000
DTSTAMP:20260421T092221
CREATED:20250316T121457Z
LAST-MODIFIED:20250316T121647Z
UID:10000020-1742284800-1742317200@toledopolice.com
SUMMARY:DNA LCCP
DESCRIPTION:CR-24-02255 3-18-2025 0900hrs. (#2703\, 2962\, 2934\, 2697\, 2760) 3-10-2025 0700hrs. #2547.
URL:https://toledopolice.com/event/22578/
END:VEVENT
BEGIN:VEVENT
DTSTART;TZID=America/New_York:20250318T080000
DTEND;TZID=America/New_York:20250318T170000
DTSTAMP:20260421T092221
CREATED:20250317T150805Z
LAST-MODIFIED:20250317T150805Z
UID:10000026-1742284800-1742317200@toledopolice.com
SUMMARY:DNA LCCP
DESCRIPTION:CR-24-02681 3-18-2025 0900hrs. (#2754\, 2550\, 2743\, 2653) 3-17-2025 1100hrs. #2547. \nCR-24-02682 3-18-2025 0900hrs. (#2754\, 2550\, 2743\, 2653) 3-17-2025 1100hrs. #2547.
URL:https://toledopolice.com/event/dna-lccp-14/
END:VEVENT
BEGIN:VEVENT
DTSTART;TZID=America/New_York:20250318T080000
DTEND;TZID=America/New_York:20250318T170000
DTSTAMP:20260421T092221
CREATED:20250317T172524Z
LAST-MODIFIED:20250317T172524Z
UID:10000028-1742284800-1742317200@toledopolice.com
SUMMARY:LCCP-DNA
DESCRIPTION:CR-02024-01214 03/18/2025 0900HRS. (#2260\,2020\,2980) 03/17/2025  1324hrs. #2527
URL:https://toledopolice.com/event/lccp-dna/
END:VEVENT
BEGIN:VEVENT
DTSTART;TZID=America/New_York:20250318T080000
DTEND;TZID=America/New_York:20250318T170000
DTSTAMP:20260421T092221
CREATED:20250318T181648Z
LAST-MODIFIED:20250318T181648Z
UID:10000029-1742284800-1742317200@toledopolice.com
SUMMARY:TMC
DESCRIPTION:No Officers are Needed for the Court Call In Program.
URL:https://toledopolice.com/event/tmc-8/
END:VEVENT
END:VCALENDAR