BEGIN:VCALENDAR
VERSION:2.0
PRODID:-//Toledo Police Department - ECPv6.15.20//NONSGML v1.0//EN
CALSCALE:GREGORIAN
METHOD:PUBLISH
X-ORIGINAL-URL:https://toledopolice.com
X-WR-CALDESC:Events for Toledo Police Department
REFRESH-INTERVAL;VALUE=DURATION:PT1H
X-Robots-Tag:noindex
X-PUBLISHED-TTL:PT1H
BEGIN:VTIMEZONE
TZID:America/New_York
BEGIN:DAYLIGHT
TZOFFSETFROM:-0500
TZOFFSETTO:-0400
TZNAME:EDT
DTSTART:20240310T070000
END:DAYLIGHT
BEGIN:STANDARD
TZOFFSETFROM:-0400
TZOFFSETTO:-0500
TZNAME:EST
DTSTART:20241103T060000
END:STANDARD
BEGIN:DAYLIGHT
TZOFFSETFROM:-0500
TZOFFSETTO:-0400
TZNAME:EDT
DTSTART:20250309T070000
END:DAYLIGHT
BEGIN:STANDARD
TZOFFSETFROM:-0400
TZOFFSETTO:-0500
TZNAME:EST
DTSTART:20251102T060000
END:STANDARD
BEGIN:DAYLIGHT
TZOFFSETFROM:-0500
TZOFFSETTO:-0400
TZNAME:EDT
DTSTART:20260308T070000
END:DAYLIGHT
BEGIN:STANDARD
TZOFFSETFROM:-0400
TZOFFSETTO:-0500
TZNAME:EST
DTSTART:20261101T060000
END:STANDARD
END:VTIMEZONE
BEGIN:VEVENT
DTSTART;TZID=America/New_York:20250319T080000
DTEND;TZID=America/New_York:20250319T170000
DTSTAMP:20260421T092351
CREATED:20250316T121404Z
LAST-MODIFIED:20250316T121721Z
UID:10000019-1742371200-1742403600@toledopolice.com
SUMMARY:DNA LCCP
DESCRIPTION:CR-24-02067 3-19-2025 0900hrs. (#2750\, 2696\, 2538\, 2694\, 2227) 3-13-2025 0700hrs. #2547.
URL:https://toledopolice.com/event/dna-lccp-9/
END:VEVENT
BEGIN:VEVENT
DTSTART;TZID=America/New_York:20250319T080000
DTEND;TZID=America/New_York:20250319T170000
DTSTAMP:20260421T092351
CREATED:20250319T144924Z
LAST-MODIFIED:20250319T144924Z
UID:10000030-1742371200-1742403600@toledopolice.com
SUMMARY:TMC
DESCRIPTION:No Officers are Needed for the Court Call In Program.
URL:https://toledopolice.com/event/tmc-9/
END:VEVENT
END:VCALENDAR