BEGIN:VCALENDAR
VERSION:2.0
PRODID:-//Toledo Police Department - ECPv6.15.20//NONSGML v1.0//EN
CALSCALE:GREGORIAN
METHOD:PUBLISH
X-ORIGINAL-URL:https://toledopolice.com
X-WR-CALDESC:Events for Toledo Police Department
REFRESH-INTERVAL;VALUE=DURATION:PT1H
X-Robots-Tag:noindex
X-PUBLISHED-TTL:PT1H
BEGIN:VTIMEZONE
TZID:America/New_York
BEGIN:DAYLIGHT
TZOFFSETFROM:-0500
TZOFFSETTO:-0400
TZNAME:EDT
DTSTART:20240310T070000
END:DAYLIGHT
BEGIN:STANDARD
TZOFFSETFROM:-0400
TZOFFSETTO:-0500
TZNAME:EST
DTSTART:20241103T060000
END:STANDARD
BEGIN:DAYLIGHT
TZOFFSETFROM:-0500
TZOFFSETTO:-0400
TZNAME:EDT
DTSTART:20250309T070000
END:DAYLIGHT
BEGIN:STANDARD
TZOFFSETFROM:-0400
TZOFFSETTO:-0500
TZNAME:EST
DTSTART:20251102T060000
END:STANDARD
BEGIN:DAYLIGHT
TZOFFSETFROM:-0500
TZOFFSETTO:-0400
TZNAME:EDT
DTSTART:20260308T070000
END:DAYLIGHT
BEGIN:STANDARD
TZOFFSETFROM:-0400
TZOFFSETTO:-0500
TZNAME:EST
DTSTART:20261101T060000
END:STANDARD
END:VTIMEZONE
BEGIN:VEVENT
DTSTART;TZID=America/New_York:20250418T080000
DTEND;TZID=America/New_York:20250418T170000
DTSTAMP:20260421T075144
CREATED:20250321T154413Z
LAST-MODIFIED:20250321T154413Z
UID:10000033-1744963200-1744995600@toledopolice.com
SUMMARY:DNA LCCP
DESCRIPTION:CR-2024-02355 04/18/2025 (#2227\,8321\,2845\,2888\,2401\,2668\,2791\,2135\,2941\,2863\,2379\,2707\,2876\,2872\,2429\,2234\,8598)03/21/2025   1143HRS. #2527
URL:https://toledopolice.com/event/dna-lccp-18/
END:VEVENT
END:VCALENDAR