BEGIN:VCALENDAR
VERSION:2.0
PRODID:-//Toledo Police Department - ECPv6.15.20//NONSGML v1.0//EN
CALSCALE:GREGORIAN
METHOD:PUBLISH
X-WR-CALNAME:Toledo Police Department
X-ORIGINAL-URL:https://toledopolice.com
X-WR-CALDESC:Events for Toledo Police Department
REFRESH-INTERVAL;VALUE=DURATION:PT1H
X-Robots-Tag:noindex
X-PUBLISHED-TTL:PT1H
BEGIN:VTIMEZONE
TZID:America/New_York
BEGIN:DAYLIGHT
TZOFFSETFROM:-0500
TZOFFSETTO:-0400
TZNAME:EDT
DTSTART:20240310T070000
END:DAYLIGHT
BEGIN:STANDARD
TZOFFSETFROM:-0400
TZOFFSETTO:-0500
TZNAME:EST
DTSTART:20241103T060000
END:STANDARD
BEGIN:DAYLIGHT
TZOFFSETFROM:-0500
TZOFFSETTO:-0400
TZNAME:EDT
DTSTART:20250309T070000
END:DAYLIGHT
BEGIN:STANDARD
TZOFFSETFROM:-0400
TZOFFSETTO:-0500
TZNAME:EST
DTSTART:20251102T060000
END:STANDARD
BEGIN:DAYLIGHT
TZOFFSETFROM:-0500
TZOFFSETTO:-0400
TZNAME:EDT
DTSTART:20260308T070000
END:DAYLIGHT
BEGIN:STANDARD
TZOFFSETFROM:-0400
TZOFFSETTO:-0500
TZNAME:EST
DTSTART:20261101T060000
END:STANDARD
END:VTIMEZONE
BEGIN:VEVENT
DTSTART;TZID=America/New_York:20250429T080000
DTEND;TZID=America/New_York:20250429T170000
DTSTAMP:20260421T062645
CREATED:20250410T183034Z
LAST-MODIFIED:20250410T183034Z
UID:10000056-1745913600-1745946000@toledopolice.com
SUMMARY:DNA LCCP
DESCRIPTION:CR-25-00110 4-29-2025 0900hrs. (#2697\, 2973\, 2991\, 3001\, 3006\, 2940\, 2951) 4-10-2025 1430hrs. #2547.
URL:https://toledopolice.com/event/dna-lccp-29/
END:VEVENT
BEGIN:VEVENT
DTSTART;TZID=America/New_York:20250429T080000
DTEND;TZID=America/New_York:20250429T170000
DTSTAMP:20260421T062645
CREATED:20250425T172815Z
LAST-MODIFIED:20250425T172851Z
UID:10000073-1745913600-1745946000@toledopolice.com
SUMMARY:LCCMP -DNA
DESCRIPTION:CR-2024-02248  04/29/2025 0900hrs. (#2468\,2752\,2542\,2792\,2089\,2425\,2436\,2571\,2629\,2708\,2609\,2227\,2823\,8321\,2526\,2744\,2135\,2574\,2469\,2332\,2141\,2699\,2599\,2782\,2801)  04/25/2025 1327hrs #2527
URL:https://toledopolice.com/event/lccmp-dna/
END:VEVENT
BEGIN:VEVENT
DTSTART;TZID=America/New_York:20250429T080000
DTEND;TZID=America/New_York:20250429T170000
DTSTAMP:20260421T062645
CREATED:20250429T115103Z
LAST-MODIFIED:20250429T115103Z
UID:10000076-1745913600-1745946000@toledopolice.com
SUMMARY:DNA LCCP
DESCRIPTION:CR-24-02558 4-29-2025 0900hrs. (#2707\, 2969\, 2227\, 2376) 4-29-2025 0750hrs. #2547. \nCR-25-00419 4-29-2025 0900hrs. (#2572\, 2965\, 2830\, 3012) 4-29-2025 0750hrs. #2547.
URL:https://toledopolice.com/event/dna-lccp-37/
END:VEVENT
BEGIN:VEVENT
DTSTART;TZID=America/New_York:20250429T080000
DTEND;TZID=America/New_York:20250429T170000
DTSTAMP:20260421T062645
CREATED:20250429T150522Z
LAST-MODIFIED:20250429T150522Z
UID:10000078-1745913600-1745946000@toledopolice.com
SUMMARY:TMC
DESCRIPTION:No Officers are Needed for the Court Call In Program.
URL:https://toledopolice.com/event/tmc-30/
END:VEVENT
END:VCALENDAR