BEGIN:VCALENDAR
VERSION:2.0
PRODID:-//Toledo Police Department - ECPv6.15.20//NONSGML v1.0//EN
CALSCALE:GREGORIAN
METHOD:PUBLISH
X-ORIGINAL-URL:https://toledopolice.com
X-WR-CALDESC:Events for Toledo Police Department
REFRESH-INTERVAL;VALUE=DURATION:PT1H
X-Robots-Tag:noindex
X-PUBLISHED-TTL:PT1H
BEGIN:VTIMEZONE
TZID:America/New_York
BEGIN:DAYLIGHT
TZOFFSETFROM:-0500
TZOFFSETTO:-0400
TZNAME:EDT
DTSTART:20250309T070000
END:DAYLIGHT
BEGIN:STANDARD
TZOFFSETFROM:-0400
TZOFFSETTO:-0500
TZNAME:EST
DTSTART:20251102T060000
END:STANDARD
BEGIN:DAYLIGHT
TZOFFSETFROM:-0500
TZOFFSETTO:-0400
TZNAME:EDT
DTSTART:20260308T070000
END:DAYLIGHT
BEGIN:STANDARD
TZOFFSETFROM:-0400
TZOFFSETTO:-0500
TZNAME:EST
DTSTART:20261101T060000
END:STANDARD
BEGIN:DAYLIGHT
TZOFFSETFROM:-0500
TZOFFSETTO:-0400
TZNAME:EDT
DTSTART:20270314T070000
END:DAYLIGHT
BEGIN:STANDARD
TZOFFSETFROM:-0400
TZOFFSETTO:-0500
TZNAME:EST
DTSTART:20271107T060000
END:STANDARD
END:VTIMEZONE
BEGIN:VEVENT
DTSTART;TZID=America/New_York:20260220T080000
DTEND;TZID=America/New_York:20260220T170000
DTSTAMP:20260422T000120
CREATED:20260219T184955Z
LAST-MODIFIED:20260219T184955Z
UID:10000550-1771574400-1771606800@toledopolice.com
SUMMARY:LCCP DNA
DESCRIPTION:CR2025-01129 2-20-26 0900hrs (#2601\, 2978\, 2141\, 2981\, 2604\, 2640\, 2699\, 2770\, 2592\, 2771\, 2729\, 2734\, 2227\, 2716\, 2146) 2-19-26 1246hrs #2526
URL:https://toledopolice.com/event/lccp-dna-202/
END:VEVENT
BEGIN:VEVENT
DTSTART;TZID=America/New_York:20260220T080000
DTEND;TZID=America/New_York:20260220T170000
DTSTAMP:20260422T000120
CREATED:20260220T153224Z
LAST-MODIFIED:20260220T153224Z
UID:10000555-1771574400-1771606800@toledopolice.com
SUMMARY:TMC
DESCRIPTION:TMC-No officers are needed for the court call-in program
URL:https://toledopolice.com/event/tmc-103/
END:VEVENT
BEGIN:VEVENT
DTSTART;TZID=America/New_York:20260220T090000
DTEND;TZID=America/New_York:20260220T090000
DTSTAMP:20260422T000120
CREATED:20260205T135325Z
LAST-MODIFIED:20260205T135325Z
UID:10000501-1771578000-1771578000@toledopolice.com
SUMMARY:LCCMP-DNA
DESCRIPTION:CR2025-01033 02/20/2026 0900HRS (#2969\,3042\,2568\,2332\,2906\,2866\,2877\,28880\,2882\,3024\,2227\,2686\,2564) 02/05/2026 0850HRS. #2527
URL:https://toledopolice.com/event/lccmp-dna-22/
END:VEVENT
BEGIN:VEVENT
DTSTART;TZID=America/New_York:20260220T090000
DTEND;TZID=America/New_York:20260220T090000
DTSTAMP:20260422T000120
CREATED:20260205T140909Z
LAST-MODIFIED:20260205T140909Z
UID:10000506-1771578000-1771578000@toledopolice.com
SUMMARY:LCCMP-DNA
DESCRIPTION:CR2025-01034 02/20/2026 0900HRS (#2969\,3042\,2568\,2332\,2906\,2866\,2877\,28880\,2882\,3024\,2227\,2686\,2564) 02/05/2026 0850HRS. #2527
URL:https://toledopolice.com/event/lccmp-dna-25/
END:VEVENT
END:VCALENDAR