BEGIN:VCALENDAR
VERSION:2.0
PRODID:-//Toledo Police Department - ECPv6.15.20//NONSGML v1.0//EN
CALSCALE:GREGORIAN
METHOD:PUBLISH
X-WR-CALNAME:Toledo Police Department
X-ORIGINAL-URL:https://toledopolice.com
X-WR-CALDESC:Events for Toledo Police Department
REFRESH-INTERVAL;VALUE=DURATION:PT1H
X-Robots-Tag:noindex
X-PUBLISHED-TTL:PT1H
BEGIN:VTIMEZONE
TZID:America/New_York
BEGIN:DAYLIGHT
TZOFFSETFROM:-0500
TZOFFSETTO:-0400
TZNAME:EDT
DTSTART:20250309T070000
END:DAYLIGHT
BEGIN:STANDARD
TZOFFSETFROM:-0400
TZOFFSETTO:-0500
TZNAME:EST
DTSTART:20251102T060000
END:STANDARD
BEGIN:DAYLIGHT
TZOFFSETFROM:-0500
TZOFFSETTO:-0400
TZNAME:EDT
DTSTART:20260308T070000
END:DAYLIGHT
BEGIN:STANDARD
TZOFFSETFROM:-0400
TZOFFSETTO:-0500
TZNAME:EST
DTSTART:20261101T060000
END:STANDARD
BEGIN:DAYLIGHT
TZOFFSETFROM:-0500
TZOFFSETTO:-0400
TZNAME:EDT
DTSTART:20270314T070000
END:DAYLIGHT
BEGIN:STANDARD
TZOFFSETFROM:-0400
TZOFFSETTO:-0500
TZNAME:EST
DTSTART:20271107T060000
END:STANDARD
END:VTIMEZONE
BEGIN:VEVENT
DTSTART;TZID=America/New_York:20260225T080000
DTEND;TZID=America/New_York:20260225T170000
DTSTAMP:20260421T152457
CREATED:20260123T192306Z
LAST-MODIFIED:20260123T192306Z
UID:10000464-1772006400-1772038800@toledopolice.com
SUMMARY:LCCP DNA
DESCRIPTION:CR2024-02810 2-25-26 0900hrs (#2810\, 2585\, 2141\, 2552\, 2396\, 2562\, 2670\, 8321\, 2989\, 3032\, 2227\, 2699\, 2118\, 2498\, 2469\, 2332\, 2401\, 2978\, 2484) 1-22-26 1007hrs #2526
URL:https://toledopolice.com/event/lccp-dna-176/
END:VEVENT
BEGIN:VEVENT
DTSTART;TZID=America/New_York:20260225T080000
DTEND;TZID=America/New_York:20260225T170000
DTSTAMP:20260421T152457
CREATED:20260211T130929Z
LAST-MODIFIED:20260211T130929Z
UID:10000532-1772006400-1772038800@toledopolice.com
SUMMARY:LCCP DNA
DESCRIPTION:CR2025-01154 2-25-26 0930hrs (#2653) 2-10-26 1641hrs #2526
URL:https://toledopolice.com/event/lccp-dna-190/
END:VEVENT
BEGIN:VEVENT
DTSTART;TZID=America/New_York:20260225T080000
DTEND;TZID=America/New_York:20260225T170000
DTSTAMP:20260421T152457
CREATED:20260225T151246Z
LAST-MODIFIED:20260225T151246Z
UID:10000575-1772006400-1772038800@toledopolice.com
SUMMARY:TMC No officers needed for court call in program
DESCRIPTION:
URL:https://toledopolice.com/event/tmc-no-officers-needed-for-court-call-in-program-39/
END:VEVENT
END:VCALENDAR