BEGIN:VCALENDAR
VERSION:2.0
PRODID:-//Toledo Police Department - ECPv6.15.20//NONSGML v1.0//EN
CALSCALE:GREGORIAN
METHOD:PUBLISH
X-WR-CALNAME:Toledo Police Department
X-ORIGINAL-URL:https://toledopolice.com
X-WR-CALDESC:Events for Toledo Police Department
REFRESH-INTERVAL;VALUE=DURATION:PT1H
X-Robots-Tag:noindex
X-PUBLISHED-TTL:PT1H
BEGIN:VTIMEZONE
TZID:America/New_York
BEGIN:DAYLIGHT
TZOFFSETFROM:-0500
TZOFFSETTO:-0400
TZNAME:EDT
DTSTART:20250309T070000
END:DAYLIGHT
BEGIN:STANDARD
TZOFFSETFROM:-0400
TZOFFSETTO:-0500
TZNAME:EST
DTSTART:20251102T060000
END:STANDARD
BEGIN:DAYLIGHT
TZOFFSETFROM:-0500
TZOFFSETTO:-0400
TZNAME:EDT
DTSTART:20260308T070000
END:DAYLIGHT
BEGIN:STANDARD
TZOFFSETFROM:-0400
TZOFFSETTO:-0500
TZNAME:EST
DTSTART:20261101T060000
END:STANDARD
BEGIN:DAYLIGHT
TZOFFSETFROM:-0500
TZOFFSETTO:-0400
TZNAME:EDT
DTSTART:20270314T070000
END:DAYLIGHT
BEGIN:STANDARD
TZOFFSETFROM:-0400
TZOFFSETTO:-0500
TZNAME:EST
DTSTART:20271107T060000
END:STANDARD
END:VTIMEZONE
BEGIN:VEVENT
DTSTART;TZID=America/New_York:20260413T080000
DTEND;TZID=America/New_York:20260413T170000
DTSTAMP:20260421T072900
CREATED:20260413T143305Z
LAST-MODIFIED:20260413T143305Z
UID:10000672-1776067200-1776099600@toledopolice.com
SUMMARY:TMC-No officers are needed for the court call-in program.
DESCRIPTION:
URL:https://toledopolice.com/event/tmc-no-officers-are-needed-for-the-court-call-in-program-2/
END:VEVENT
BEGIN:VEVENT
DTSTART;TZID=America/New_York:20260413T130000
DTEND;TZID=America/New_York:20260413T130000
DTSTAMP:20260421T072900
CREATED:20260409T155615Z
LAST-MODIFIED:20260409T155615Z
UID:10000670-1776085200-1776085200@toledopolice.com
SUMMARY:LUCCMP-DNA
DESCRIPTION:CR2026-00054 04/13/2026 1300hrs (#2087\,2707\,2577\,2530\,2227\,2557 ) 04-09-2026  1155hrs. #2527
URL:https://toledopolice.com/event/luccmp-dna-14/
END:VEVENT
END:VCALENDAR