BEGIN:VCALENDAR
VERSION:2.0
PRODID:-//Toledo Police Department - ECPv6.15.20//NONSGML v1.0//EN
CALSCALE:GREGORIAN
METHOD:PUBLISH
X-WR-CALNAME:Toledo Police Department
X-ORIGINAL-URL:https://toledopolice.com
X-WR-CALDESC:Events for Toledo Police Department
REFRESH-INTERVAL;VALUE=DURATION:PT1H
X-Robots-Tag:noindex
X-PUBLISHED-TTL:PT1H
BEGIN:VTIMEZONE
TZID:America/New_York
BEGIN:DAYLIGHT
TZOFFSETFROM:-0500
TZOFFSETTO:-0400
TZNAME:EDT
DTSTART:20250309T070000
END:DAYLIGHT
BEGIN:STANDARD
TZOFFSETFROM:-0400
TZOFFSETTO:-0500
TZNAME:EST
DTSTART:20251102T060000
END:STANDARD
BEGIN:DAYLIGHT
TZOFFSETFROM:-0500
TZOFFSETTO:-0400
TZNAME:EDT
DTSTART:20260308T070000
END:DAYLIGHT
BEGIN:STANDARD
TZOFFSETFROM:-0400
TZOFFSETTO:-0500
TZNAME:EST
DTSTART:20261101T060000
END:STANDARD
BEGIN:DAYLIGHT
TZOFFSETFROM:-0500
TZOFFSETTO:-0400
TZNAME:EDT
DTSTART:20270314T070000
END:DAYLIGHT
BEGIN:STANDARD
TZOFFSETFROM:-0400
TZOFFSETTO:-0500
TZNAME:EST
DTSTART:20271107T060000
END:STANDARD
END:VTIMEZONE
BEGIN:VEVENT
DTSTART;TZID=America/New_York:20260416T080000
DTEND;TZID=America/New_York:20260416T170000
DTSTAMP:20260421T074529
CREATED:20260415T182625Z
LAST-MODIFIED:20260415T182625Z
UID:10000680-1776326400-1776358800@toledopolice.com
SUMMARY:LCCP DNA
DESCRIPTION:CR2025-01032 4-16-26 1030hrs (#2447\, 2494\, 2722\, 2355\, 2429\, 2640\, 2401\, 2835\, 2969\, 2630\, 2711\, 2603\, 2609\, 2591\, 2719\, 2882\, 2809) 4-15-26 1350hrs #2526
URL:https://toledopolice.com/event/lccp-dna-270/
END:VEVENT
BEGIN:VEVENT
DTSTART;TZID=America/New_York:20260416T080000
DTEND;TZID=America/New_York:20260416T170000
DTSTAMP:20260421T074529
CREATED:20260416T142153Z
LAST-MODIFIED:20260416T142153Z
UID:10000681-1776326400-1776358800@toledopolice.com
SUMMARY:TMC- No officers are needed for the court call-in program
DESCRIPTION:No officers are needed for the court call-in program
URL:https://toledopolice.com/event/tmc-no-officers-are-needed-for-the-court-call-in-program-4/
END:VEVENT
END:VCALENDAR