BEGIN:VCALENDAR
VERSION:2.0
PRODID:-//Toledo Police Department - ECPv6.15.20//NONSGML v1.0//EN
CALSCALE:GREGORIAN
METHOD:PUBLISH
X-WR-CALNAME:Toledo Police Department
X-ORIGINAL-URL:https://toledopolice.com
X-WR-CALDESC:Events for Toledo Police Department
REFRESH-INTERVAL;VALUE=DURATION:PT1H
X-Robots-Tag:noindex
X-PUBLISHED-TTL:PT1H
BEGIN:VTIMEZONE
TZID:America/New_York
BEGIN:DAYLIGHT
TZOFFSETFROM:-0500
TZOFFSETTO:-0400
TZNAME:EDT
DTSTART:20250309T070000
END:DAYLIGHT
BEGIN:STANDARD
TZOFFSETFROM:-0400
TZOFFSETTO:-0500
TZNAME:EST
DTSTART:20251102T060000
END:STANDARD
BEGIN:DAYLIGHT
TZOFFSETFROM:-0500
TZOFFSETTO:-0400
TZNAME:EDT
DTSTART:20260308T070000
END:DAYLIGHT
BEGIN:STANDARD
TZOFFSETFROM:-0400
TZOFFSETTO:-0500
TZNAME:EST
DTSTART:20261101T060000
END:STANDARD
BEGIN:DAYLIGHT
TZOFFSETFROM:-0500
TZOFFSETTO:-0400
TZNAME:EDT
DTSTART:20270314T070000
END:DAYLIGHT
BEGIN:STANDARD
TZOFFSETFROM:-0400
TZOFFSETTO:-0500
TZNAME:EST
DTSTART:20271107T060000
END:STANDARD
END:VTIMEZONE
BEGIN:VEVENT
DTSTART;TZID=America/New_York:20260421T080000
DTEND;TZID=America/New_York:20260421T170000
DTSTAMP:20260421T090527
CREATED:20260326T181141Z
LAST-MODIFIED:20260326T181141Z
UID:10000653-1776758400-1776790800@toledopolice.com
SUMMARY:LCCP DNA
DESCRIPTION:CR2025-01505 4-21-26 1300hrs (#2653\, 2227\, 2866\, 3042) 3-26-26 1315hrs #2526 \nCR2025-015064-21-26 1300hrs (#2653\, 2227\, 2866\, 3042) 3-26-26 1315hrs #2526
URL:https://toledopolice.com/event/lccp-dna-258/
END:VEVENT
BEGIN:VEVENT
DTSTART;TZID=America/New_York:20260421T080000
DTEND;TZID=America/New_York:20260421T170000
DTSTAMP:20260421T090527
CREATED:20260413T153452Z
LAST-MODIFIED:20260413T153452Z
UID:10000675-1776758400-1776790800@toledopolice.com
SUMMARY:LCCP DNA
DESCRIPTION:CR2025-01424 4-21-26 0900hrs (#8439\, 3002\, 2227\, 2703\, 2947\, 2652\, 2513) 4-10-26 1329hrs #2526
URL:https://toledopolice.com/event/lccp-dna-266/
END:VEVENT
BEGIN:VEVENT
DTSTART;TZID=America/New_York:20260421T080000
DTEND;TZID=America/New_York:20260421T170000
DTSTAMP:20260421T090527
CREATED:20260421T115048Z
LAST-MODIFIED:20260421T115048Z
UID:10000685-1776758400-1776790800@toledopolice.com
SUMMARY:LCCP DNA
DESCRIPTION:CR2025-01390 4-21-26 0900hrs (#2835\, 2274\, 2487\, 2857\, 2856\, 2839\, 2645\, 2704\, 2922\, 2995\, 2804\, 2630\, 2609\, 2729\, 2601\, 2770\, 2970\, 3039\, 3043\, 2524\, 2282\, 2943) 4-20-26 1641hrs #2526
URL:https://toledopolice.com/event/lccp-dna-272/
END:VEVENT
BEGIN:VEVENT
DTSTART;TZID=America/New_York:20260421T130000
DTEND;TZID=America/New_York:20260421T130000
DTSTAMP:20260421T090527
CREATED:20260416T143134Z
LAST-MODIFIED:20260416T143134Z
UID:10000682-1776776400-1776776400@toledopolice.com
SUMMARY:LUCCMP-DNA
DESCRIPTION:CR2025-01142 04/21/2026 1300HRS (#2227\,2840\,2808\,2459\,2873\,2141\,2283) 04/16/2026  1031HRS. #2527
URL:https://toledopolice.com/event/luccmp-dna-15/
END:VEVENT
BEGIN:VEVENT
DTSTART;TZID=America/New_York:20260422T080000
DTEND;TZID=America/New_York:20260422T170000
DTSTAMP:20260421T090527
CREATED:20260413T153609Z
LAST-MODIFIED:20260413T153609Z
UID:10000676-1776844800-1776877200@toledopolice.com
SUMMARY:LCCP DNA
DESCRIPTION:CR2025-01424 4-22-26 0900hrs (#8439\, 3002\, 2227\, 2703\, 2947\, 2652\, 2513) 4-10-26 1329hrs #2526
URL:https://toledopolice.com/event/lccp-dna-267/
END:VEVENT
BEGIN:VEVENT
DTSTART;TZID=America/New_York:20260422T080000
DTEND;TZID=America/New_York:20260422T170000
DTSTAMP:20260421T090527
CREATED:20260421T115238Z
LAST-MODIFIED:20260421T115238Z
UID:10000686-1776844800-1776877200@toledopolice.com
SUMMARY:LCCP DNA
DESCRIPTION:CR2025-01390 4-22-26 0900hrs (#2835\, 2274\, 2487\, 2857\, 2856\, 2839\, 2645\, 2704\, 2922\, 2995\, 2804\, 2630\, 2609\, 2729\, 2601\, 2770\, 2970\, 3039\, 3043\, 2524\, 2282\, 2943) 4-20-26 1641hrs #2526
URL:https://toledopolice.com/event/lccp-dna-273/
END:VEVENT
BEGIN:VEVENT
DTSTART;TZID=America/New_York:20260423T080000
DTEND;TZID=America/New_York:20260423T170000
DTSTAMP:20260421T090527
CREATED:20260413T153711Z
LAST-MODIFIED:20260413T153711Z
UID:10000677-1776931200-1776963600@toledopolice.com
SUMMARY:LCCP DNA
DESCRIPTION:CR2025-01424 4-23-26 0900hrs (#8439\, 3002\, 2227\, 2703\, 2947\, 2652\, 2513) 4-10-26 1329hrs #2526
URL:https://toledopolice.com/event/lccp-dna-268/
END:VEVENT
BEGIN:VEVENT
DTSTART;TZID=America/New_York:20260424T080000
DTEND;TZID=America/New_York:20260424T170000
DTSTAMP:20260421T090527
CREATED:20260413T153821Z
LAST-MODIFIED:20260413T153821Z
UID:10000678-1777017600-1777050000@toledopolice.com
SUMMARY:LCCP DNA
DESCRIPTION:CR2025-01424 4-24-26 0900hrs (#8439\, 3002\, 2227\, 2703\, 2947\, 2652\, 2513) 4-10-26 1329hrs #2526
URL:https://toledopolice.com/event/lccp-dna-269/
END:VEVENT
BEGIN:VEVENT
DTSTART;TZID=America/New_York:20260428T090000
DTEND;TZID=America/New_York:20260428T090000
DTSTAMP:20260421T090527
CREATED:20260320T124956Z
LAST-MODIFIED:20260320T125136Z
UID:10000637-1777366800-1777366800@toledopolice.com
SUMMARY:LCCMP-DNA
DESCRIPTION:CR2026-00135  04/28/2026  0900HRS. (#2227\,2883\,2274\,2881)  03/20/2026  0852HRS. #2527
URL:https://toledopolice.com/event/lccmp-dna-58/
END:VEVENT
BEGIN:VEVENT
DTSTART;TZID=America/New_York:20260512T080000
DTEND;TZID=America/New_York:20260512T170000
DTSTAMP:20260421T090527
CREATED:20260309T112527Z
LAST-MODIFIED:20260309T112527Z
UID:10000611-1778572800-1778605200@toledopolice.com
SUMMARY:LCCP DNA
DESCRIPTION:CR2025-00654 5-12-26 0900hrs (#2227\, 2599\, 3002\, 2552\, 2744\, 2234\, 2697\, 2915\, 2141\, 8598\, 3043) 3-6-26 1409hrs #2526
URL:https://toledopolice.com/event/lccp-dna-242/
END:VEVENT
END:VCALENDAR