BEGIN:VCALENDAR
VERSION:2.0
PRODID:-//Toledo Police Department - ECPv6.15.20//NONSGML v1.0//EN
CALSCALE:GREGORIAN
METHOD:PUBLISH
X-ORIGINAL-URL:https://toledopolice.com
X-WR-CALDESC:Events for Toledo Police Department
REFRESH-INTERVAL;VALUE=DURATION:PT1H
X-Robots-Tag:noindex
X-PUBLISHED-TTL:PT1H
BEGIN:VTIMEZONE
TZID:America/New_York
BEGIN:DAYLIGHT
TZOFFSETFROM:-0500
TZOFFSETTO:-0400
TZNAME:EDT
DTSTART:20240310T070000
END:DAYLIGHT
BEGIN:STANDARD
TZOFFSETFROM:-0400
TZOFFSETTO:-0500
TZNAME:EST
DTSTART:20241103T060000
END:STANDARD
BEGIN:DAYLIGHT
TZOFFSETFROM:-0500
TZOFFSETTO:-0400
TZNAME:EDT
DTSTART:20250309T070000
END:DAYLIGHT
BEGIN:STANDARD
TZOFFSETFROM:-0400
TZOFFSETTO:-0500
TZNAME:EST
DTSTART:20251102T060000
END:STANDARD
BEGIN:DAYLIGHT
TZOFFSETFROM:-0500
TZOFFSETTO:-0400
TZNAME:EDT
DTSTART:20260308T070000
END:DAYLIGHT
BEGIN:STANDARD
TZOFFSETFROM:-0400
TZOFFSETTO:-0500
TZNAME:EST
DTSTART:20261101T060000
END:STANDARD
END:VTIMEZONE
BEGIN:VEVENT
DTSTART;TZID=America/New_York:20250428T080000
DTEND;TZID=America/New_York:20250428T170000
DTSTAMP:20260421T141829
CREATED:20250404T145432Z
LAST-MODIFIED:20250404T145432Z
UID:10000052-1745827200-1745859600@toledopolice.com
SUMMARY:DNA LCCP
DESCRIPTION:CR-24-01964 4-28-2025 1300hrs. (#2482) 4-4-2025 1055hrs. #2547.
URL:https://toledopolice.com/event/dna-lccp-28/
END:VEVENT
BEGIN:VEVENT
DTSTART;TZID=America/New_York:20250428T080000
DTEND;TZID=America/New_York:20250428T170000
DTSTAMP:20260421T141829
CREATED:20250425T173016Z
LAST-MODIFIED:20250425T173016Z
UID:10000074-1745827200-1745859600@toledopolice.com
SUMMARY:LCCMP - DNA
DESCRIPTION:CR-2024-02248  04/28/2025 0900hrs. (#2468\,2752\,2542\,2792\,2089\,2425\,2436\,2571\,2629\,2708\,2609\,2227\,2823\,8321\,2526\,2744\,2135\,2574\,2469\,2332\,2141\,2699\,2599\,2782\,2801)  04/25/2025 1327hrs #2527
URL:https://toledopolice.com/event/lccmp-dna-2/
END:VEVENT
BEGIN:VEVENT
DTSTART;TZID=America/New_York:20250428T080000
DTEND;TZID=America/New_York:20250428T170000
DTSTAMP:20260421T141829
CREATED:20250428T150119Z
LAST-MODIFIED:20250428T150119Z
UID:10000075-1745827200-1745859600@toledopolice.com
SUMMARY:TMC
DESCRIPTION:No Officers are Needed for the Court Call In Program.
URL:https://toledopolice.com/event/tmc-29/
END:VEVENT
BEGIN:VEVENT
DTSTART;TZID=America/New_York:20250429T080000
DTEND;TZID=America/New_York:20250429T170000
DTSTAMP:20260421T141829
CREATED:20250410T183034Z
LAST-MODIFIED:20250410T183034Z
UID:10000056-1745913600-1745946000@toledopolice.com
SUMMARY:DNA LCCP
DESCRIPTION:CR-25-00110 4-29-2025 0900hrs. (#2697\, 2973\, 2991\, 3001\, 3006\, 2940\, 2951) 4-10-2025 1430hrs. #2547.
URL:https://toledopolice.com/event/dna-lccp-29/
END:VEVENT
BEGIN:VEVENT
DTSTART;TZID=America/New_York:20250429T080000
DTEND;TZID=America/New_York:20250429T170000
DTSTAMP:20260421T141829
CREATED:20250425T172815Z
LAST-MODIFIED:20250425T172851Z
UID:10000073-1745913600-1745946000@toledopolice.com
SUMMARY:LCCMP -DNA
DESCRIPTION:CR-2024-02248  04/29/2025 0900hrs. (#2468\,2752\,2542\,2792\,2089\,2425\,2436\,2571\,2629\,2708\,2609\,2227\,2823\,8321\,2526\,2744\,2135\,2574\,2469\,2332\,2141\,2699\,2599\,2782\,2801)  04/25/2025 1327hrs #2527
URL:https://toledopolice.com/event/lccmp-dna/
END:VEVENT
BEGIN:VEVENT
DTSTART;TZID=America/New_York:20250429T080000
DTEND;TZID=America/New_York:20250429T170000
DTSTAMP:20260421T141829
CREATED:20250429T115103Z
LAST-MODIFIED:20250429T115103Z
UID:10000076-1745913600-1745946000@toledopolice.com
SUMMARY:DNA LCCP
DESCRIPTION:CR-24-02558 4-29-2025 0900hrs. (#2707\, 2969\, 2227\, 2376) 4-29-2025 0750hrs. #2547. \nCR-25-00419 4-29-2025 0900hrs. (#2572\, 2965\, 2830\, 3012) 4-29-2025 0750hrs. #2547.
URL:https://toledopolice.com/event/dna-lccp-37/
END:VEVENT
BEGIN:VEVENT
DTSTART;TZID=America/New_York:20250429T080000
DTEND;TZID=America/New_York:20250429T170000
DTSTAMP:20260421T141829
CREATED:20250429T150522Z
LAST-MODIFIED:20250429T150522Z
UID:10000078-1745913600-1745946000@toledopolice.com
SUMMARY:TMC
DESCRIPTION:No Officers are Needed for the Court Call In Program.
URL:https://toledopolice.com/event/tmc-30/
END:VEVENT
BEGIN:VEVENT
DTSTART;TZID=America/New_York:20250430T080000
DTEND;TZID=America/New_York:20250430T170000
DTSTAMP:20260421T141829
CREATED:20250430T155706Z
LAST-MODIFIED:20250430T155706Z
UID:10000080-1746000000-1746032400@toledopolice.com
SUMMARY:TMC
DESCRIPTION:No Officers Needed for the Court Call In Program.
URL:https://toledopolice.com/event/tmc-31/
END:VEVENT
BEGIN:VEVENT
DTSTART;TZID=America/New_York:20250501T080000
DTEND;TZID=America/New_York:20250501T170000
DTSTAMP:20260421T141829
CREATED:20250501T145944Z
LAST-MODIFIED:20250501T145944Z
UID:10000081-1746086400-1746118800@toledopolice.com
SUMMARY:TMC
DESCRIPTION:No Officers are Needed for the Court Call In Program.
URL:https://toledopolice.com/event/tmc-32/
END:VEVENT
BEGIN:VEVENT
DTSTART;TZID=America/New_York:20250502T080000
DTEND;TZID=America/New_York:20250502T170000
DTSTAMP:20260421T141829
CREATED:20250502T150227Z
LAST-MODIFIED:20250502T150227Z
UID:10000082-1746172800-1746205200@toledopolice.com
SUMMARY:TMC
DESCRIPTION:No Officers are Needed for the Court Call In Program.
URL:https://toledopolice.com/event/tmc-33/
END:VEVENT
BEGIN:VEVENT
DTSTART;TZID=America/New_York:20250505T080000
DTEND;TZID=America/New_York:20250505T170000
DTSTAMP:20260421T141829
CREATED:20250430T135430Z
LAST-MODIFIED:20250430T135430Z
UID:10000079-1746432000-1746464400@toledopolice.com
SUMMARY:DNA LCCP
DESCRIPTION:CR-24-02643 5-5-2025 0900hrs. (#2227\, 2550\, 2601\, 2729\, 2744) 4-30-2025 0955hrs. #2547.
URL:https://toledopolice.com/event/dna-lccp-39/
END:VEVENT
BEGIN:VEVENT
DTSTART;TZID=America/New_York:20250505T080000
DTEND;TZID=America/New_York:20250505T170000
DTSTAMP:20260421T141829
CREATED:20250505T145323Z
LAST-MODIFIED:20250505T145323Z
UID:10000083-1746432000-1746464400@toledopolice.com
SUMMARY:TMC
DESCRIPTION:TMC- No officers are needed for court call-in.
URL:https://toledopolice.com/event/tmc-34/
END:VEVENT
BEGIN:VEVENT
DTSTART;TZID=America/New_York:20250506T080000
DTEND;TZID=America/New_York:20250506T170000
DTSTAMP:20260421T141829
CREATED:20250506T145808Z
LAST-MODIFIED:20250506T145856Z
UID:10000084-1746518400-1746550800@toledopolice.com
SUMMARY:TMC
DESCRIPTION:TMC- No officers are needed for court call-in.
URL:https://toledopolice.com/event/tmc-35/
END:VEVENT
BEGIN:VEVENT
DTSTART;TZID=America/New_York:20250506T080000
DTEND;TZID=America/New_York:20250506T170000
DTSTAMP:20260421T141829
CREATED:20250506T182018Z
LAST-MODIFIED:20250506T182018Z
UID:10000087-1746518400-1746550800@toledopolice.com
SUMMARY:DNA LCCP
DESCRIPTION:CR-24-02790 5-6-2025 0900hrs. (#2859\, 8439\, 2794\, 2862\, 2823\, 2875) 5-6-2025 1420hrs. #2547.
URL:https://toledopolice.com/event/dna-lccp-42/
END:VEVENT
BEGIN:VEVENT
DTSTART;TZID=America/New_York:20250508T080000
DTEND;TZID=America/New_York:20250508T170000
DTSTAMP:20260421T141829
CREATED:20250508T140127Z
LAST-MODIFIED:20250508T140127Z
UID:10000088-1746691200-1746723600@toledopolice.com
SUMMARY:TMC
DESCRIPTION:TMC-No officers are needed for court call-in.
URL:https://toledopolice.com/event/tmc-36/
END:VEVENT
BEGIN:VEVENT
DTSTART;TZID=America/New_York:20250509T080000
DTEND;TZID=America/New_York:20250509T170000
DTSTAMP:20260421T141829
CREATED:20250509T145217Z
LAST-MODIFIED:20250509T145217Z
UID:10000091-1746777600-1746810000@toledopolice.com
SUMMARY:TMC
DESCRIPTION:TMC-No officers are needed for court call-in.
URL:https://toledopolice.com/event/tmc-37/
END:VEVENT
BEGIN:VEVENT
DTSTART;TZID=America/New_York:20250512T080000
DTEND;TZID=America/New_York:20250512T170000
DTSTAMP:20260421T141829
CREATED:20250506T180059Z
LAST-MODIFIED:20250506T181837Z
UID:10000085-1747036800-1747069200@toledopolice.com
SUMMARY:DNA LCCP
DESCRIPTION:CR-24-02198 5-12-2025 0900hrs. (#2859\, 2714\, 2709\, 2886) 5-6-2025 1355hrs. #2547. \nCR-24-02269 5-12-2025 0900hrs. (#2703\, 2902\, 2891\, 2227\, 2714) 5-6-2025 1355hrs. #2547. \nCR-24-02817 5-12-2025 0900hrs. (#2369\, 2227\, 2893\, 2901) 5-6-2025 1355hrs. #2547. \nCR-24-02744 5-12-2025 0900hrs. (#2512\, 3004\, 2969\, 2227) 5-6-2025 1415hrs. #2547. \nCR-24-02745 5-12-2025 0900hrs. (#2512\, 3004\, 2969\, 2227) 5-6-2025 1415hrs. #2547. \nCR-24-02746 5-12-2025 0900hrs. (#2512\, 3004\, 2969\, 2227) 5-6-2025 1415hrs. #2547.
URL:https://toledopolice.com/event/dna-lccp-40/
END:VEVENT
BEGIN:VEVENT
DTSTART;TZID=America/New_York:20250512T080000
DTEND;TZID=America/New_York:20250512T170000
DTSTAMP:20260421T141829
CREATED:20250508T140305Z
LAST-MODIFIED:20250508T140305Z
UID:10000089-1747036800-1747069200@toledopolice.com
SUMMARY:LCCP-DNA
DESCRIPTION:CR-2025-00109 5/12/2025 0900hrs. (#2618\,2296\,2750) 05/08/2025 1002hrs. #2527
URL:https://toledopolice.com/event/lccp-dna-3/
END:VEVENT
BEGIN:VEVENT
DTSTART;TZID=America/New_York:20250512T080000
DTEND;TZID=America/New_York:20250512T170000
DTSTAMP:20260421T141829
CREATED:20250509T145020Z
LAST-MODIFIED:20250509T145020Z
UID:10000090-1747036800-1747069200@toledopolice.com
SUMMARY:LCCP- DNA
DESCRIPTION:CR-2025-00091 05/12/2025 1300hrs. (#2697\,2949\,2929)  05/9/2025 1049hrs #2527 \nCR-2024-02691  05/12/2025 0900hrs. (#2703\,2632\,2928) 05/09/2025 1050hrs. #2527
URL:https://toledopolice.com/event/lccp-dna-4/
END:VEVENT
BEGIN:VEVENT
DTSTART;TZID=America/New_York:20250512T080000
DTEND;TZID=America/New_York:20250512T170000
DTSTAMP:20260421T141829
CREATED:20250512T153204Z
LAST-MODIFIED:20250512T153204Z
UID:10000092-1747036800-1747069200@toledopolice.com
SUMMARY:TMC
DESCRIPTION:No Officers are Needed for the Court Call In Program.
URL:https://toledopolice.com/event/tmc-38/
END:VEVENT
BEGIN:VEVENT
DTSTART;TZID=America/New_York:20250513T080000
DTEND;TZID=America/New_York:20250513T170000
DTSTAMP:20260421T141829
CREATED:20250506T180621Z
LAST-MODIFIED:20250513T120256Z
UID:10000086-1747123200-1747155600@toledopolice.com
SUMMARY:DNA LCCP
DESCRIPTION:CR-24-02198 5-13-2025 0900hrs. (#2859\, 2714\, 2709\, 2886) 5-6-2025 1405hrs. 2547. \nCR-24-02269 5-13-2025 0900hrs. (#2703\, 2902\, 2891\, 2227\, 2714) 5-6-2025 1405hrs. 2547. \nCR-24-02016 5-13-2025 0900hrs. (#8321) 5-12-2025 1140hrs. #2547. \nCR-24-01940 5-13-2025 0900hrs. (#2366\, 2227\, 2779\, 2806\, 2724\, 2995\, 2715\, 2740\, 3002\, 2684\, 2792) 5-13-2025 0800hrs. #2547.
URL:https://toledopolice.com/event/dna-lccp-41/
END:VEVENT
BEGIN:VEVENT
DTSTART;TZID=America/New_York:20250514T080000
DTEND;TZID=America/New_York:20250514T170000
DTSTAMP:20260421T141829
CREATED:20250513T120339Z
LAST-MODIFIED:20250513T120339Z
UID:10000094-1747209600-1747242000@toledopolice.com
SUMMARY:DNA LCCP
DESCRIPTION:CR-24-01940 5-14-2025 0900hrs. (#2366\, 2227\, 2779\, 2806\, 2724\, 2995\, 2715\, 2740\, 3002\, 2684\, 2792) 5-13-2025 0800hrs. #2547.
URL:https://toledopolice.com/event/dna-lccp-43/
END:VEVENT
BEGIN:VEVENT
DTSTART;TZID=America/New_York:20250515T080000
DTEND;TZID=America/New_York:20250515T170000
DTSTAMP:20260421T141829
CREATED:20250414T114602Z
LAST-MODIFIED:20250414T114602Z
UID:10000059-1747296000-1747328400@toledopolice.com
SUMMARY:DNA LCCP
DESCRIPTION:CR-24-01175 5-15-2025 0900hrs. (#2567\, 2331\, 2856\, 2227\, 2084\, 2568) 4-14-2025 0745hrs. #2547.
URL:https://toledopolice.com/event/dna-lccp-30/
END:VEVENT
BEGIN:VEVENT
DTSTART;TZID=America/New_York:20250516T080000
DTEND;TZID=America/New_York:20250516T170000
DTSTAMP:20260421T141829
CREATED:20250414T114641Z
LAST-MODIFIED:20250516T143325Z
UID:10000060-1747382400-1747414800@toledopolice.com
SUMMARY:DNA LCCP
DESCRIPTION:CR-24-01175 5-16-2025 0900hrs. (#2567\, 2331\, 2856\, 2227\, 2084\, 2568) 4-14-2025 0745hrs. #2547. \nCR-24-02145 5-16-2025 0900hrs. (#2859\, 2679\, 2855\, 2844\, 2794\, 2602\, 8439\, 8321) 5-16-2025 1030hrs. #2547.
URL:https://toledopolice.com/event/dna-lccp-31/
END:VEVENT
BEGIN:VEVENT
DTSTART;TZID=America/New_York:20250516T080000
DTEND;TZID=America/New_York:20250516T170000
DTSTAMP:20260421T141829
CREATED:20250515T170535Z
LAST-MODIFIED:20250515T170838Z
UID:10000095-1747382400-1747414800@toledopolice.com
SUMMARY:LCCP- DNA
DESCRIPTION:CR-2024-02345 05/16/2025 0900hrs. (#2676\,2856\,2719\,2694\,2856\,2707\,2722) 05/15/2025 1308hr. #2527 \n 
URL:https://toledopolice.com/event/lccp-dna-5/
END:VEVENT
BEGIN:VEVENT
DTSTART;TZID=America/New_York:20250516T080000
DTEND;TZID=America/New_York:20250516T170000
DTSTAMP:20260421T141829
CREATED:20250516T150640Z
LAST-MODIFIED:20250516T150640Z
UID:10000100-1747382400-1747414800@toledopolice.com
SUMMARY:TMC
DESCRIPTION:No Officers are Needed for the Court Call In Program.
URL:https://toledopolice.com/event/tmc-39/
END:VEVENT
BEGIN:VEVENT
DTSTART;TZID=America/New_York:20250519T080000
DTEND;TZID=America/New_York:20250519T170000
DTSTAMP:20260421T141829
CREATED:20250414T114722Z
LAST-MODIFIED:20250516T143416Z
UID:10000061-1747641600-1747674000@toledopolice.com
SUMMARY:DNA LCCP
DESCRIPTION:CR-24-01175 5-19-2025 0900hrs. (#2567\, 2331\, 2856\, 2227\, 2084\, 2568) 4-14-2025 0745hrs. #2547. \nCR-24-02667 5-19-2025 0900hrs. (#2572\, 2550\, 2704\, 2780\, 2747\, 2886\, 8635\, 2943\, 2881\, 3007\, 8439) 5-13-2025 1355hrs. #2547 \nCR-24-02145 5-19-2025 0900hrs. (#2859\, 2679\, 2855\, 2844\, 2794\, 2602\, 8439\, 8321) 5-16-2025 1030hrs. #2547.
URL:https://toledopolice.com/event/dna-lccp-32/
END:VEVENT
BEGIN:VEVENT
DTSTART;TZID=America/New_York:20250519T080000
DTEND;TZID=America/New_York:20250519T170000
DTSTAMP:20260421T141829
CREATED:20250512T154326Z
LAST-MODIFIED:20250512T155145Z
UID:10000093-1747641600-1747674000@toledopolice.com
SUMMARY:DNA JJC
DESCRIPTION:JC25304390 5-19-2025 1330hrs. (#2586) 5-12-2025 1145hrs. #2547.
URL:https://toledopolice.com/event/dna-lcj/
END:VEVENT
BEGIN:VEVENT
DTSTART;TZID=America/New_York:20250519T080000
DTEND;TZID=America/New_York:20250519T170000
DTSTAMP:20260421T141829
CREATED:20250515T171132Z
LAST-MODIFIED:20250515T171132Z
UID:10000096-1747641600-1747674000@toledopolice.com
SUMMARY:LCCP-DNA
DESCRIPTION:CR-02024-02345  05/19/2025 0900hrs. (#2676\,2856\,2719\,2694\,2856\,2707\,2722) 05/15/2025  1311hrs. #2527
URL:https://toledopolice.com/event/lccp-dna-6/
END:VEVENT
BEGIN:VEVENT
DTSTART;TZID=America/New_York:20250520T080000
DTEND;TZID=America/New_York:20250520T170000
DTSTAMP:20260421T141829
CREATED:20250414T114750Z
LAST-MODIFIED:20250414T114750Z
UID:10000062-1747728000-1747760400@toledopolice.com
SUMMARY:DNA LCCP
DESCRIPTION:CR-24-01175 5-20-2025 0900hrs. (#2567\, 2331\, 2856\, 2227\, 2084\, 2568) 4-14-2025 0745hrs. #2547.
URL:https://toledopolice.com/event/dna-lccp-33/
END:VEVENT
END:VCALENDAR