BEGIN:VCALENDAR
VERSION:2.0
PRODID:-//Toledo Police Department - ECPv6.15.20//NONSGML v1.0//EN
CALSCALE:GREGORIAN
METHOD:PUBLISH
X-ORIGINAL-URL:https://toledopolice.com
X-WR-CALDESC:Events for Toledo Police Department
REFRESH-INTERVAL;VALUE=DURATION:PT1H
X-Robots-Tag:noindex
X-PUBLISHED-TTL:PT1H
BEGIN:VTIMEZONE
TZID:America/New_York
BEGIN:DAYLIGHT
TZOFFSETFROM:-0500
TZOFFSETTO:-0400
TZNAME:EDT
DTSTART:20250309T070000
END:DAYLIGHT
BEGIN:STANDARD
TZOFFSETFROM:-0400
TZOFFSETTO:-0500
TZNAME:EST
DTSTART:20251102T060000
END:STANDARD
BEGIN:DAYLIGHT
TZOFFSETFROM:-0500
TZOFFSETTO:-0400
TZNAME:EDT
DTSTART:20260308T070000
END:DAYLIGHT
BEGIN:STANDARD
TZOFFSETFROM:-0400
TZOFFSETTO:-0500
TZNAME:EST
DTSTART:20261101T060000
END:STANDARD
BEGIN:DAYLIGHT
TZOFFSETFROM:-0500
TZOFFSETTO:-0400
TZNAME:EDT
DTSTART:20270314T070000
END:DAYLIGHT
BEGIN:STANDARD
TZOFFSETFROM:-0400
TZOFFSETTO:-0500
TZNAME:EST
DTSTART:20271107T060000
END:STANDARD
END:VTIMEZONE
BEGIN:VEVENT
DTSTART;TZID=America/New_York:20260223T080000
DTEND;TZID=America/New_York:20260223T170000
DTSTAMP:20260421T221940
CREATED:20260123T191949Z
LAST-MODIFIED:20260123T191949Z
UID:10000462-1771833600-1771866000@toledopolice.com
SUMMARY:LCCP DNA
DESCRIPTION:CR2024-02810 2-23-26 0900hrs (#2810\, 2585\, 2141\, 2552\, 2396\, 2562\, 2670\, 8321\, 2989\, 3032\, 2227\, 2699\, 2118\, 2498\, 2469\, 2332\, 2401\, 2978\, 2484) 1-22-26 1007hrs #2526
URL:https://toledopolice.com/event/lccp-dna-174/
END:VEVENT
BEGIN:VEVENT
DTSTART;TZID=America/New_York:20260223T080000
DTEND;TZID=America/New_York:20260223T170000
DTSTAMP:20260421T221940
CREATED:20260211T130815Z
LAST-MODIFIED:20260211T130815Z
UID:10000530-1771833600-1771866000@toledopolice.com
SUMMARY:LCCP DNA
DESCRIPTION:CR2025-01154 2-23-26 0930hrs (#2653) 2-10-26 1641hrs #2526
URL:https://toledopolice.com/event/lccp-dna-188/
END:VEVENT
BEGIN:VEVENT
DTSTART;TZID=America/New_York:20260223T080000
DTEND;TZID=America/New_York:20260223T170000
DTSTAMP:20260421T221940
CREATED:20260218T185836Z
LAST-MODIFIED:20260218T185836Z
UID:10000546-1771833600-1771866000@toledopolice.com
SUMMARY:LCCP DNA
DESCRIPTION:CR2025-00799 2-23-26 0900hrs (#2227\, 2407\, 2262\, 2822) 2-18-26 1315hrs #2526
URL:https://toledopolice.com/event/lccp-dna-200/
END:VEVENT
BEGIN:VEVENT
DTSTART;TZID=America/New_York:20260223T080000
DTEND;TZID=America/New_York:20260223T170000
DTSTAMP:20260421T221940
CREATED:20260223T155455Z
LAST-MODIFIED:20260223T155455Z
UID:10000572-1771833600-1771866000@toledopolice.com
SUMMARY:TMC – No officers needed for court call in
DESCRIPTION:
URL:https://toledopolice.com/event/tmc-no-officers-needed-for-court-call-in-26/
END:VEVENT
BEGIN:VEVENT
DTSTART;TZID=America/New_York:20260224T080000
DTEND;TZID=America/New_York:20260224T170000
DTSTAMP:20260421T221940
CREATED:20260123T192218Z
LAST-MODIFIED:20260123T192218Z
UID:10000463-1771920000-1771952400@toledopolice.com
SUMMARY:LCCP DNA
DESCRIPTION:CR2024-02810 2-24-26 0900hrs (#2810\, 2585\, 2141\, 2552\, 2396\, 2562\, 2670\, 8321\, 2989\, 3032\, 2227\, 2699\, 2118\, 2498\, 2469\, 2332\, 2401\, 2978\, 2484) 1-22-26 1007hrs #2526
URL:https://toledopolice.com/event/lccp-dna-175/
END:VEVENT
BEGIN:VEVENT
DTSTART;TZID=America/New_York:20260224T080000
DTEND;TZID=America/New_York:20260224T170000
DTSTAMP:20260421T221940
CREATED:20260211T130851Z
LAST-MODIFIED:20260211T130851Z
UID:10000531-1771920000-1771952400@toledopolice.com
SUMMARY:LCCP DNA
DESCRIPTION:CR2025-01154 2-24-26 0930hrs (#2653) 2-10-26 1641hrs #2526
URL:https://toledopolice.com/event/lccp-dna-189/
END:VEVENT
BEGIN:VEVENT
DTSTART;TZID=America/New_York:20260224T080000
DTEND;TZID=America/New_York:20260224T170000
DTSTAMP:20260421T221940
CREATED:20260218T185914Z
LAST-MODIFIED:20260218T185914Z
UID:10000547-1771920000-1771952400@toledopolice.com
SUMMARY:LCCP DNA
DESCRIPTION:CR2025-00799 2-24-26 0900hrs (#2227\, 2407\, 2262\, 2822) 2-18-26 1315hrs #2526
URL:https://toledopolice.com/event/lccp-dna-201/
END:VEVENT
BEGIN:VEVENT
DTSTART;TZID=America/New_York:20260224T080000
DTEND;TZID=America/New_York:20260224T170000
DTSTAMP:20260421T221940
CREATED:20260220T132601Z
LAST-MODIFIED:20260220T132601Z
UID:10000553-1771920000-1771952400@toledopolice.com
SUMMARY:LCCMP-DNA
DESCRIPTION:CR2025-01243  02/24/2026 (#2856\,2429\,2857\,8635 ) 02/20/2026 0825hrs. #2527
URL:https://toledopolice.com/event/lccmp-dna-39/
END:VEVENT
BEGIN:VEVENT
DTSTART;TZID=America/New_York:20260224T080000
DTEND;TZID=America/New_York:20260224T170000
DTSTAMP:20260421T221940
CREATED:20260224T175439Z
LAST-MODIFIED:20260224T175439Z
UID:10000573-1771920000-1771952400@toledopolice.com
SUMMARY:TMC
DESCRIPTION:TMC-No officers are needed for court call-in.
URL:https://toledopolice.com/event/tmc-104/
END:VEVENT
BEGIN:VEVENT
DTSTART;TZID=America/New_York:20260224T090000
DTEND;TZID=America/New_York:20260224T090000
DTSTAMP:20260421T221940
CREATED:20260209T192128Z
LAST-MODIFIED:20260209T192128Z
UID:10000527-1771923600-1771923600@toledopolice.com
SUMMARY:LCCMP-DNA
DESCRIPTION:cr2025-01142  02/24/2026 0900HRS (#2227\,2840\,2873\,2283)  02/09/2026 1422HRS. #2527
URL:https://toledopolice.com/event/lccmp-dna-37/
END:VEVENT
BEGIN:VEVENT
DTSTART;TZID=America/New_York:20260224T090000
DTEND;TZID=America/New_York:20260224T090000
DTSTAMP:20260421T221940
CREATED:20260220T132810Z
LAST-MODIFIED:20260220T132810Z
UID:10000554-1771923600-1771923600@toledopolice.com
SUMMARY:LUCCMP-DNA
DESCRIPTION:CR2025-01081  02/24/2026 0900hrs. (#2591\,2943\,3007\,2800\,3033) 02/20/2026 0827hrs #2527
URL:https://toledopolice.com/event/luccmp-dna-9/
END:VEVENT
BEGIN:VEVENT
DTSTART;TZID=America/New_York:20260225T080000
DTEND;TZID=America/New_York:20260225T170000
DTSTAMP:20260421T221940
CREATED:20260123T192306Z
LAST-MODIFIED:20260123T192306Z
UID:10000464-1772006400-1772038800@toledopolice.com
SUMMARY:LCCP DNA
DESCRIPTION:CR2024-02810 2-25-26 0900hrs (#2810\, 2585\, 2141\, 2552\, 2396\, 2562\, 2670\, 8321\, 2989\, 3032\, 2227\, 2699\, 2118\, 2498\, 2469\, 2332\, 2401\, 2978\, 2484) 1-22-26 1007hrs #2526
URL:https://toledopolice.com/event/lccp-dna-176/
END:VEVENT
BEGIN:VEVENT
DTSTART;TZID=America/New_York:20260225T080000
DTEND;TZID=America/New_York:20260225T170000
DTSTAMP:20260421T221940
CREATED:20260211T130929Z
LAST-MODIFIED:20260211T130929Z
UID:10000532-1772006400-1772038800@toledopolice.com
SUMMARY:LCCP DNA
DESCRIPTION:CR2025-01154 2-25-26 0930hrs (#2653) 2-10-26 1641hrs #2526
URL:https://toledopolice.com/event/lccp-dna-190/
END:VEVENT
BEGIN:VEVENT
DTSTART;TZID=America/New_York:20260225T080000
DTEND;TZID=America/New_York:20260225T170000
DTSTAMP:20260421T221940
CREATED:20260225T151246Z
LAST-MODIFIED:20260225T151246Z
UID:10000575-1772006400-1772038800@toledopolice.com
SUMMARY:TMC No officers needed for court call in program
DESCRIPTION:
URL:https://toledopolice.com/event/tmc-no-officers-needed-for-court-call-in-program-39/
END:VEVENT
BEGIN:VEVENT
DTSTART;TZID=America/New_York:20260226T080000
DTEND;TZID=America/New_York:20260226T170000
DTSTAMP:20260421T221940
CREATED:20260123T192336Z
LAST-MODIFIED:20260123T192336Z
UID:10000465-1772092800-1772125200@toledopolice.com
SUMMARY:LCCP DNA
DESCRIPTION:CR2024-02810 2-26-26 0900hrs (#2810\, 2585\, 2141\, 2552\, 2396\, 2562\, 2670\, 8321\, 2989\, 3032\, 2227\, 2699\, 2118\, 2498\, 2469\, 2332\, 2401\, 2978\, 2484) 1-22-26 1007hrs #2526
URL:https://toledopolice.com/event/lccp-dna-177/
END:VEVENT
BEGIN:VEVENT
DTSTART;TZID=America/New_York:20260226T080000
DTEND;TZID=America/New_York:20260226T170000
DTSTAMP:20260421T221940
CREATED:20260223T124318Z
LAST-MODIFIED:20260223T124318Z
UID:10000561-1772092800-1772125200@toledopolice.com
SUMMARY:LCCP DNA
DESCRIPTION:CR2025-01156 2-26-26 0900hrs (#2750\, 2828\, 2672\, 2972\, 2227\, 2617) 2-20-26 1616hrs #2526
URL:https://toledopolice.com/event/lccp-dna-210/
END:VEVENT
BEGIN:VEVENT
DTSTART;TZID=America/New_York:20260226T080000
DTEND;TZID=America/New_York:20260226T170000
DTSTAMP:20260421T221940
CREATED:20260226T163458Z
LAST-MODIFIED:20260226T163458Z
UID:10000578-1772092800-1772125200@toledopolice.com
SUMMARY:TMC
DESCRIPTION:TMC-No officers are needed for the court call-in program.
URL:https://toledopolice.com/event/tmc-105/
END:VEVENT
BEGIN:VEVENT
DTSTART;TZID=America/New_York:20260226T090000
DTEND;TZID=America/New_York:20260226T090000
DTSTAMP:20260421T221940
CREATED:20260225T192254Z
LAST-MODIFIED:20260225T192254Z
UID:10000576-1772096400-1772096400@toledopolice.com
SUMMARY:LCCMP-DNA
DESCRIPTION:CR2025-00925 02/26/2026 0900hrs. (#2577\,2707\,2503\,2234\,3032\,2169\,2671\,2557\,2931\,2337\,2909\,2926\,2655\,2227\,2639\,2332\,2890\,2896\,2123\,2754\,2582\,2863\,2220\,2931\,2337\,2980\,2118\,2237\,2771\,2950\,2714\,2927\,2907) 02/25/2026  1422hrs #2527
URL:https://toledopolice.com/event/lccmp-dna-41/
END:VEVENT
BEGIN:VEVENT
DTSTART;TZID=America/New_York:20260227T080000
DTEND;TZID=America/New_York:20260227T170000
DTSTAMP:20260421T221940
CREATED:20260123T192404Z
LAST-MODIFIED:20260123T192404Z
UID:10000466-1772179200-1772211600@toledopolice.com
SUMMARY:LCCP DNA
DESCRIPTION:CR2024-02810 2-27-26 0900hrs (#2810\, 2585\, 2141\, 2552\, 2396\, 2562\, 2670\, 8321\, 2989\, 3032\, 2227\, 2699\, 2118\, 2498\, 2469\, 2332\, 2401\, 2978\, 2484) 1-22-26 1007hrs #2526
URL:https://toledopolice.com/event/lccp-dna-178/
END:VEVENT
BEGIN:VEVENT
DTSTART;TZID=America/New_York:20260227T080000
DTEND;TZID=America/New_York:20260227T170000
DTSTAMP:20260421T221940
CREATED:20260223T124658Z
LAST-MODIFIED:20260223T124658Z
UID:10000562-1772179200-1772211600@toledopolice.com
SUMMARY:LCCP DNA
DESCRIPTION:CR2025-01156 2-27-26 0900hrs (#2750\, 2828\, 2672\, 2972\, 2227\, 2617) 2-20-26 1616hrs #2526
URL:https://toledopolice.com/event/lccp-dna-211/
END:VEVENT
BEGIN:VEVENT
DTSTART;TZID=America/New_York:20260227T080000
DTEND;TZID=America/New_York:20260227T170000
DTSTAMP:20260421T221940
CREATED:20260227T154525Z
LAST-MODIFIED:20260227T154525Z
UID:10000583-1772179200-1772211600@toledopolice.com
SUMMARY:TMC – No officers needed for court call in
DESCRIPTION:
URL:https://toledopolice.com/event/tmc-no-officers-needed-for-court-call-in-27/
END:VEVENT
BEGIN:VEVENT
DTSTART;TZID=America/New_York:20260302T080000
DTEND;TZID=America/New_York:20260302T170000
DTSTAMP:20260421T221940
CREATED:20260211T132612Z
LAST-MODIFIED:20260211T132612Z
UID:10000533-1772438400-1772470800@toledopolice.com
SUMMARY:LCCP DNA
DESCRIPTION:CR2025-00394 3-2-26 0930hrs (#8321\, 8598\, 2587\, 2840\, 2322\, 2488\, 3019\, 3015\, 2732\, 2539\, 2469\, 2431\, 2227\, 2424) 2-10-26 1615hrs #2526
URL:https://toledopolice.com/event/lccp-dna-191/
END:VEVENT
BEGIN:VEVENT
DTSTART;TZID=America/New_York:20260302T080000
DTEND;TZID=America/New_York:20260302T170000
DTSTAMP:20260421T221940
CREATED:20260223T122750Z
LAST-MODIFIED:20260223T122750Z
UID:10000556-1772438400-1772470800@toledopolice.com
SUMMARY:LCCP DNA
DESCRIPTION:CR-0202302060 D1-D3 3-2-26 0900hrs (#2908\, 2469) 2-20-26 1502hrs #2526
URL:https://toledopolice.com/event/lccp-dna-205/
END:VEVENT
BEGIN:VEVENT
DTSTART;TZID=America/New_York:20260302T080000
DTEND;TZID=America/New_York:20260302T170000
DTSTAMP:20260421T221940
CREATED:20260223T124810Z
LAST-MODIFIED:20260223T124810Z
UID:10000563-1772438400-1772470800@toledopolice.com
SUMMARY:LCCP DNA
DESCRIPTION:CR2025-01156 3-2-26 0900hrs (#2750\, 2828\, 2672\, 2972\, 2227\, 2617) 2-20-26 1616hrs #2526
URL:https://toledopolice.com/event/lccp-dna-212/
END:VEVENT
BEGIN:VEVENT
DTSTART;TZID=America/New_York:20260302T080000
DTEND;TZID=America/New_York:20260302T170000
DTSTAMP:20260421T221940
CREATED:20260223T125934Z
LAST-MODIFIED:20260223T125934Z
UID:10000567-1772438400-1772470800@toledopolice.com
SUMMARY:LCCP DNA
DESCRIPTION:CR2025-01134 3-2-26 0900hrs (#2890\, 2681\, 2968\, 2227\, 2976\, 2220\, 2907\, 2950\, 2754\, 2931\, 2372\, 2743\, 8321) 2-20-26 1540hrs #2526
URL:https://toledopolice.com/event/lccp-dna-216/
END:VEVENT
BEGIN:VEVENT
DTSTART;TZID=America/New_York:20260302T080000
DTEND;TZID=America/New_York:20260302T170000
DTSTAMP:20260421T221940
CREATED:20260227T123530Z
LAST-MODIFIED:20260227T123530Z
UID:10000579-1772438400-1772470800@toledopolice.com
SUMMARY:LCCP DNA
DESCRIPTION:CR2025-00540 3-2-26 0900hrs (#8321\, 2880\, 2636\, 2646\, 2727\, 2787\, 2985\, 2885\, 2684\, 2573\, 2974\, 2253\, 3006\, 2770\, 2470\, 2978\, 2752\, 2714\, 2951\, 2883\, 2564\, 2498\, 2876\, 2940\, 2599\, 2697\, 3001\, 2227\, 2882\, 2963\, 2718\, 3013\, 2862\, 2988) 2-26-26 1027hrs #2526
URL:https://toledopolice.com/event/lccp-dna-221/
END:VEVENT
BEGIN:VEVENT
DTSTART;TZID=America/New_York:20260302T080000
DTEND;TZID=America/New_York:20260302T170000
DTSTAMP:20260421T221940
CREATED:20260227T151337Z
LAST-MODIFIED:20260227T151337Z
UID:10000582-1772438400-1772470800@toledopolice.com
SUMMARY:LCCP DNA
DESCRIPTION:CR2025-01312 3-2-26 0900hrs (#2469\, 2227\, 2617\, 2776) 2-27-26 1003hrs #2526
URL:https://toledopolice.com/event/lccp-dna-224/
END:VEVENT
BEGIN:VEVENT
DTSTART;TZID=America/New_York:20260302T080000
DTEND;TZID=America/New_York:20260302T170000
DTSTAMP:20260421T221940
CREATED:20260227T192710Z
LAST-MODIFIED:20260227T192710Z
UID:10000584-1772438400-1772470800@toledopolice.com
SUMMARY:LCCP DNA
DESCRIPTION:CR-0202302060 D1-D3 3-2-26 0900hrs (#2699\, 2482\, 2614\, 2574\, 2532\, 2666\, 2610) 2-27-26 1359hrs #2526
URL:https://toledopolice.com/event/lccp-dna-225/
END:VEVENT
BEGIN:VEVENT
DTSTART;TZID=America/New_York:20260302T080000
DTEND;TZID=America/New_York:20260302T170000
DTSTAMP:20260421T221940
CREATED:20260302T184825Z
LAST-MODIFIED:20260302T184825Z
UID:10000589-1772438400-1772470800@toledopolice.com
SUMMARY:TMC – No officers needed for court call in
DESCRIPTION:
URL:https://toledopolice.com/event/tmc-no-officers-needed-for-court-call-in-28/
END:VEVENT
BEGIN:VEVENT
DTSTART;TZID=America/New_York:20260302T090000
DTEND;TZID=America/New_York:20260302T090000
DTSTAMP:20260421T221940
CREATED:20260225T192356Z
LAST-MODIFIED:20260225T192356Z
UID:10000577-1772442000-1772442000@toledopolice.com
SUMMARY:
DESCRIPTION:CR2025-00925 03/2/2026 0900hrs. (#2577\,2707\,2503\,2234\,3032\,2169\,2671\,2557\,2931\,2337\,2909\,2926\,2655\,2227\,2639\,2332\,2890\,2896\,2123\,2754\,2582\,2863\,2220\,2931\,2337\,2980\,2118\,2237\,2771\,2950\,2714\,2927\,2907) 02-25-2026 1423HRS #2527
URL:https://toledopolice.com/event/25939/
END:VEVENT
END:VCALENDAR