BEGIN:VCALENDAR
VERSION:2.0
PRODID:-//Toledo Police Department - ECPv6.15.20//NONSGML v1.0//EN
CALSCALE:GREGORIAN
METHOD:PUBLISH
X-ORIGINAL-URL:https://toledopolice.com
X-WR-CALDESC:Events for Toledo Police Department
REFRESH-INTERVAL;VALUE=DURATION:PT1H
X-Robots-Tag:noindex
X-PUBLISHED-TTL:PT1H
BEGIN:VTIMEZONE
TZID:America/New_York
BEGIN:DAYLIGHT
TZOFFSETFROM:-0500
TZOFFSETTO:-0400
TZNAME:EDT
DTSTART:20240310T070000
END:DAYLIGHT
BEGIN:STANDARD
TZOFFSETFROM:-0400
TZOFFSETTO:-0500
TZNAME:EST
DTSTART:20241103T060000
END:STANDARD
BEGIN:DAYLIGHT
TZOFFSETFROM:-0500
TZOFFSETTO:-0400
TZNAME:EDT
DTSTART:20250309T070000
END:DAYLIGHT
BEGIN:STANDARD
TZOFFSETFROM:-0400
TZOFFSETTO:-0500
TZNAME:EST
DTSTART:20251102T060000
END:STANDARD
BEGIN:DAYLIGHT
TZOFFSETFROM:-0500
TZOFFSETTO:-0400
TZNAME:EDT
DTSTART:20260308T070000
END:DAYLIGHT
BEGIN:STANDARD
TZOFFSETFROM:-0400
TZOFFSETTO:-0500
TZNAME:EST
DTSTART:20261101T060000
END:STANDARD
END:VTIMEZONE
BEGIN:VEVENT
DTSTART;TZID=America/New_York:20250923T080000
DTEND;TZID=America/New_York:20250923T170000
DTSTAMP:20260422T044649
CREATED:20250924T150346Z
LAST-MODIFIED:20250924T150346Z
UID:10000220-1758614400-1758646800@toledopolice.com
SUMMARY:TMC - No officers needed for court call in
DESCRIPTION:
URL:https://toledopolice.com/event/tmc-no-officers-needed-for-court-call-in-2/
END:VEVENT
BEGIN:VEVENT
DTSTART;TZID=America/New_York:20250924T080000
DTEND;TZID=America/New_York:20250924T170000
DTSTAMP:20260422T044649
CREATED:20250908T162112Z
LAST-MODIFIED:20250908T162112Z
UID:10000180-1758700800-1758733200@toledopolice.com
SUMMARY:DNA LCCP
DESCRIPTION:CR-2025-00129  9-24-25 0900hrs (#2703\, 2253\, 2949\, 2988\, 2900\, 2890\, 2548) 9-8-25 1213hrs #2526
URL:https://toledopolice.com/event/dna-lccp-82/
END:VEVENT
BEGIN:VEVENT
DTSTART;TZID=America/New_York:20250924T080000
DTEND;TZID=America/New_York:20250924T170000
DTSTAMP:20260422T044649
CREATED:20250918T152808Z
LAST-MODIFIED:20250918T152808Z
UID:10000192-1758700800-1758733200@toledopolice.com
SUMMARY:DNA LCCP
DESCRIPTION:CR2025-00648 9-24-25 0900hrs (#2740\, 2864) 9-18-25 0913hrs #2526
URL:https://toledopolice.com/event/dna-lccp-88/
END:VEVENT
BEGIN:VEVENT
DTSTART;TZID=America/New_York:20250924T080000
DTEND;TZID=America/New_York:20250924T170000
DTSTAMP:20260422T044649
CREATED:20250924T150423Z
LAST-MODIFIED:20250924T150423Z
UID:10000221-1758700800-1758733200@toledopolice.com
SUMMARY:TMC - No officers needed for court call in
DESCRIPTION:
URL:https://toledopolice.com/event/tmc-no-officers-needed-for-court-call-in-3/
END:VEVENT
BEGIN:VEVENT
DTSTART;TZID=America/New_York:20250925T080000
DTEND;TZID=America/New_York:20250925T170000
DTSTAMP:20260422T044649
CREATED:20250919T182748Z
LAST-MODIFIED:20250919T182748Z
UID:10000198-1758787200-1758819600@toledopolice.com
SUMMARY:DNA LCCP
DESCRIPTION:CR-2025-01138 09-25-25 0900hrs (#3022\, 2754\, 2227\, 2928\, 2642\, 3029)  09/19/25 1303hrs #2526
URL:https://toledopolice.com/event/dna-lccp-94/
END:VEVENT
BEGIN:VEVENT
DTSTART;TZID=America/New_York:20250925T080000
DTEND;TZID=America/New_York:20250925T170000
DTSTAMP:20260422T044649
CREATED:20250925T165552Z
LAST-MODIFIED:20250925T165552Z
UID:10000222-1758787200-1758819600@toledopolice.com
SUMMARY:TMC - No officers needed for court call in
DESCRIPTION:
URL:https://toledopolice.com/event/tmc-no-officers-needed-for-court-call-in-4/
END:VEVENT
BEGIN:VEVENT
DTSTART;TZID=America/New_York:20250925T090000
DTEND;TZID=America/New_York:20250925T090000
DTSTAMP:20260422T044649
CREATED:20250922T115606Z
LAST-MODIFIED:20250922T115606Z
UID:10000206-1758790800-1758790800@toledopolice.com
SUMMARY:LCCP - DNA
DESCRIPTION:CR-2025-01138  09/25/2025 0900hrs. (#2227\,2754\,2928\,2642\,3029\,3022) 09/22/2025 0755hrs. #2527
URL:https://toledopolice.com/event/lccp-dna-27/
END:VEVENT
BEGIN:VEVENT
DTSTART;TZID=America/New_York:20250926T080000
DTEND;TZID=America/New_York:20250926T170000
DTSTAMP:20260422T044649
CREATED:20250926T175447Z
LAST-MODIFIED:20250926T175447Z
UID:10000223-1758873600-1758906000@toledopolice.com
SUMMARY:TMC - No officers needed for court call in program
DESCRIPTION:
URL:https://toledopolice.com/event/tmc-no-officers-needed-for-court-call-in-program/
END:VEVENT
BEGIN:VEVENT
DTSTART;TZID=America/New_York:20250929T080000
DTEND;TZID=America/New_York:20250929T170000
DTSTAMP:20260422T044649
CREATED:20250919T182828Z
LAST-MODIFIED:20250919T182828Z
UID:10000199-1759132800-1759165200@toledopolice.com
SUMMARY:DNA LCCP
DESCRIPTION:CR-2025-01138 09-29-25 0900hrs (#3022\, 2754\, 2227\, 2928\, 2642\, 3029)  09/19/25 1303hrs #2526
URL:https://toledopolice.com/event/dna-lccp-95/
END:VEVENT
BEGIN:VEVENT
DTSTART;TZID=America/New_York:20250929T080000
DTEND;TZID=America/New_York:20250929T170000
DTSTAMP:20260422T044649
CREATED:20250923T155816Z
LAST-MODIFIED:20250923T155816Z
UID:10000208-1759132800-1759165200@toledopolice.com
SUMMARY:LCCP DNA
DESCRIPTION:CR2025-00574 9-29-25 0900hrs (#2454\, 2693\, 2437\, 2627\, 2462\, 8635) 9-23-25 1052hrs #2526
URL:https://toledopolice.com/event/lccp-dna-29/
END:VEVENT
BEGIN:VEVENT
DTSTART;TZID=America/New_York:20250929T080000
DTEND;TZID=America/New_York:20250929T170000
DTSTAMP:20260422T044649
CREATED:20250923T161322Z
LAST-MODIFIED:20250923T161322Z
UID:10000217-1759132800-1759165200@toledopolice.com
SUMMARY:LCCP DNA
DESCRIPTION:CR2025-00108 9-29-25 0900hrs (#2697\, 2709\, 2627\, 2886\, 2864\, 2890) 9-23-25 1104hrs #2526
URL:https://toledopolice.com/event/lccp-dna-38/
END:VEVENT
BEGIN:VEVENT
DTSTART;TZID=America/New_York:20250929T080000
DTEND;TZID=America/New_York:20250929T170000
DTSTAMP:20260422T044649
CREATED:20250929T154529Z
LAST-MODIFIED:20250929T154529Z
UID:10000229-1759132800-1759165200@toledopolice.com
SUMMARY:TMC
DESCRIPTION:– No officers needed for court call in
URL:https://toledopolice.com/event/tmc-63/
END:VEVENT
BEGIN:VEVENT
DTSTART;TZID=America/New_York:20250929T080000
DTEND;TZID=America/New_York:20250929T170000
DTSTAMP:20260422T044649
CREATED:20250929T154829Z
LAST-MODIFIED:20250929T154829Z
UID:10000230-1759132800-1759165200@toledopolice.com
SUMMARY:LCCP DNA
DESCRIPTION:CR2025-00868 9-29-25 0900hrs (#2274\, 2869\, 2926\, 2716\, 2799) 9-29-25 1122hrs #2526
URL:https://toledopolice.com/event/lccp-dna-45/
END:VEVENT
BEGIN:VEVENT
DTSTART;TZID=America/New_York:20250929T090000
DTEND;TZID=America/New_York:20250929T210000
DTSTAMP:20260422T044649
CREATED:20250922T115723Z
LAST-MODIFIED:20250922T115723Z
UID:10000207-1759136400-1759179600@toledopolice.com
SUMMARY:LCCP - DNA
DESCRIPTION:CR-2025-01138  09/29/2025 0900hrs. (#2227\,2754\,2928\,2642\,3029\,3022) 09/22/2025 0755hrs. #2527
URL:https://toledopolice.com/event/lccp-dna-28/
END:VEVENT
BEGIN:VEVENT
DTSTART;TZID=America/New_York:20250930T080000
DTEND;TZID=America/New_York:20250930T170000
DTSTAMP:20260422T044649
CREATED:20250919T182915Z
LAST-MODIFIED:20250919T182915Z
UID:10000200-1759219200-1759251600@toledopolice.com
SUMMARY:DNA LCCP
DESCRIPTION:CR-2025-01138 09-30-25 0900hrs (#3022\, 2754\, 2227\, 2928\, 2642\, 3029)  09/19/25 1303hrs #2526
URL:https://toledopolice.com/event/dna-lccp-96/
END:VEVENT
BEGIN:VEVENT
DTSTART;TZID=America/New_York:20250930T080000
DTEND;TZID=America/New_York:20250930T170000
DTSTAMP:20260422T044649
CREATED:20250923T155926Z
LAST-MODIFIED:20250923T155926Z
UID:10000209-1759219200-1759251600@toledopolice.com
SUMMARY:LCCP DNA
DESCRIPTION:CR2025-00574 9-30-25 0900hrs (#2454\, 2693\, 2437\, 2627\, 2462\, 8635) 9-23-25 1052hrs #2526
URL:https://toledopolice.com/event/lccp-dna-30/
END:VEVENT
BEGIN:VEVENT
DTSTART;TZID=America/New_York:20250930T080000
DTEND;TZID=America/New_York:20250930T170000
DTSTAMP:20260422T044649
CREATED:20250923T160557Z
LAST-MODIFIED:20250923T160557Z
UID:10000212-1759219200-1759251600@toledopolice.com
SUMMARY:LCCP DNA
DESCRIPTION:CR2024-02611 9-30-25 0900hrs (#2391\, 2808\, 2878\, 2703\, 2723\, 2770\, 2401\, 2403\, 2585\, 2429\, 2718\, 2787\, 2787\, 2643\, 2744\, 2805\, 2599\, 2470) 9-23-25 1034hrs #2526
URL:https://toledopolice.com/event/lccp-dna-33/
END:VEVENT
BEGIN:VEVENT
DTSTART;TZID=America/New_York:20250930T080000
DTEND;TZID=America/New_York:20250930T170000
DTSTAMP:20260422T044649
CREATED:20250930T111153Z
LAST-MODIFIED:20250930T111153Z
UID:10000231-1759219200-1759251600@toledopolice.com
SUMMARY:LCCP DNA
DESCRIPTION:CR2025-01072 9-30-25 0900hrs (#2326\, 2637\, 2635) 9-29-25 1458hrs #2526
URL:https://toledopolice.com/event/lccp-dna-46/
END:VEVENT
BEGIN:VEVENT
DTSTART;TZID=America/New_York:20250930T080000
DTEND;TZID=America/New_York:20250930T170000
DTSTAMP:20260422T044649
CREATED:20250930T144302Z
LAST-MODIFIED:20250930T144302Z
UID:10000232-1759219200-1759251600@toledopolice.com
SUMMARY:TMC
DESCRIPTION: No officers needed for court call in
URL:https://toledopolice.com/event/tmc-64/
END:VEVENT
BEGIN:VEVENT
DTSTART;TZID=America/New_York:20251001T080000
DTEND;TZID=America/New_York:20251001T170000
DTSTAMP:20260422T044649
CREATED:20250919T183236Z
LAST-MODIFIED:20250919T183236Z
UID:10000201-1759305600-1759338000@toledopolice.com
SUMMARY:DNA LCCP
DESCRIPTION:CR2024-02499 10-1-25 0900hrs (#2336\, 2227\, 2513\, 2652\, 2958\, 2550\, 2809)  09/19/25 1245hrs #2526
URL:https://toledopolice.com/event/dna-lccp-97/
END:VEVENT
BEGIN:VEVENT
DTSTART;TZID=America/New_York:20251001T080000
DTEND;TZID=America/New_York:20251001T170000
DTSTAMP:20260422T044649
CREATED:20250923T160017Z
LAST-MODIFIED:20250923T160017Z
UID:10000210-1759305600-1759338000@toledopolice.com
SUMMARY:LCCP DNA
DESCRIPTION:CR2025-00574 10-1-25 0900hrs (#2454\, 2693\, 2437\, 2627\, 2462\, 8635) 9-23-25 1052hrs #2526
URL:https://toledopolice.com/event/lccp-dna-31/
END:VEVENT
BEGIN:VEVENT
DTSTART;TZID=America/New_York:20251001T080000
DTEND;TZID=America/New_York:20251001T170000
DTSTAMP:20260422T044649
CREATED:20250923T160739Z
LAST-MODIFIED:20250923T160739Z
UID:10000213-1759305600-1759338000@toledopolice.com
SUMMARY:LCCP DNA
DESCRIPTION:CR2024-02611 10-1-25 0900hrs (#2391\, 2808\, 2878\, 2703\, 2723\, 2770\, 2401\, 2403\, 2585\, 2429\, 2718\, 2787\, 2787\, 2643\, 2744\, 2805\, 2599\, 2470) 9-23-25 1034hrs #2526
URL:https://toledopolice.com/event/lccp-dna-34/
END:VEVENT
BEGIN:VEVENT
DTSTART;TZID=America/New_York:20251001T080000
DTEND;TZID=America/New_York:20251001T170000
DTSTAMP:20260422T044649
CREATED:20250923T161125Z
LAST-MODIFIED:20250923T161125Z
UID:10000216-1759305600-1759338000@toledopolice.com
SUMMARY:LCCP DNA
DESCRIPTION:CR2025-00564 10-1-25 0900hrs (#2707\, 8321\, 2520\, 3043\, 3038\, 2685) 9-23-25 1059hrs #2526
URL:https://toledopolice.com/event/lccp-dna-37/
END:VEVENT
BEGIN:VEVENT
DTSTART;TZID=America/New_York:20251001T080000
DTEND;TZID=America/New_York:20251001T170000
DTSTAMP:20260422T044649
CREATED:20250923T161429Z
LAST-MODIFIED:20250923T161429Z
UID:10000218-1759305600-1759338000@toledopolice.com
SUMMARY:LCCP DNA
DESCRIPTION:CR2025-00108 10-1-25 0900hrs (#2697\, 2709\, 2627\, 2886\, 2864\, 2890) 9-23-25 1104hrs #2526
URL:https://toledopolice.com/event/lccp-dna-39/
END:VEVENT
BEGIN:VEVENT
DTSTART;TZID=America/New_York:20251001T080000
DTEND;TZID=America/New_York:20251001T170000
DTSTAMP:20260422T044649
CREATED:20251001T173018Z
LAST-MODIFIED:20251001T173018Z
UID:10000239-1759305600-1759338000@toledopolice.com
SUMMARY:TMC
DESCRIPTION:No officers are needed for the court call-in program
URL:https://toledopolice.com/event/tmc-65/
END:VEVENT
BEGIN:VEVENT
DTSTART;TZID=America/New_York:20251002T080000
DTEND;TZID=America/New_York:20251002T170000
DTSTAMP:20260422T044649
CREATED:20250919T183839Z
LAST-MODIFIED:20250919T183839Z
UID:10000202-1759392000-1759424400@toledopolice.com
SUMMARY:DNA LCCP
DESCRIPTION:CR2024-02499 10-2-25 0900hrs (#2336\, 2227\, 2513\, 2652\, 2958\, 2550\, 2809)  09/19/25 1245hrs #2526
URL:https://toledopolice.com/event/dna-lccp-98/
END:VEVENT
BEGIN:VEVENT
DTSTART;TZID=America/New_York:20251002T080000
DTEND;TZID=America/New_York:20251002T170000
DTSTAMP:20260422T044649
CREATED:20250923T160110Z
LAST-MODIFIED:20250923T160110Z
UID:10000211-1759392000-1759424400@toledopolice.com
SUMMARY:LCCP DNA
DESCRIPTION:CR2025-00574 10-2-25 0900hrs (#2454\, 2693\, 2437\, 2627\, 2462\, 8635) 9-23-25 1052hrs #2526
URL:https://toledopolice.com/event/lccp-dna-32/
END:VEVENT
BEGIN:VEVENT
DTSTART;TZID=America/New_York:20251002T080000
DTEND;TZID=America/New_York:20251002T170000
DTSTAMP:20260422T044649
CREATED:20250923T160823Z
LAST-MODIFIED:20250923T160823Z
UID:10000214-1759392000-1759424400@toledopolice.com
SUMMARY:LCCP DNA
DESCRIPTION:CR2024-02611 10-2-25 0900hrs (#2391\, 2808\, 2878\, 2703\, 2723\, 2770\, 2401\, 2403\, 2585\, 2429\, 2718\, 2787\, 2787\, 2643\, 2744\, 2805\, 2599\, 2470) 9-23-25 1034hrs #2526
URL:https://toledopolice.com/event/lccp-dna-35/
END:VEVENT
BEGIN:VEVENT
DTSTART;TZID=America/New_York:20251002T080000
DTEND;TZID=America/New_York:20251002T170000
DTSTAMP:20260422T044649
CREATED:20250930T162246Z
LAST-MODIFIED:20250930T162246Z
UID:10000236-1759392000-1759424400@toledopolice.com
SUMMARY:LCCP DNA
DESCRIPTION:CR2025-00711 10-2-25 0900hrs (#2419\, 2227\, 2336\, 2286\, 2629\, 9063) 9-30-25 1146hrs #2526
URL:https://toledopolice.com/event/lccp-dna-50/
END:VEVENT
BEGIN:VEVENT
DTSTART;TZID=America/New_York:20251002T080000
DTEND;TZID=America/New_York:20251002T170000
DTSTAMP:20260422T044649
CREATED:20251002T145245Z
LAST-MODIFIED:20251002T145245Z
UID:10000242-1759392000-1759424400@toledopolice.com
SUMMARY:TMC
DESCRIPTION:No officers needed for Court Call-in program
URL:https://toledopolice.com/event/tmc-66/
END:VEVENT
END:VCALENDAR