BEGIN:VCALENDAR
VERSION:2.0
PRODID:-//Toledo Police Department - ECPv6.15.20//NONSGML v1.0//EN
CALSCALE:GREGORIAN
METHOD:PUBLISH
X-ORIGINAL-URL:https://toledopolice.com
X-WR-CALDESC:Events for Toledo Police Department
REFRESH-INTERVAL;VALUE=DURATION:PT1H
X-Robots-Tag:noindex
X-PUBLISHED-TTL:PT1H
BEGIN:VTIMEZONE
TZID:America/New_York
BEGIN:DAYLIGHT
TZOFFSETFROM:-0500
TZOFFSETTO:-0400
TZNAME:EDT
DTSTART:20240310T070000
END:DAYLIGHT
BEGIN:STANDARD
TZOFFSETFROM:-0400
TZOFFSETTO:-0500
TZNAME:EST
DTSTART:20241103T060000
END:STANDARD
BEGIN:DAYLIGHT
TZOFFSETFROM:-0500
TZOFFSETTO:-0400
TZNAME:EDT
DTSTART:20250309T070000
END:DAYLIGHT
BEGIN:STANDARD
TZOFFSETFROM:-0400
TZOFFSETTO:-0500
TZNAME:EST
DTSTART:20251102T060000
END:STANDARD
BEGIN:DAYLIGHT
TZOFFSETFROM:-0500
TZOFFSETTO:-0400
TZNAME:EDT
DTSTART:20260308T070000
END:DAYLIGHT
BEGIN:STANDARD
TZOFFSETFROM:-0400
TZOFFSETTO:-0500
TZNAME:EST
DTSTART:20261101T060000
END:STANDARD
END:VTIMEZONE
BEGIN:VEVENT
DTSTART;TZID=America/New_York:20251003T080000
DTEND;TZID=America/New_York:20251003T170000
DTSTAMP:20260422T061004
CREATED:20250923T160905Z
LAST-MODIFIED:20250923T160905Z
UID:10000215-1759478400-1759510800@toledopolice.com
SUMMARY:LCCP DNA
DESCRIPTION:CR2024-02611 10-3-25 0900hrs (#2391\, 2808\, 2878\, 2703\, 2723\, 2770\, 2401\, 2403\, 2585\, 2429\, 2718\, 2787\, 2787\, 2643\, 2744\, 2805\, 2599\, 2470) 9-23-25 1034hrs #2526
URL:https://toledopolice.com/event/lccp-dna-36/
END:VEVENT
BEGIN:VEVENT
DTSTART;TZID=America/New_York:20251003T080000
DTEND;TZID=America/New_York:20251003T170000
DTSTAMP:20260422T061004
CREATED:20250930T150303Z
LAST-MODIFIED:20250930T150303Z
UID:10000233-1759478400-1759510800@toledopolice.com
SUMMARY:LCCP DNA
DESCRIPTION:CR-2025-00629 10-3-25 1030hrs (#2700\, 2672\, 2767) 9-30-25 0914hrs #2526
URL:https://toledopolice.com/event/lccp-dna-47/
END:VEVENT
BEGIN:VEVENT
DTSTART;TZID=America/New_York:20251003T080000
DTEND;TZID=America/New_York:20251003T170000
DTSTAMP:20260422T061004
CREATED:20250930T150440Z
LAST-MODIFIED:20250930T150440Z
UID:10000234-1759478400-1759510800@toledopolice.com
SUMMARY:LCCP DNA
DESCRIPTION:CR-2025-00630 10-3-25 1030hrs (#2700\, 2672\, 2767) 9-30-25 0914hrs #2526
URL:https://toledopolice.com/event/lccp-dna-48/
END:VEVENT
BEGIN:VEVENT
DTSTART;TZID=America/New_York:20251003T080000
DTEND;TZID=America/New_York:20251003T170000
DTSTAMP:20260422T061004
CREATED:20250930T150532Z
LAST-MODIFIED:20250930T150532Z
UID:10000235-1759478400-1759510800@toledopolice.com
SUMMARY:LCCP DNA
DESCRIPTION:CR-2025-00631 10-3-25 1030hrs (#2700\, 2672\, 2767) 9-30-25 0914hrs #2526
URL:https://toledopolice.com/event/lccp-dna-49/
END:VEVENT
BEGIN:VEVENT
DTSTART;TZID=America/New_York:20251003T080000
DTEND;TZID=America/New_York:20251003T170000
DTSTAMP:20260422T061004
CREATED:20251002T111544Z
LAST-MODIFIED:20251002T111544Z
UID:10000241-1759478400-1759510800@toledopolice.com
SUMMARY:LCCP DNA
DESCRIPTION:CR2025-00746 10-3-25 0900hrs (#2683) 10-1-25 1442hrs #2526
URL:https://toledopolice.com/event/lccp-dna-54/
END:VEVENT
BEGIN:VEVENT
DTSTART;TZID=America/New_York:20251003T080000
DTEND;TZID=America/New_York:20251003T170000
DTSTAMP:20260422T061004
CREATED:20251003T182755Z
LAST-MODIFIED:20251003T182755Z
UID:10000244-1759478400-1759510800@toledopolice.com
SUMMARY:TMC
DESCRIPTION:No officers needed for the court call-in program
URL:https://toledopolice.com/event/tmc-67/
END:VEVENT
BEGIN:VEVENT
DTSTART;TZID=America/New_York:20251006T080000
DTEND;TZID=America/New_York:20251006T170000
DTSTAMP:20260422T061004
CREATED:20250930T162341Z
LAST-MODIFIED:20250930T162341Z
UID:10000237-1759737600-1759770000@toledopolice.com
SUMMARY:LCCP DNA
DESCRIPTION:CR2025-00711 10-6-25 1300hrs (#2419\, 2227\, 2336\, 2286\, 2629\, 9063) 9-30-25 1146hrs #2526
URL:https://toledopolice.com/event/lccp-dna-51/
END:VEVENT
BEGIN:VEVENT
DTSTART;TZID=America/New_York:20251006T080000
DTEND;TZID=America/New_York:20251006T170000
DTSTAMP:20260422T061004
CREATED:20251002T155349Z
LAST-MODIFIED:20251002T155349Z
UID:10000243-1759737600-1759770000@toledopolice.com
SUMMARY:LCCP DNA
DESCRIPTION:CR2025-00684 10-6-25 1300hrs (#2794\, 2509\, 2428\, 2862\, 8439\, 2823\, 2859\, 2149\, 2348) 10-2-25 1136hrs #2526
URL:https://toledopolice.com/event/lccp-dna-55/
END:VEVENT
BEGIN:VEVENT
DTSTART;TZID=America/New_York:20251006T080000
DTEND;TZID=America/New_York:20251006T170000
DTSTAMP:20260422T061004
CREATED:20251007T160031Z
LAST-MODIFIED:20251007T160031Z
UID:10000248-1759737600-1759770000@toledopolice.com
SUMMARY:TMC - No officers needed for court call in program
DESCRIPTION:
URL:https://toledopolice.com/event/tmc-no-officers-needed-for-court-call-in-program-2/
END:VEVENT
BEGIN:VEVENT
DTSTART;TZID=America/New_York:20251006T100000
DTEND;TZID=America/New_York:20251006T100000
DTSTAMP:20260422T061004
CREATED:20250926T175610Z
LAST-MODIFIED:20250926T175610Z
UID:10000224-1759744800-1759744800@toledopolice.com
SUMMARY:LCCP - DNA
DESCRIPTION:CR2025-00394 10/6/2025 1000hrs. (#2469\,2840\,2488\,3015\,2587\,2468\,2539\,2431\,2424\,2121\,2468\,2430\,2442\,2322\,2431\,2587\,3019\,2732\,2227\,8598\,8321\,2721\,2473) 09/26/2025  1354hrs. #2527
URL:https://toledopolice.com/event/lccp-dna-40/
END:VEVENT
BEGIN:VEVENT
DTSTART;TZID=America/New_York:20251007T080000
DTEND;TZID=America/New_York:20251007T170000
DTSTAMP:20260422T061004
CREATED:20250919T183933Z
LAST-MODIFIED:20250919T183933Z
UID:10000203-1759824000-1759856400@toledopolice.com
SUMMARY:DNA LCCP
DESCRIPTION:CR2024-02499 10-7-25 0900hrs (#2336\, 2227\, 2513\, 2652\, 2958\, 2550\, 2809)  09/19/25 1245hrs #2526
URL:https://toledopolice.com/event/dna-lccp-99/
END:VEVENT
BEGIN:VEVENT
DTSTART;TZID=America/New_York:20251007T080000
DTEND;TZID=America/New_York:20251007T170000
DTSTAMP:20260422T061004
CREATED:20251007T155824Z
LAST-MODIFIED:20251007T155824Z
UID:10000247-1759824000-1759856400@toledopolice.com
SUMMARY:TMC - No officers are needed for the court call in program
DESCRIPTION:
URL:https://toledopolice.com/event/tmc-no-officers-are-needed-for-the-court-call-in-program/
END:VEVENT
BEGIN:VEVENT
DTSTART;TZID=America/New_York:20251007T080000
DTEND;TZID=America/New_York:20251007T170000
DTSTAMP:20260422T061004
CREATED:20251007T160953Z
LAST-MODIFIED:20251007T160953Z
UID:10000250-1759824000-1759856400@toledopolice.com
SUMMARY:LCCP DNA
DESCRIPTION:CR2025-00456 10-7-25 0900hrs (#2886\, 2805\, 2833\, 2774\, 8439\, 2862) 10-7-25 1120hrs #2526
URL:https://toledopolice.com/event/lccp-dna-59/
END:VEVENT
BEGIN:VEVENT
DTSTART;TZID=America/New_York:20251007T090000
DTEND;TZID=America/New_York:20251007T090000
DTSTAMP:20260422T061004
CREATED:20251007T160943Z
LAST-MODIFIED:20251007T160943Z
UID:10000249-1759827600-1759827600@toledopolice.com
SUMMARY:LCCP -DNA
DESCRIPTION:CR-2025-01160  10/07/2025 0900hrs. (#3034\,3017) 10/07/2025 1209hrs. #2527
URL:https://toledopolice.com/event/lccp-dna-58/
END:VEVENT
BEGIN:VEVENT
DTSTART;TZID=America/New_York:20251007T100000
DTEND;TZID=America/New_York:20251007T100000
DTSTAMP:20260422T061004
CREATED:20250926T180324Z
LAST-MODIFIED:20250926T180353Z
UID:10000225-1759831200-1759831200@toledopolice.com
SUMMARY:LCCP - DNA
DESCRIPTION:CR2025-00394 10/7/2025 1000hrs. (#2469\,2840\,2488\,3015\,2587\,2468\,2539\,2431\,2424\,2121\,2468\,2430\,2442\,2322\,2431\,2587\,3019\,2732\,2227\,8598\,8321\,2721\,2473) 09/26/2025  1354hrs. #2527
URL:https://toledopolice.com/event/lccp-dna-41/
END:VEVENT
BEGIN:VEVENT
DTSTART;TZID=America/New_York:20251008T080000
DTEND;TZID=America/New_York:20251008T170000
DTSTAMP:20260422T061004
CREATED:20250919T184007Z
LAST-MODIFIED:20250919T184007Z
UID:10000204-1759910400-1759942800@toledopolice.com
SUMMARY:DNA LCCP
DESCRIPTION:CR2024-02499 10-8-25 0900hrs (#2336\, 2227\, 2513\, 2652\, 2958\, 2550\, 2809)  09/19/25 1245hrs #2526
URL:https://toledopolice.com/event/dna-lccp-100/
END:VEVENT
BEGIN:VEVENT
DTSTART;TZID=America/New_York:20251008T080000
DTEND;TZID=America/New_York:20251008T170000
DTSTAMP:20260422T061004
CREATED:20250930T162412Z
LAST-MODIFIED:20250930T162412Z
UID:10000238-1759910400-1759942800@toledopolice.com
SUMMARY:LCCP DNA
DESCRIPTION:CR2025-00711 10-8-25 0900hrs (#2419\, 2227\, 2336\, 2286\, 2629\, 9063) 9-30-25 1146hrs #2526
URL:https://toledopolice.com/event/lccp-dna-52/
END:VEVENT
BEGIN:VEVENT
DTSTART;TZID=America/New_York:20251008T080000
DTEND;TZID=America/New_York:20251008T170000
DTSTAMP:20260422T061004
CREATED:20251007T161034Z
LAST-MODIFIED:20251007T161034Z
UID:10000251-1759910400-1759942800@toledopolice.com
SUMMARY:LCCP DNA
DESCRIPTION:CR2025-00456 10-8-25 0900hrs (#2886\, 2805\, 2833\, 2774\, 8439\, 2862) 10-7-25 1120hrs #2526
URL:https://toledopolice.com/event/lccp-dna-60/
END:VEVENT
BEGIN:VEVENT
DTSTART;TZID=America/New_York:20251008T080000
DTEND;TZID=America/New_York:20251008T170000
DTSTAMP:20260422T061004
CREATED:20251007T170408Z
LAST-MODIFIED:20251007T170449Z
UID:10000252-1759910400-1759942800@toledopolice.com
SUMMARY:LCCP DNA
DESCRIPTION:CR2025-00457 10-8-25 0900hrs (#2886\, 2805\, 2833\, 2774\, 8439\, 2862) 10-7-25 1120hrs #2526
URL:https://toledopolice.com/event/lccp-dna-61/
END:VEVENT
BEGIN:VEVENT
DTSTART;TZID=America/New_York:20251008T080000
DTEND;TZID=America/New_York:20251008T170000
DTSTAMP:20260422T061004
CREATED:20251008T155655Z
LAST-MODIFIED:20251008T155655Z
UID:10000253-1759910400-1759942800@toledopolice.com
SUMMARY:TMC
DESCRIPTION:No officers are needed for the court call-in program
URL:https://toledopolice.com/event/tmc-68/
END:VEVENT
BEGIN:VEVENT
DTSTART;TZID=America/New_York:20251008T100000
DTEND;TZID=America/New_York:20251008T100000
DTSTAMP:20260422T061004
CREATED:20250926T180633Z
LAST-MODIFIED:20250926T180633Z
UID:10000226-1759917600-1759917600@toledopolice.com
SUMMARY:LCCP- DNA
DESCRIPTION:CR2025-00394 10/8/2025 1000hrs. (#2469\,2840\,2488\,3015\,2587\,2468\,2539\,2431\,2424\,2121\,2468\,2430\,2442\,2322\,2431\,2587\,3019\,2732\,2227\,8598\,8321\,2721\,2473) 09/26/2025  1354hrs. #2527
URL:https://toledopolice.com/event/lccp-dna-42/
END:VEVENT
BEGIN:VEVENT
DTSTART;TZID=America/New_York:20251009T080000
DTEND;TZID=America/New_York:20251009T170000
DTSTAMP:20260422T061004
CREATED:20250919T184046Z
LAST-MODIFIED:20250919T184046Z
UID:10000205-1759996800-1760029200@toledopolice.com
SUMMARY:DNA LCCP
DESCRIPTION:CR2024-02499 10-9-25 0900hrs (#2336\, 2227\, 2513\, 2652\, 2958\, 2550\, 2809)  09/19/25 1245hrs #2526
URL:https://toledopolice.com/event/dna-lccp-101/
END:VEVENT
BEGIN:VEVENT
DTSTART;TZID=America/New_York:20251009T080000
DTEND;TZID=America/New_York:20251009T170000
DTSTAMP:20260422T061004
CREATED:20251001T175216Z
LAST-MODIFIED:20251001T175216Z
UID:10000240-1759996800-1760029200@toledopolice.com
SUMMARY:LCCP DNA
DESCRIPTION:CR2025-01270 10-9-25 0900hrs (#2693\, 2924\, 2454\, 2864\, 2700) 10-1-25 1338hrs #2526
URL:https://toledopolice.com/event/lccp-dna-53/
END:VEVENT
BEGIN:VEVENT
DTSTART;TZID=America/New_York:20251009T080000
DTEND;TZID=America/New_York:20251009T170000
DTSTAMP:20260422T061004
CREATED:20251009T174000Z
LAST-MODIFIED:20251009T174000Z
UID:10000255-1759996800-1760029200@toledopolice.com
SUMMARY:TMC
DESCRIPTION:No officers are needed for the court call-in program
URL:https://toledopolice.com/event/tmc-69/
END:VEVENT
BEGIN:VEVENT
DTSTART;TZID=America/New_York:20251009T100000
DTEND;TZID=America/New_York:20251009T100000
DTSTAMP:20260422T061004
CREATED:20250926T180729Z
LAST-MODIFIED:20250926T180729Z
UID:10000227-1760004000-1760004000@toledopolice.com
SUMMARY:LCCP- DNA
DESCRIPTION:CR2025-00394 10/9/2025 1000hrs. (#2469\,2840\,2488\,3015\,2587\,2468\,2539\,2431\,2424\,2121\,2468\,2430\,2442\,2322\,2431\,2587\,3019\,2732\,2227\,8598\,8321\,2721\,2473) 09/26/2025  1354hrs. #2527
URL:https://toledopolice.com/event/lccp-dna-43/
END:VEVENT
BEGIN:VEVENT
DTSTART;TZID=America/New_York:20251010T080000
DTEND;TZID=America/New_York:20251010T170000
DTSTAMP:20260422T061004
CREATED:20251010T143242Z
LAST-MODIFIED:20251010T143838Z
UID:10000256-1760083200-1760115600@toledopolice.com
SUMMARY:TMC
DESCRIPTION:No officers are needed for court call in .
URL:https://toledopolice.com/event/tmc-70/
END:VEVENT
BEGIN:VEVENT
DTSTART;TZID=America/New_York:20251010T100000
DTEND;TZID=America/New_York:20251010T100000
DTSTAMP:20260422T061004
CREATED:20250926T180828Z
LAST-MODIFIED:20250926T180828Z
UID:10000228-1760090400-1760090400@toledopolice.com
SUMMARY:LCCP-DNA
DESCRIPTION:CR2025-00394 10/10/2025 1000hrs. (#2469\,2840\,2488\,3015\,2587\,2468\,2539\,2431\,2424\,2121\,2468\,2430\,2442\,2322\,2431\,2587\,3019\,2732\,2227\,8598\,8321\,2721\,2473) 09/26/2025  1354hrs. #2527
URL:https://toledopolice.com/event/lccp-dna-44/
END:VEVENT
BEGIN:VEVENT
DTSTART;TZID=America/New_York:20251013T080000
DTEND;TZID=America/New_York:20251013T170000
DTSTAMP:20260422T061004
CREATED:20251008T181012Z
LAST-MODIFIED:20251008T181012Z
UID:10000254-1760342400-1760374800@toledopolice.com
SUMMARY:LCCP DNA
DESCRIPTION:CR2025-00769 10-13-25 0930hrs (#2569\, 8321\, 2817) 10-8-25-1250hrs #2526
URL:https://toledopolice.com/event/lccp-dna-62/
END:VEVENT
BEGIN:VEVENT
DTSTART;TZID=America/New_York:20251014T080000
DTEND;TZID=America/New_York:20251014T170000
DTSTAMP:20260422T061004
CREATED:20251014T151252Z
LAST-MODIFIED:20251014T151252Z
UID:10000257-1760428800-1760461200@toledopolice.com
SUMMARY:TMC
DESCRIPTION:No officers are needed for the court call-in program.
URL:https://toledopolice.com/event/tmc-71/
END:VEVENT
BEGIN:VEVENT
DTSTART;TZID=America/New_York:20251014T080000
DTEND;TZID=America/New_York:20251014T170000
DTSTAMP:20260422T061004
CREATED:20251014T151318Z
LAST-MODIFIED:20251014T151318Z
UID:10000258-1760428800-1760461200@toledopolice.com
SUMMARY:TMC - No Officers Needed for Court Call In
DESCRIPTION:
URL:https://toledopolice.com/event/tmc-no-officers-needed-for-court-call-in-5/
END:VEVENT
END:VCALENDAR