BEGIN:VCALENDAR
VERSION:2.0
PRODID:-//Toledo Police Department - ECPv6.15.20//NONSGML v1.0//EN
CALSCALE:GREGORIAN
METHOD:PUBLISH
X-WR-CALNAME:Toledo Police Department
X-ORIGINAL-URL:https://toledopolice.com
X-WR-CALDESC:Events for Toledo Police Department
REFRESH-INTERVAL;VALUE=DURATION:PT1H
X-Robots-Tag:noindex
X-PUBLISHED-TTL:PT1H
BEGIN:VTIMEZONE
TZID:America/New_York
BEGIN:DAYLIGHT
TZOFFSETFROM:-0500
TZOFFSETTO:-0400
TZNAME:EDT
DTSTART:20250309T070000
END:DAYLIGHT
BEGIN:STANDARD
TZOFFSETFROM:-0400
TZOFFSETTO:-0500
TZNAME:EST
DTSTART:20251102T060000
END:STANDARD
BEGIN:DAYLIGHT
TZOFFSETFROM:-0500
TZOFFSETTO:-0400
TZNAME:EDT
DTSTART:20260308T070000
END:DAYLIGHT
BEGIN:STANDARD
TZOFFSETFROM:-0400
TZOFFSETTO:-0500
TZNAME:EST
DTSTART:20261101T060000
END:STANDARD
BEGIN:DAYLIGHT
TZOFFSETFROM:-0500
TZOFFSETTO:-0400
TZNAME:EDT
DTSTART:20270314T070000
END:DAYLIGHT
BEGIN:STANDARD
TZOFFSETFROM:-0400
TZOFFSETTO:-0500
TZNAME:EST
DTSTART:20271107T060000
END:STANDARD
END:VTIMEZONE
BEGIN:VEVENT
DTSTART;TZID=America/New_York:20260224T080000
DTEND;TZID=America/New_York:20260224T170000
DTSTAMP:20260421T153038
CREATED:20260224T175439Z
LAST-MODIFIED:20260224T175439Z
UID:10000573-1771920000-1771952400@toledopolice.com
SUMMARY:TMC
DESCRIPTION:TMC-No officers are needed for court call-in.
URL:https://toledopolice.com/event/tmc-104/
END:VEVENT
BEGIN:VEVENT
DTSTART;TZID=America/New_York:20260224T080000
DTEND;TZID=America/New_York:20260224T170000
DTSTAMP:20260421T153038
CREATED:20260220T132601Z
LAST-MODIFIED:20260220T132601Z
UID:10000553-1771920000-1771952400@toledopolice.com
SUMMARY:LCCMP-DNA
DESCRIPTION:CR2025-01243  02/24/2026 (#2856\,2429\,2857\,8635 ) 02/20/2026 0825hrs. #2527
URL:https://toledopolice.com/event/lccmp-dna-39/
END:VEVENT
BEGIN:VEVENT
DTSTART;TZID=America/New_York:20260224T080000
DTEND;TZID=America/New_York:20260224T170000
DTSTAMP:20260421T153038
CREATED:20260218T185914Z
LAST-MODIFIED:20260218T185914Z
UID:10000547-1771920000-1771952400@toledopolice.com
SUMMARY:LCCP DNA
DESCRIPTION:CR2025-00799 2-24-26 0900hrs (#2227\, 2407\, 2262\, 2822) 2-18-26 1315hrs #2526
URL:https://toledopolice.com/event/lccp-dna-201/
END:VEVENT
BEGIN:VEVENT
DTSTART;TZID=America/New_York:20260224T080000
DTEND;TZID=America/New_York:20260224T170000
DTSTAMP:20260421T153038
CREATED:20260211T130851Z
LAST-MODIFIED:20260211T130851Z
UID:10000531-1771920000-1771952400@toledopolice.com
SUMMARY:LCCP DNA
DESCRIPTION:CR2025-01154 2-24-26 0930hrs (#2653) 2-10-26 1641hrs #2526
URL:https://toledopolice.com/event/lccp-dna-189/
END:VEVENT
BEGIN:VEVENT
DTSTART;TZID=America/New_York:20260224T080000
DTEND;TZID=America/New_York:20260224T170000
DTSTAMP:20260421T153038
CREATED:20260123T192218Z
LAST-MODIFIED:20260123T192218Z
UID:10000463-1771920000-1771952400@toledopolice.com
SUMMARY:LCCP DNA
DESCRIPTION:CR2024-02810 2-24-26 0900hrs (#2810\, 2585\, 2141\, 2552\, 2396\, 2562\, 2670\, 8321\, 2989\, 3032\, 2227\, 2699\, 2118\, 2498\, 2469\, 2332\, 2401\, 2978\, 2484) 1-22-26 1007hrs #2526
URL:https://toledopolice.com/event/lccp-dna-175/
END:VEVENT
BEGIN:VEVENT
DTSTART;TZID=America/New_York:20260223T080000
DTEND;TZID=America/New_York:20260223T170000
DTSTAMP:20260421T153038
CREATED:20260223T155455Z
LAST-MODIFIED:20260223T155455Z
UID:10000572-1771833600-1771866000@toledopolice.com
SUMMARY:TMC – No officers needed for court call in
DESCRIPTION:
URL:https://toledopolice.com/event/tmc-no-officers-needed-for-court-call-in-26/
END:VEVENT
BEGIN:VEVENT
DTSTART;TZID=America/New_York:20260223T080000
DTEND;TZID=America/New_York:20260223T170000
DTSTAMP:20260421T153038
CREATED:20260218T185836Z
LAST-MODIFIED:20260218T185836Z
UID:10000546-1771833600-1771866000@toledopolice.com
SUMMARY:LCCP DNA
DESCRIPTION:CR2025-00799 2-23-26 0900hrs (#2227\, 2407\, 2262\, 2822) 2-18-26 1315hrs #2526
URL:https://toledopolice.com/event/lccp-dna-200/
END:VEVENT
BEGIN:VEVENT
DTSTART;TZID=America/New_York:20260223T080000
DTEND;TZID=America/New_York:20260223T170000
DTSTAMP:20260421T153038
CREATED:20260211T130815Z
LAST-MODIFIED:20260211T130815Z
UID:10000530-1771833600-1771866000@toledopolice.com
SUMMARY:LCCP DNA
DESCRIPTION:CR2025-01154 2-23-26 0930hrs (#2653) 2-10-26 1641hrs #2526
URL:https://toledopolice.com/event/lccp-dna-188/
END:VEVENT
BEGIN:VEVENT
DTSTART;TZID=America/New_York:20260223T080000
DTEND;TZID=America/New_York:20260223T170000
DTSTAMP:20260421T153038
CREATED:20260123T191949Z
LAST-MODIFIED:20260123T191949Z
UID:10000462-1771833600-1771866000@toledopolice.com
SUMMARY:LCCP DNA
DESCRIPTION:CR2024-02810 2-23-26 0900hrs (#2810\, 2585\, 2141\, 2552\, 2396\, 2562\, 2670\, 8321\, 2989\, 3032\, 2227\, 2699\, 2118\, 2498\, 2469\, 2332\, 2401\, 2978\, 2484) 1-22-26 1007hrs #2526
URL:https://toledopolice.com/event/lccp-dna-174/
END:VEVENT
BEGIN:VEVENT
DTSTART;TZID=America/New_York:20260220T090000
DTEND;TZID=America/New_York:20260220T090000
DTSTAMP:20260421T153038
CREATED:20260205T140909Z
LAST-MODIFIED:20260205T140909Z
UID:10000506-1771578000-1771578000@toledopolice.com
SUMMARY:LCCMP-DNA
DESCRIPTION:CR2025-01034 02/20/2026 0900HRS (#2969\,3042\,2568\,2332\,2906\,2866\,2877\,28880\,2882\,3024\,2227\,2686\,2564) 02/05/2026 0850HRS. #2527
URL:https://toledopolice.com/event/lccmp-dna-25/
END:VEVENT
BEGIN:VEVENT
DTSTART;TZID=America/New_York:20260220T090000
DTEND;TZID=America/New_York:20260220T090000
DTSTAMP:20260421T153038
CREATED:20260205T135325Z
LAST-MODIFIED:20260205T135325Z
UID:10000501-1771578000-1771578000@toledopolice.com
SUMMARY:LCCMP-DNA
DESCRIPTION:CR2025-01033 02/20/2026 0900HRS (#2969\,3042\,2568\,2332\,2906\,2866\,2877\,28880\,2882\,3024\,2227\,2686\,2564) 02/05/2026 0850HRS. #2527
URL:https://toledopolice.com/event/lccmp-dna-22/
END:VEVENT
BEGIN:VEVENT
DTSTART;TZID=America/New_York:20260220T080000
DTEND;TZID=America/New_York:20260220T170000
DTSTAMP:20260421T153038
CREATED:20260220T153224Z
LAST-MODIFIED:20260220T153224Z
UID:10000555-1771574400-1771606800@toledopolice.com
SUMMARY:TMC
DESCRIPTION:TMC-No officers are needed for the court call-in program
URL:https://toledopolice.com/event/tmc-103/
END:VEVENT
BEGIN:VEVENT
DTSTART;TZID=America/New_York:20260220T080000
DTEND;TZID=America/New_York:20260220T170000
DTSTAMP:20260421T153038
CREATED:20260219T184955Z
LAST-MODIFIED:20260219T184955Z
UID:10000550-1771574400-1771606800@toledopolice.com
SUMMARY:LCCP DNA
DESCRIPTION:CR2025-01129 2-20-26 0900hrs (#2601\, 2978\, 2141\, 2981\, 2604\, 2640\, 2699\, 2770\, 2592\, 2771\, 2729\, 2734\, 2227\, 2716\, 2146) 2-19-26 1246hrs #2526
URL:https://toledopolice.com/event/lccp-dna-202/
END:VEVENT
BEGIN:VEVENT
DTSTART;TZID=America/New_York:20260219T090000
DTEND;TZID=America/New_York:20260219T090000
DTSTAMP:20260421T153038
CREATED:20260205T140820Z
LAST-MODIFIED:20260205T140820Z
UID:10000505-1771491600-1771491600@toledopolice.com
SUMMARY:LCCMP-DNA
DESCRIPTION:CR2025-01034 02/19/2026 0900HRS (#2969\,3042\,2568\,2332\,2906\,2866\,2877\,28880\,2882\,3024\,2227\,2686\,2564) 02/05/2026 0850HRS. #2527
URL:https://toledopolice.com/event/lccmp-dna-24/
END:VEVENT
BEGIN:VEVENT
DTSTART;TZID=America/New_York:20260219T090000
DTEND;TZID=America/New_York:20260219T090000
DTSTAMP:20260421T153038
CREATED:20260205T135229Z
LAST-MODIFIED:20260205T135229Z
UID:10000500-1771491600-1771491600@toledopolice.com
SUMMARY:LCCMP-DNA
DESCRIPTION:CR2025-01033 02/19/2026 0900HRS (#2969\,3042\,2568\,2332\,2906\,2866\,2877\,28880\,2882\,3024\,2227\,2686\,2564) 02/05/2026 0850HRS. #2527
URL:https://toledopolice.com/event/lccmp-dna-21/
END:VEVENT
BEGIN:VEVENT
DTSTART;TZID=America/New_York:20260219T080000
DTEND;TZID=America/New_York:20260219T170000
DTSTAMP:20260421T153038
CREATED:20260219T154842Z
LAST-MODIFIED:20260219T154902Z
UID:10000549-1771488000-1771520400@toledopolice.com
SUMMARY:TMC
DESCRIPTION:TMC-No officers are needed for the court-call in program.
URL:https://toledopolice.com/event/tmc-102/
END:VEVENT
BEGIN:VEVENT
DTSTART;TZID=America/New_York:20260219T080000
DTEND;TZID=America/New_York:20260219T170000
DTSTAMP:20260421T153038
CREATED:20260218T185106Z
LAST-MODIFIED:20260218T185106Z
UID:10000544-1771488000-1771520400@toledopolice.com
SUMMARY:LCCP DNA
DESCRIPTION:CR2025-01017 2-19-26 0900hrs (#2934) 2-18-26 1327hrs #2526
URL:https://toledopolice.com/event/lccp-dna-198/
END:VEVENT
BEGIN:VEVENT
DTSTART;TZID=America/New_York:20260218T090000
DTEND;TZID=America/New_York:20260218T090000
DTSTAMP:20260421T153038
CREATED:20260205T140736Z
LAST-MODIFIED:20260205T140736Z
UID:10000504-1771405200-1771405200@toledopolice.com
SUMMARY:LCCMP
DESCRIPTION:CR2025-01034 02/18/2026 0900HRS (#2969\,3042\,2568\,2332\,2906\,2866\,2877\,28880\,2882\,3024\,2227\,2686\,2564) 02/05/2026 0850HRS. #2527
URL:https://toledopolice.com/event/lccmp-14/
END:VEVENT
BEGIN:VEVENT
DTSTART;TZID=America/New_York:20260218T090000
DTEND;TZID=America/New_York:20260218T090000
DTSTAMP:20260421T153038
CREATED:20260205T135141Z
LAST-MODIFIED:20260205T135141Z
UID:10000499-1771405200-1771405200@toledopolice.com
SUMMARY:LCCMP-DNA
DESCRIPTION:CR2025-01033 02/18/2026 0900HRS (#2969\,3042\,2568\,2332\,2906\,2866\,2877\,28880\,2882\,3024\,2227\,2686\,2564) 02/05/2026 0850HRS. #2527
URL:https://toledopolice.com/event/lccmp-dna-20/
END:VEVENT
BEGIN:VEVENT
DTSTART;TZID=America/New_York:20260218T090000
DTEND;TZID=America/New_York:20260218T090000
DTSTAMP:20260421T153038
CREATED:20260120T175125Z
LAST-MODIFIED:20260120T175125Z
UID:10000447-1771405200-1771405200@toledopolice.com
SUMMARY:LUCCMP -DNA
DESCRIPTION:CR2025-01371  02/18/2026  0900HRS. (#2827\,2253\,2227\,2532\,2726\,2694\,2962\,2769\,2298) 01/20/2026  1250 HRS. #2527
URL:https://toledopolice.com/event/luccmp-dna-2/
END:VEVENT
BEGIN:VEVENT
DTSTART;TZID=America/New_York:20260218T080000
DTEND;TZID=America/New_York:20260218T170000
DTSTAMP:20260421T153038
CREATED:20260218T190046Z
LAST-MODIFIED:20260218T190046Z
UID:10000548-1771401600-1771434000@toledopolice.com
SUMMARY:TMC – No officers needed for court call in
DESCRIPTION:
URL:https://toledopolice.com/event/tmc-no-officers-needed-for-court-call-in-25/
END:VEVENT
BEGIN:VEVENT
DTSTART;TZID=America/New_York:20260218T080000
DTEND;TZID=America/New_York:20260218T170000
DTSTAMP:20260421T153038
CREATED:20260218T185446Z
LAST-MODIFIED:20260218T185446Z
UID:10000545-1771401600-1771434000@toledopolice.com
SUMMARY:LCCP DNA
DESCRIPTION:CR2025-00654 2-18-26 0900hrs (#2227\, 2599\, 3002\, 3043\, 2552\, 2744\, 2234\, 8598\, 2697\, 2915\, 2141) 2-18-26 1110hrs #2526
URL:https://toledopolice.com/event/lccp-dna-199/
END:VEVENT
BEGIN:VEVENT
DTSTART;TZID=America/New_York:20260218T080000
DTEND;TZID=America/New_York:20260218T170000
DTSTAMP:20260421T153038
CREATED:20260218T185029Z
LAST-MODIFIED:20260218T185029Z
UID:10000543-1771401600-1771434000@toledopolice.com
SUMMARY:LCCP DNA
DESCRIPTION:CR2025-01017 2-18-26 0900hrs (#2934) 2-18-26 1327hrs #2526
URL:https://toledopolice.com/event/lccp-dna-197/
END:VEVENT
BEGIN:VEVENT
DTSTART;TZID=America/New_York:20260217T090000
DTEND;TZID=America/New_York:20260217T090000
DTSTAMP:20260421T153038
CREATED:20260205T140638Z
LAST-MODIFIED:20260205T140638Z
UID:10000503-1771318800-1771318800@toledopolice.com
SUMMARY:LCCMP
DESCRIPTION:CR2025-01034 02/17/2026 0900HRS (#2969\,3042\,2568\,2332\,2906\,2866\,2877\,28880\,2882\,3024\,2227\,2686\,2564) 02/05/2026 0850HRS. #2527
URL:https://toledopolice.com/event/lccmp-13/
END:VEVENT
BEGIN:VEVENT
DTSTART;TZID=America/New_York:20260217T090000
DTEND;TZID=America/New_York:20260217T090000
DTSTAMP:20260421T153038
CREATED:20260205T135518Z
LAST-MODIFIED:20260205T135518Z
UID:10000502-1771318800-1771318800@toledopolice.com
SUMMARY:LCCMP-DNA
DESCRIPTION:CR2025-01034 02/17/2026 0900HRS (#2969\,3042\,2568\,2332\,2906\,2866\,2877\,28880\,2882\,3024\,2227\,2686\,2564) 02/05/2026 0850HRS. #2527
URL:https://toledopolice.com/event/lccmp-dna-23/
END:VEVENT
BEGIN:VEVENT
DTSTART;TZID=America/New_York:20260217T090000
DTEND;TZID=America/New_York:20260217T090000
DTSTAMP:20260421T153038
CREATED:20260205T135007Z
LAST-MODIFIED:20260205T135007Z
UID:10000498-1771318800-1771318800@toledopolice.com
SUMMARY:LCCMP-DNA
DESCRIPTION:CR2025-01033 02/17/2026 0900HRS (#2969\,3042\,2568\,2332\,2906\,2866\,2877\,28880\,2882\,3024\,2227\,2686\,2564) 02/05/2026 0850HRS. #2527
URL:https://toledopolice.com/event/lccmp-dna-19/
END:VEVENT
BEGIN:VEVENT
DTSTART;TZID=America/New_York:20260217T090000
DTEND;TZID=America/New_York:20260217T090000
DTSTAMP:20260421T153038
CREATED:20260120T175012Z
LAST-MODIFIED:20260120T175012Z
UID:10000446-1771318800-1771318800@toledopolice.com
SUMMARY:LUCCMP-DNA
DESCRIPTION:CR2025-01371  02/17/2026  0900HRS. (#2827\,2253\,2227\,2532\,2726\,2694\,2962\,2769\,2298) 01/20/2026  1250 HRS. #2527
URL:https://toledopolice.com/event/luccmp-dna/
END:VEVENT
BEGIN:VEVENT
DTSTART;TZID=America/New_York:20260217T080000
DTEND;TZID=America/New_York:20260217T170000
DTSTAMP:20260421T153038
CREATED:20260217T154617Z
LAST-MODIFIED:20260217T154755Z
UID:10000542-1771315200-1771347600@toledopolice.com
SUMMARY:TMC
DESCRIPTION:TMC-No officers are needed for court call-in.
URL:https://toledopolice.com/event/tmc-101/
END:VEVENT
BEGIN:VEVENT
DTSTART;TZID=America/New_York:20260213T093000
DTEND;TZID=America/New_York:20260213T093000
DTSTAMP:20260421T153038
CREATED:20260206T181939Z
LAST-MODIFIED:20260206T181939Z
UID:10000524-1770975000-1770975000@toledopolice.com
SUMMARY:LCCMP-DNA
DESCRIPTION:CR2025-01253 02/13/2026 0930HRS. (#2882\,2227\,2727\,2750\,2880\,2349\,2976\,2876\,2550) 02/06/2026 1315 HRS. #2527
URL:https://toledopolice.com/event/lccmp-dna-36/
END:VEVENT
BEGIN:VEVENT
DTSTART;TZID=America/New_York:20260213T093000
DTEND;TZID=America/New_York:20260213T093000
DTSTAMP:20260421T153038
CREATED:20260206T180608Z
LAST-MODIFIED:20260206T180700Z
UID:10000519-1770975000-1770975000@toledopolice.com
SUMMARY:LCCMP-DNA
DESCRIPTION:CR2025-01253 02/13/2026 0930HRS. (#2550)  02/06/2026  1303HRS. #2527
URL:https://toledopolice.com/event/lccmp-dna-31/
END:VEVENT
END:VCALENDAR