BEGIN:VCALENDAR
VERSION:2.0
PRODID:-//Toledo Police Department - ECPv6.15.20//NONSGML v1.0//EN
CALSCALE:GREGORIAN
METHOD:PUBLISH
X-ORIGINAL-URL:https://toledopolice.com
X-WR-CALDESC:Events for Toledo Police Department
REFRESH-INTERVAL;VALUE=DURATION:PT1H
X-Robots-Tag:noindex
X-PUBLISHED-TTL:PT1H
BEGIN:VTIMEZONE
TZID:America/New_York
BEGIN:DAYLIGHT
TZOFFSETFROM:-0500
TZOFFSETTO:-0400
TZNAME:EDT
DTSTART:20250309T070000
END:DAYLIGHT
BEGIN:STANDARD
TZOFFSETFROM:-0400
TZOFFSETTO:-0500
TZNAME:EST
DTSTART:20251102T060000
END:STANDARD
BEGIN:DAYLIGHT
TZOFFSETFROM:-0500
TZOFFSETTO:-0400
TZNAME:EDT
DTSTART:20260308T070000
END:DAYLIGHT
BEGIN:STANDARD
TZOFFSETFROM:-0400
TZOFFSETTO:-0500
TZNAME:EST
DTSTART:20261101T060000
END:STANDARD
BEGIN:DAYLIGHT
TZOFFSETFROM:-0500
TZOFFSETTO:-0400
TZNAME:EDT
DTSTART:20270314T070000
END:DAYLIGHT
BEGIN:STANDARD
TZOFFSETFROM:-0400
TZOFFSETTO:-0500
TZNAME:EST
DTSTART:20271107T060000
END:STANDARD
END:VTIMEZONE
BEGIN:VEVENT
DTSTART;TZID=America/New_York:20260403T080000
DTEND;TZID=America/New_York:20260403T170000
DTSTAMP:20260421T115714
CREATED:20260326T180139Z
LAST-MODIFIED:20260326T180139Z
UID:10000647-1775203200-1775235600@toledopolice.com
SUMMARY:LCCP DNA
DESCRIPTION:CR2025-01557 4-3-26 0900hrs (#2469\, 3020\, 2089\, 2799\, 3015\, 2716\, 2332\, 3021\, 2227\, 3049\, 3016\, 2990\, 2290) 3-26-26 0934hrs #2526
URL:https://toledopolice.com/event/lccp-dna-252/
END:VEVENT
BEGIN:VEVENT
DTSTART;TZID=America/New_York:20260406T080000
DTEND;TZID=America/New_York:20260406T170000
DTSTAMP:20260421T115714
CREATED:20260326T180329Z
LAST-MODIFIED:20260326T180329Z
UID:10000648-1775462400-1775494800@toledopolice.com
SUMMARY:LCCP DNA
DESCRIPTION:CR2025-01557 4-6-26 0900hrs (#2469\, 3020\, 2089\, 2799\, 3015\, 2716\, 2332\, 3021\, 2227\, 3049\, 3016\, 2990\, 2290) 3-26-26 0934hrs #2526
URL:https://toledopolice.com/event/lccp-dna-253/
END:VEVENT
BEGIN:VEVENT
DTSTART;TZID=America/New_York:20260406T080000
DTEND;TZID=America/New_York:20260406T170000
DTSTAMP:20260421T115714
CREATED:20260406T145748Z
LAST-MODIFIED:20260406T145748Z
UID:10000663-1775462400-1775494800@toledopolice.com
SUMMARY:TMC – No officers needed for court call in
DESCRIPTION:
URL:https://toledopolice.com/event/tmc-no-officers-needed-for-court-call-in-33/
END:VEVENT
BEGIN:VEVENT
DTSTART;TZID=America/New_York:20260407T080000
DTEND;TZID=America/New_York:20260407T170000
DTSTAMP:20260421T115714
CREATED:20260326T180433Z
LAST-MODIFIED:20260326T180433Z
UID:10000649-1775548800-1775581200@toledopolice.com
SUMMARY:LCCP DNA
DESCRIPTION:CR2025-01557 4-7-26 0900hrs (#2469\, 3020\, 2089\, 2799\, 3015\, 2716\, 2332\, 3021\, 2227\, 3049\, 3016\, 2990\, 2290) 3-26-26 0934hrs #2526
URL:https://toledopolice.com/event/lccp-dna-254/
END:VEVENT
BEGIN:VEVENT
DTSTART;TZID=America/New_York:20260407T080000
DTEND;TZID=America/New_York:20260407T170000
DTSTAMP:20260421T115714
CREATED:20260330T151649Z
LAST-MODIFIED:20260330T151649Z
UID:10000659-1775548800-1775581200@toledopolice.com
SUMMARY:LCCP DNA
DESCRIPTION:CR2025-01131 4-7-26 0930hrs (#2930) 3-30-26 1059hrs #2526
URL:https://toledopolice.com/event/lccp-dna-260/
END:VEVENT
BEGIN:VEVENT
DTSTART;TZID=America/New_York:20260407T080000
DTEND;TZID=America/New_York:20260407T170000
DTSTAMP:20260421T115714
CREATED:20260407T145347Z
LAST-MODIFIED:20260407T145347Z
UID:10000665-1775548800-1775581200@toledopolice.com
SUMMARY:TMC – No officers needed for court call in
DESCRIPTION:
URL:https://toledopolice.com/event/tmc-no-officers-needed-for-court-call-in-34/
END:VEVENT
BEGIN:VEVENT
DTSTART;TZID=America/New_York:20260408T080000
DTEND;TZID=America/New_York:20260408T170000
DTSTAMP:20260421T115714
CREATED:20260326T180539Z
LAST-MODIFIED:20260326T180539Z
UID:10000650-1775635200-1775667600@toledopolice.com
SUMMARY:LCCP DNA
DESCRIPTION:CR2025-01557 4-8-26 0900hrs (#2469\, 3020\, 2089\, 2799\, 3015\, 2716\, 2332\, 3021\, 2227\, 3049\, 3016\, 2990\, 2290) 3-26-26 0934hrs #2526
URL:https://toledopolice.com/event/lccp-dna-255/
END:VEVENT
BEGIN:VEVENT
DTSTART;TZID=America/New_York:20260408T080000
DTEND;TZID=America/New_York:20260408T170000
DTSTAMP:20260421T115714
CREATED:20260408T150207Z
LAST-MODIFIED:20260408T150207Z
UID:10000666-1775635200-1775667600@toledopolice.com
SUMMARY:TMC – No officers needed for court call in
DESCRIPTION:
URL:https://toledopolice.com/event/tmc-no-officers-needed-for-court-call-in-35/
END:VEVENT
BEGIN:VEVENT
DTSTART;TZID=America/New_York:20260409T080000
DTEND;TZID=America/New_York:20260409T170000
DTSTAMP:20260421T115714
CREATED:20260326T180709Z
LAST-MODIFIED:20260326T180709Z
UID:10000651-1775721600-1775754000@toledopolice.com
SUMMARY:LCCP DNA
DESCRIPTION:CR2025-01557 4-9-26 0900hrs (#2469\, 3020\, 2089\, 2799\, 3015\, 2716\, 2332\, 3021\, 2227\, 3049\, 3016\, 2990\, 2290) 3-26-26 0934hrs #2526
URL:https://toledopolice.com/event/lccp-dna-256/
END:VEVENT
BEGIN:VEVENT
DTSTART;TZID=America/New_York:20260409T080000
DTEND;TZID=America/New_York:20260409T170000
DTSTAMP:20260421T115714
CREATED:20260409T144807Z
LAST-MODIFIED:20260409T144807Z
UID:10000668-1775721600-1775754000@toledopolice.com
SUMMARY:TMC – No officers needed for court call in
DESCRIPTION:
URL:https://toledopolice.com/event/tmc-no-officers-needed-for-court-call-in-36/
END:VEVENT
BEGIN:VEVENT
DTSTART;TZID=America/New_York:20260410T080000
DTEND;TZID=America/New_York:20260410T170000
DTSTAMP:20260421T115714
CREATED:20260326T180815Z
LAST-MODIFIED:20260326T180927Z
UID:10000652-1775808000-1775840400@toledopolice.com
SUMMARY:LCCP DNA
DESCRIPTION:CR2025-01557 4-10-26 0900hrs (#2469\, 3020\, 2089\, 2799\, 3015\, 2716\, 2332\, 3021\, 2227\, 3049\, 3016\, 2990\, 2290) 3-26-26 0934hrs #2526
URL:https://toledopolice.com/event/lccp-dna-257/
END:VEVENT
BEGIN:VEVENT
DTSTART;TZID=America/New_York:20260410T080000
DTEND;TZID=America/New_York:20260410T170000
DTSTAMP:20260421T115714
CREATED:20260410T143641Z
LAST-MODIFIED:20260410T143641Z
UID:10000671-1775808000-1775840400@toledopolice.com
SUMMARY:TMC – No officers needed for court call in
DESCRIPTION:
URL:https://toledopolice.com/event/tmc-no-officers-needed-for-court-call-in-37/
END:VEVENT
BEGIN:VEVENT
DTSTART;TZID=America/New_York:20260413T080000
DTEND;TZID=America/New_York:20260413T170000
DTSTAMP:20260421T115714
CREATED:20260413T143305Z
LAST-MODIFIED:20260413T143305Z
UID:10000672-1776067200-1776099600@toledopolice.com
SUMMARY:TMC-No officers are needed for the court call-in program.
DESCRIPTION:
URL:https://toledopolice.com/event/tmc-no-officers-are-needed-for-the-court-call-in-program-2/
END:VEVENT
BEGIN:VEVENT
DTSTART;TZID=America/New_York:20260413T130000
DTEND;TZID=America/New_York:20260413T130000
DTSTAMP:20260421T115714
CREATED:20260409T155615Z
LAST-MODIFIED:20260409T155615Z
UID:10000670-1776085200-1776085200@toledopolice.com
SUMMARY:LUCCMP-DNA
DESCRIPTION:CR2026-00054 04/13/2026 1300hrs (#2087\,2707\,2577\,2530\,2227\,2557 ) 04-09-2026  1155hrs. #2527
URL:https://toledopolice.com/event/luccmp-dna-14/
END:VEVENT
BEGIN:VEVENT
DTSTART;TZID=America/New_York:20260414T080000
DTEND;TZID=America/New_York:20260414T170000
DTSTAMP:20260421T115714
CREATED:20260407T140424Z
LAST-MODIFIED:20260407T140424Z
UID:10000664-1776153600-1776186000@toledopolice.com
SUMMARY:LCCP DNA
DESCRIPTION:CR2025-01462 4-14-26 0900hrs (#2337\, 2941\, 2227) 4-7-27 0928hrs #2526
URL:https://toledopolice.com/event/lccp-dna-261/
END:VEVENT
BEGIN:VEVENT
DTSTART;TZID=America/New_York:20260414T080000
DTEND;TZID=America/New_York:20260414T170000
DTSTAMP:20260421T115714
CREATED:20260409T134440Z
LAST-MODIFIED:20260409T134440Z
UID:10000667-1776153600-1776186000@toledopolice.com
SUMMARY:LCCP DNA
DESCRIPTION:CR2025-01569 4-14-26 0900hrs (#3030\, 2703\, 2532\, 3026) 4-9-26 0926hrs #2526
URL:https://toledopolice.com/event/lccp-dna-262/
END:VEVENT
BEGIN:VEVENT
DTSTART;TZID=America/New_York:20260414T080000
DTEND;TZID=America/New_York:20260414T170000
DTSTAMP:20260421T115714
CREATED:20260409T155223Z
LAST-MODIFIED:20260409T155223Z
UID:10000669-1776153600-1776186000@toledopolice.com
SUMMARY:LCCP DNA
DESCRIPTION:CR2026-00054 4-14-26 0900hrs (#2087\, 2707\, 2530\, 2577\, 2227\, 2557) 4-9-26 1136hrs #2526
URL:https://toledopolice.com/event/lccp-dna-263/
END:VEVENT
BEGIN:VEVENT
DTSTART;TZID=America/New_York:20260415T080000
DTEND;TZID=America/New_York:20260415T170000
DTSTAMP:20260421T115714
CREATED:20260415T143539Z
LAST-MODIFIED:20260415T143539Z
UID:10000679-1776240000-1776272400@toledopolice.com
SUMMARY:TMC- No officers are needed for the court call-in program
DESCRIPTION:No officers are needed for the court call-in program
URL:https://toledopolice.com/event/tmc-no-officers-are-needed-for-the-court-call-in-program-3/
END:VEVENT
BEGIN:VEVENT
DTSTART;TZID=America/New_York:20260416T080000
DTEND;TZID=America/New_York:20260416T170000
DTSTAMP:20260421T115714
CREATED:20260415T182625Z
LAST-MODIFIED:20260415T182625Z
UID:10000680-1776326400-1776358800@toledopolice.com
SUMMARY:LCCP DNA
DESCRIPTION:CR2025-01032 4-16-26 1030hrs (#2447\, 2494\, 2722\, 2355\, 2429\, 2640\, 2401\, 2835\, 2969\, 2630\, 2711\, 2603\, 2609\, 2591\, 2719\, 2882\, 2809) 4-15-26 1350hrs #2526
URL:https://toledopolice.com/event/lccp-dna-270/
END:VEVENT
BEGIN:VEVENT
DTSTART;TZID=America/New_York:20260416T080000
DTEND;TZID=America/New_York:20260416T170000
DTSTAMP:20260421T115714
CREATED:20260416T142153Z
LAST-MODIFIED:20260416T142153Z
UID:10000681-1776326400-1776358800@toledopolice.com
SUMMARY:TMC- No officers are needed for the court call-in program
DESCRIPTION:No officers are needed for the court call-in program
URL:https://toledopolice.com/event/tmc-no-officers-are-needed-for-the-court-call-in-program-4/
END:VEVENT
BEGIN:VEVENT
DTSTART;TZID=America/New_York:20260417T080000
DTEND;TZID=America/New_York:20260417T170000
DTSTAMP:20260421T115714
CREATED:20260413T153238Z
LAST-MODIFIED:20260413T153238Z
UID:10000673-1776412800-1776445200@toledopolice.com
SUMMARY:LCCP DNA
DESCRIPTION:CR2025-01424 4-17-26 0900hrs (#8439\, 3002\, 2227\, 2703\, 2947\, 2652\, 2513) 4-10-26 1329hrs #2526
URL:https://toledopolice.com/event/lccp-dna-264/
END:VEVENT
BEGIN:VEVENT
DTSTART;TZID=America/New_York:20260417T080000
DTEND;TZID=America/New_York:20260417T170000
DTSTAMP:20260421T115714
CREATED:20260417T144840Z
LAST-MODIFIED:20260417T144840Z
UID:10000684-1776412800-1776445200@toledopolice.com
SUMMARY:TMC – No officers needed for court call in
DESCRIPTION:
URL:https://toledopolice.com/event/tmc-no-officers-needed-for-court-call-in-38/
END:VEVENT
BEGIN:VEVENT
DTSTART;TZID=America/New_York:20260420T080000
DTEND;TZID=America/New_York:20260420T170000
DTSTAMP:20260421T115714
CREATED:20260413T153348Z
LAST-MODIFIED:20260413T153348Z
UID:10000674-1776672000-1776704400@toledopolice.com
SUMMARY:LCCP DNA
DESCRIPTION:CR2025-01424 4-20-26 0900hrs (#8439\, 3002\, 2227\, 2703\, 2947\, 2652\, 2513) 4-10-26 1329hrs #2526
URL:https://toledopolice.com/event/lccp-dna-265/
END:VEVENT
BEGIN:VEVENT
DTSTART;TZID=America/New_York:20260420T080000
DTEND;TZID=America/New_York:20260420T170000
DTSTAMP:20260421T115714
CREATED:20260417T121325Z
LAST-MODIFIED:20260417T121325Z
UID:10000683-1776672000-1776704400@toledopolice.com
SUMMARY:LCCP DNA
DESCRIPTION:CR2026-00044 4-20-26 0900hrs (#2873\, 2917\, 2869\, 2084) 4-16-26 1451hrs #2526
URL:https://toledopolice.com/event/lccp-dna-271/
END:VEVENT
BEGIN:VEVENT
DTSTART;TZID=America/New_York:20260421T080000
DTEND;TZID=America/New_York:20260421T170000
DTSTAMP:20260421T115714
CREATED:20260326T181141Z
LAST-MODIFIED:20260326T181141Z
UID:10000653-1776758400-1776790800@toledopolice.com
SUMMARY:LCCP DNA
DESCRIPTION:CR2025-01505 4-21-26 1300hrs (#2653\, 2227\, 2866\, 3042) 3-26-26 1315hrs #2526 \nCR2025-015064-21-26 1300hrs (#2653\, 2227\, 2866\, 3042) 3-26-26 1315hrs #2526
URL:https://toledopolice.com/event/lccp-dna-258/
END:VEVENT
BEGIN:VEVENT
DTSTART;TZID=America/New_York:20260421T080000
DTEND;TZID=America/New_York:20260421T170000
DTSTAMP:20260421T115714
CREATED:20260413T153452Z
LAST-MODIFIED:20260413T153452Z
UID:10000675-1776758400-1776790800@toledopolice.com
SUMMARY:LCCP DNA
DESCRIPTION:CR2025-01424 4-21-26 0900hrs (#8439\, 3002\, 2227\, 2703\, 2947\, 2652\, 2513) 4-10-26 1329hrs #2526
URL:https://toledopolice.com/event/lccp-dna-266/
END:VEVENT
BEGIN:VEVENT
DTSTART;TZID=America/New_York:20260421T080000
DTEND;TZID=America/New_York:20260421T170000
DTSTAMP:20260421T115714
CREATED:20260421T115048Z
LAST-MODIFIED:20260421T115048Z
UID:10000685-1776758400-1776790800@toledopolice.com
SUMMARY:LCCP DNA
DESCRIPTION:CR2025-01390 4-21-26 0900hrs (#2835\, 2274\, 2487\, 2857\, 2856\, 2839\, 2645\, 2704\, 2922\, 2995\, 2804\, 2630\, 2609\, 2729\, 2601\, 2770\, 2970\, 3039\, 3043\, 2524\, 2282\, 2943) 4-20-26 1641hrs #2526
URL:https://toledopolice.com/event/lccp-dna-272/
END:VEVENT
BEGIN:VEVENT
DTSTART;TZID=America/New_York:20260421T080000
DTEND;TZID=America/New_York:20260421T170000
DTSTAMP:20260421T115714
CREATED:20260421T143531Z
LAST-MODIFIED:20260421T143531Z
UID:10000687-1776758400-1776790800@toledopolice.com
SUMMARY:TMC- No officers are needed for the court call-in program
DESCRIPTION:
URL:https://toledopolice.com/event/tmc-no-officers-are-needed-for-the-court-call-in-program-5/
END:VEVENT
BEGIN:VEVENT
DTSTART;TZID=America/New_York:20260421T130000
DTEND;TZID=America/New_York:20260421T130000
DTSTAMP:20260421T115714
CREATED:20260416T143134Z
LAST-MODIFIED:20260416T143134Z
UID:10000682-1776776400-1776776400@toledopolice.com
SUMMARY:LUCCMP-DNA
DESCRIPTION:CR2025-01142 04/21/2026 1300HRS (#2227\,2840\,2808\,2459\,2873\,2141\,2283) 04/16/2026  1031HRS. #2527
URL:https://toledopolice.com/event/luccmp-dna-15/
END:VEVENT
BEGIN:VEVENT
DTSTART;TZID=America/New_York:20260422T080000
DTEND;TZID=America/New_York:20260422T170000
DTSTAMP:20260421T115714
CREATED:20260413T153609Z
LAST-MODIFIED:20260413T153609Z
UID:10000676-1776844800-1776877200@toledopolice.com
SUMMARY:LCCP DNA
DESCRIPTION:CR2025-01424 4-22-26 0900hrs (#8439\, 3002\, 2227\, 2703\, 2947\, 2652\, 2513) 4-10-26 1329hrs #2526
URL:https://toledopolice.com/event/lccp-dna-267/
END:VEVENT
END:VCALENDAR