BEGIN:VCALENDAR
VERSION:2.0
PRODID:-//Toledo Police Department - ECPv6.15.20//NONSGML v1.0//EN
CALSCALE:GREGORIAN
METHOD:PUBLISH
X-WR-CALNAME:Toledo Police Department
X-ORIGINAL-URL:https://toledopolice.com
X-WR-CALDESC:Events for Toledo Police Department
REFRESH-INTERVAL;VALUE=DURATION:PT1H
X-Robots-Tag:noindex
X-PUBLISHED-TTL:PT1H
BEGIN:VTIMEZONE
TZID:America/New_York
BEGIN:DAYLIGHT
TZOFFSETFROM:-0500
TZOFFSETTO:-0400
TZNAME:EDT
DTSTART:20250309T070000
END:DAYLIGHT
BEGIN:STANDARD
TZOFFSETFROM:-0400
TZOFFSETTO:-0500
TZNAME:EST
DTSTART:20251102T060000
END:STANDARD
BEGIN:DAYLIGHT
TZOFFSETFROM:-0500
TZOFFSETTO:-0400
TZNAME:EDT
DTSTART:20260308T070000
END:DAYLIGHT
BEGIN:STANDARD
TZOFFSETFROM:-0400
TZOFFSETTO:-0500
TZNAME:EST
DTSTART:20261101T060000
END:STANDARD
BEGIN:DAYLIGHT
TZOFFSETFROM:-0500
TZOFFSETTO:-0400
TZNAME:EDT
DTSTART:20270314T070000
END:DAYLIGHT
BEGIN:STANDARD
TZOFFSETFROM:-0400
TZOFFSETTO:-0500
TZNAME:EST
DTSTART:20271107T060000
END:STANDARD
END:VTIMEZONE
BEGIN:VEVENT
DTSTART;TZID=America/New_York:20260128T080000
DTEND;TZID=America/New_York:20260128T170000
DTSTAMP:20260422T184421
CREATED:20260123T134503Z
LAST-MODIFIED:20260123T134503Z
UID:10000457-1769587200-1769619600@toledopolice.com
SUMMARY:LCCP DNA
DESCRIPTION:CR2025-00766 1-28-26 0900hrs (#2859\, 8439\, 2951\, 2940\, 2988\, 3006) 1-22-26 1437hrs #2526
URL:https://toledopolice.com/event/lccp-dna-170/
END:VEVENT
BEGIN:VEVENT
DTSTART;TZID=America/New_York:20260128T080000
DTEND;TZID=America/New_York:20260128T170000
DTSTAMP:20260422T184421
CREATED:20260122T133323Z
LAST-MODIFIED:20260122T133323Z
UID:10000451-1769587200-1769619600@toledopolice.com
SUMMARY:LCCP DNA
DESCRIPTION:CR2025-01048 1-28-26 0900hrs (#2823\, 2886\, 8635\, 2794\, 2862) 1-20-26 1633hrs #2526
URL:https://toledopolice.com/event/lccp-dna-165/
END:VEVENT
BEGIN:VEVENT
DTSTART;TZID=America/New_York:20260128T080000
DTEND;TZID=America/New_York:20260128T170000
DTSTAMP:20260422T184421
CREATED:20251230T194140Z
LAST-MODIFIED:20251230T194140Z
UID:10000401-1769587200-1769619600@toledopolice.com
SUMMARY:LCCP DNA
DESCRIPTION:CR2024-02499 1-28-26 0900hrs (#2336\, 2227\, 2513\, 2652\, 2958\, 2550\, 2809) 12-3-25 1332hrs #2526
URL:https://toledopolice.com/event/lccp-dna-134/
END:VEVENT
BEGIN:VEVENT
DTSTART;TZID=America/New_York:20260128T080000
DTEND;TZID=America/New_York:20260128T170000
DTSTAMP:20260422T184421
CREATED:20251230T174024Z
LAST-MODIFIED:20251230T174024Z
UID:10000394-1769587200-1769619600@toledopolice.com
SUMMARY:LCCP DNA
DESCRIPTION:CR2025-01251 1-28-26 0900hrs (#2330\, 2810\, 2227\, 2725) 12-30-25 1033hrs #2526
URL:https://toledopolice.com/event/lccp-dna-127/
END:VEVENT
BEGIN:VEVENT
DTSTART;TZID=America/New_York:20260127T080000
DTEND;TZID=America/New_York:20260127T170000
DTSTAMP:20260422T184421
CREATED:20260127T154305Z
LAST-MODIFIED:20260127T154305Z
UID:10000468-1769500800-1769533200@toledopolice.com
SUMMARY:TMC-No officers needed for court call-in program
DESCRIPTION:
URL:https://toledopolice.com/event/tmc-no-officers-needed-for-court-call-in-program-37/
END:VEVENT
BEGIN:VEVENT
DTSTART;TZID=America/New_York:20260127T080000
DTEND;TZID=America/New_York:20260127T170000
DTSTAMP:20260422T184421
CREATED:20260123T134729Z
LAST-MODIFIED:20260123T134729Z
UID:10000459-1769500800-1769533200@toledopolice.com
SUMMARY:LCCP DNA
DESCRIPTION:CR2025-00267 1-27-26 0900hrs (#2951\, 2940\, 2227\, 2170) 1-22-26 1455hrs #2526
URL:https://toledopolice.com/event/lccp-dna-172/
END:VEVENT
BEGIN:VEVENT
DTSTART;TZID=America/New_York:20260127T080000
DTEND;TZID=America/New_York:20260127T170000
DTSTAMP:20260422T184421
CREATED:20260123T134436Z
LAST-MODIFIED:20260123T134436Z
UID:10000456-1769500800-1769533200@toledopolice.com
SUMMARY:LCCP DNA
DESCRIPTION:CR2025-00766 1-27-26 0900hrs (#2859\, 8439\, 2951\, 2940\, 2988\, 3006) 1-22-26 1437hrs #2526
URL:https://toledopolice.com/event/lccp-dna-169/
END:VEVENT
BEGIN:VEVENT
DTSTART;TZID=America/New_York:20260127T080000
DTEND;TZID=America/New_York:20260127T170000
DTSTAMP:20260422T184421
CREATED:20260123T133916Z
LAST-MODIFIED:20260123T133916Z
UID:10000454-1769500800-1769533200@toledopolice.com
SUMMARY:LCCP DNA
DESCRIPTION:CR2025-00991 1-27-26 0900hrs (#8635\, 2672\, 2767) 1-22-26 1442hrs #2526
URL:https://toledopolice.com/event/lccp-dna-167/
END:VEVENT
BEGIN:VEVENT
DTSTART;TZID=America/New_York:20260127T080000
DTEND;TZID=America/New_York:20260127T170000
DTSTAMP:20260422T184421
CREATED:20260122T133235Z
LAST-MODIFIED:20260122T133256Z
UID:10000450-1769500800-1769533200@toledopolice.com
SUMMARY:LCCP DNA
DESCRIPTION:CR2025-01048 1-27-26 0900hrs (#2823\, 2886\, 8635\, 2794\, 2862) 1-20-26 1633hrs #2526
URL:https://toledopolice.com/event/lccp-dna-164/
END:VEVENT
BEGIN:VEVENT
DTSTART;TZID=America/New_York:20260127T080000
DTEND;TZID=America/New_York:20260127T170000
DTSTAMP:20260422T184421
CREATED:20251230T173954Z
LAST-MODIFIED:20251230T173954Z
UID:10000393-1769500800-1769533200@toledopolice.com
SUMMARY:LCCP DNA
DESCRIPTION:CR2025-01251 1-27-26 0900hrs (#2330\, 2810\, 2227\, 2725) 12-30-25 1033hrs #2526
URL:https://toledopolice.com/event/lccp-dna-126/
END:VEVENT
BEGIN:VEVENT
DTSTART;TZID=America/New_York:20260127T080000
DTEND;TZID=America/New_York:20260127T170000
DTSTAMP:20260422T184421
CREATED:20251217T193050Z
LAST-MODIFIED:20251217T193050Z
UID:10000365-1769500800-1769533200@toledopolice.com
SUMMARY:LCCP DNA
DESCRIPTION:CR2023-02060 1-27-26 0930hrs (#2610\, 2614\, 2585\, 2401\, 2699\, 8624\, 2469\, 2482\, 8321) 12-17-25 1342hrs #2526
URL:https://toledopolice.com/event/lccp-dna-109/
END:VEVENT
BEGIN:VEVENT
DTSTART;TZID=America/New_York:20260126T080000
DTEND;TZID=America/New_York:20260126T170000
DTSTAMP:20260422T184421
CREATED:20260126T125217Z
LAST-MODIFIED:20260126T125230Z
UID:10000467-1769414400-1769446800@toledopolice.com
SUMMARY:ALL COURTS ARE CANCELLED FOR TODAY
DESCRIPTION:If you had court today – it has been cancelled due to weather.  Your court cases will be rescheduled and you will receive another subpoena.
URL:https://toledopolice.com/event/all-courts-are-cancelled-for-today/
END:VEVENT
BEGIN:VEVENT
DTSTART;TZID=America/New_York:20260126T080000
DTEND;TZID=America/New_York:20260126T170000
DTSTAMP:20260422T184421
CREATED:20260123T134654Z
LAST-MODIFIED:20260123T134654Z
UID:10000458-1769414400-1769446800@toledopolice.com
SUMMARY:LCCP DNA
DESCRIPTION:CR2025-00267 1-26-26 0900hrs (#2951\, 2940\, 2227\, 2170) 1-22-26 1455hrs #2526
URL:https://toledopolice.com/event/lccp-dna-171/
END:VEVENT
BEGIN:VEVENT
DTSTART;TZID=America/New_York:20260126T080000
DTEND;TZID=America/New_York:20260126T170000
DTSTAMP:20260422T184421
CREATED:20260123T134408Z
LAST-MODIFIED:20260123T134408Z
UID:10000455-1769414400-1769446800@toledopolice.com
SUMMARY:LCCP DNA
DESCRIPTION:CR2025-00766 1-26-26 0900hrs (#2859\, 8439\, 2951\, 2940\, 2988\, 3006) 1-22-26 1437hrs #2526
URL:https://toledopolice.com/event/lccp-dna-168/
END:VEVENT
BEGIN:VEVENT
DTSTART;TZID=America/New_York:20260126T080000
DTEND;TZID=America/New_York:20260126T170000
DTSTAMP:20260422T184421
CREATED:20260123T133835Z
LAST-MODIFIED:20260123T133835Z
UID:10000453-1769414400-1769446800@toledopolice.com
SUMMARY:LCCP DNA
DESCRIPTION:CR2025-00991 1-26-26 0900hrs (#8635\, 2672\, 2767) 1-22-26 1442hrs #2526
URL:https://toledopolice.com/event/lccp-dna-166/
END:VEVENT
BEGIN:VEVENT
DTSTART;TZID=America/New_York:20260126T080000
DTEND;TZID=America/New_York:20260126T170000
DTSTAMP:20260422T184421
CREATED:20260122T133159Z
LAST-MODIFIED:20260122T133159Z
UID:10000449-1769414400-1769446800@toledopolice.com
SUMMARY:LCCP DNA
DESCRIPTION:CR2025-01048 1-26-26 0900hrs (#2823\, 2886\, 8635\, 2794\, 2862) 1-20-26 1633hrs #2526
URL:https://toledopolice.com/event/lccp-dna-163/
END:VEVENT
BEGIN:VEVENT
DTSTART;TZID=America/New_York:20260126T080000
DTEND;TZID=America/New_York:20260126T170000
DTSTAMP:20260422T184421
CREATED:20251230T194035Z
LAST-MODIFIED:20251230T194035Z
UID:10000399-1769414400-1769446800@toledopolice.com
SUMMARY:LCCP DNA
DESCRIPTION:CR2024-02499 1-26-26 0900hrs (#2336\, 2227\, 2513\, 2652\, 2958\, 2550\, 2809) 12-3-25 1332hrs #2526
URL:https://toledopolice.com/event/lccp-dna-132/
END:VEVENT
BEGIN:VEVENT
DTSTART;TZID=America/New_York:20260126T080000
DTEND;TZID=America/New_York:20260126T170000
DTSTAMP:20260422T184421
CREATED:20251230T173847Z
LAST-MODIFIED:20251230T173847Z
UID:10000392-1769414400-1769446800@toledopolice.com
SUMMARY:LCCP DNA
DESCRIPTION:CR2025-01251 1-26-26 0900hrs (#2330\, 2810\, 2227\, 2725) 12-30-25 1033hrs #2526
URL:https://toledopolice.com/event/lccp-dna-125/
END:VEVENT
BEGIN:VEVENT
DTSTART;TZID=America/New_York:20260123T080000
DTEND;TZID=America/New_York:20260123T170000
DTSTAMP:20260422T184421
CREATED:20260123T191748Z
LAST-MODIFIED:20260123T191748Z
UID:10000461-1769155200-1769187600@toledopolice.com
SUMMARY:TMC – No officers needed for court call in
DESCRIPTION:
URL:https://toledopolice.com/event/tmc-no-officers-needed-for-court-call-in-18/
END:VEVENT
BEGIN:VEVENT
DTSTART;TZID=America/New_York:20260123T080000
DTEND;TZID=America/New_York:20260123T170000
DTSTAMP:20260422T184421
CREATED:20251230T193950Z
LAST-MODIFIED:20251230T193950Z
UID:10000398-1769155200-1769187600@toledopolice.com
SUMMARY:LCCP DNA
DESCRIPTION:CR2024-02499 1-23-26 0900hrs (#2336\, 2227\, 2513\, 2652\, 2958\, 2550\, 2809) 12-3-25 1332hrs #2526
URL:https://toledopolice.com/event/lccp-dna-131/
END:VEVENT
BEGIN:VEVENT
DTSTART;TZID=America/New_York:20260122T080000
DTEND;TZID=America/New_York:20260122T170000
DTSTAMP:20260422T184421
CREATED:20260122T170527Z
LAST-MODIFIED:20260122T170527Z
UID:10000452-1769068800-1769101200@toledopolice.com
SUMMARY:TMC – No officers needed for court call in
DESCRIPTION:
URL:https://toledopolice.com/event/tmc-no-officers-needed-for-court-call-in-17/
END:VEVENT
BEGIN:VEVENT
DTSTART;TZID=America/New_York:20260122T080000
DTEND;TZID=America/New_York:20260122T170000
DTSTAMP:20260422T184421
CREATED:20251230T173809Z
LAST-MODIFIED:20251230T173809Z
UID:10000391-1769068800-1769101200@toledopolice.com
SUMMARY:LCCP DNA
DESCRIPTION:CR2025-01251 1-22-26 0900hrs (#2330\, 2810\, 2227\, 2725) 12-30-25 1033hrs #2526
URL:https://toledopolice.com/event/lccp-dna-124/
END:VEVENT
BEGIN:VEVENT
DTSTART;TZID=America/New_York:20260121T080000
DTEND;TZID=America/New_York:20260121T170000
DTSTAMP:20260422T184421
CREATED:20260121T161515Z
LAST-MODIFIED:20260121T161515Z
UID:10000448-1768982400-1769014800@toledopolice.com
SUMMARY:TMC – No officers needed for court call in
DESCRIPTION:
URL:https://toledopolice.com/event/tmc-no-officers-needed-for-court-call-in-16/
END:VEVENT
BEGIN:VEVENT
DTSTART;TZID=America/New_York:20260121T080000
DTEND;TZID=America/New_York:20260121T170000
DTSTAMP:20260422T184421
CREATED:20260116T193457Z
LAST-MODIFIED:20260116T193457Z
UID:10000443-1768982400-1769014800@toledopolice.com
SUMMARY:LCCP DNA
DESCRIPTION:CR2025-01606 1-21-26 0900hrs (#2227\, 2890\, 2447\, 2907\, 2681\, 2743) 1-16-26 1413hrs #2526
URL:https://toledopolice.com/event/lccp-dna-162/
END:VEVENT
BEGIN:VEVENT
DTSTART;TZID=America/New_York:20260120T080000
DTEND;TZID=America/New_York:20260120T170000
DTSTAMP:20260422T184421
CREATED:20260120T152728Z
LAST-MODIFIED:20260120T152728Z
UID:10000445-1768896000-1768928400@toledopolice.com
SUMMARY:TMC
DESCRIPTION:No officers are needed for the court call-in program.
URL:https://toledopolice.com/event/tmc-94/
END:VEVENT
BEGIN:VEVENT
DTSTART;TZID=America/New_York:20260120T080000
DTEND;TZID=America/New_York:20260120T170000
DTSTAMP:20260422T184421
CREATED:20260120T144053Z
LAST-MODIFIED:20260120T144053Z
UID:10000444-1768896000-1768928400@toledopolice.com
SUMMARY:LCCMP
DESCRIPTION:CR2025-01335  01/27/2026  (#2683\,2862\,2879\,2428\,2462\,2875\,2823\,2721\,2859\,2794\,2409\,2432\,2392\,2627\,2606\,2650\,2636\,2391\,2509\,2070\,2973\,2844) 01/20/2026  0941hr. #2527
URL:https://toledopolice.com/event/lccmp-2/
END:VEVENT
BEGIN:VEVENT
DTSTART;TZID=America/New_York:20260120T080000
DTEND;TZID=America/New_York:20260120T170000
DTSTAMP:20260422T184421
CREATED:20260116T193427Z
LAST-MODIFIED:20260116T193427Z
UID:10000442-1768896000-1768928400@toledopolice.com
SUMMARY:LCCP DNA
DESCRIPTION:CR2025-01606 1-20-26 0900hrs (#2227\, 2890\, 2447\, 2907\, 2681\, 2743) 1-16-26 1413hrs #2526
URL:https://toledopolice.com/event/lccp-dna-161/
END:VEVENT
BEGIN:VEVENT
DTSTART;TZID=America/New_York:20260120T080000
DTEND;TZID=America/New_York:20260120T170000
DTSTAMP:20260422T184421
CREATED:20260116T151820Z
LAST-MODIFIED:20260116T151820Z
UID:10000438-1768896000-1768928400@toledopolice.com
SUMMARY:LCCP DNA
DESCRIPTION:CR2025-01641 1-20-26 0900hrs (#2831\, 2337\, 2851) 1-16-26 0958hrs #2526
URL:https://toledopolice.com/event/lccp-dna-158/
END:VEVENT
BEGIN:VEVENT
DTSTART;TZID=America/New_York:20260120T080000
DTEND;TZID=America/New_York:20260120T170000
DTSTAMP:20260422T184421
CREATED:20260116T150039Z
LAST-MODIFIED:20260116T150039Z
UID:10000437-1768896000-1768928400@toledopolice.com
SUMMARY:LCCP DNA
DESCRIPTION:CR2025-01504 1-20-26 0900hrs (#2345\, 2227\, 3025\, 2501) 1-16-26 0944hrs #2526
URL:https://toledopolice.com/event/lccp-dna-157/
END:VEVENT
BEGIN:VEVENT
DTSTART;TZID=America/New_York:20260120T080000
DTEND;TZID=America/New_York:20260120T170000
DTSTAMP:20260422T184421
CREATED:20260116T145508Z
LAST-MODIFIED:20260116T145508Z
UID:10000436-1768896000-1768928400@toledopolice.com
SUMMARY:LCCP DNA
DESCRIPTION:CR2025-01569 1-20-26 0900hrs (#2703\, 3026\, 2532\, 3030) 1-16-26 0937hrs #2526
URL:https://toledopolice.com/event/lccp-dna-156/
END:VEVENT
END:VCALENDAR