BEGIN:VCALENDAR
VERSION:2.0
PRODID:-//Toledo Police Department - ECPv6.15.20//NONSGML v1.0//EN
CALSCALE:GREGORIAN
METHOD:PUBLISH
X-WR-CALNAME:Toledo Police Department
X-ORIGINAL-URL:https://toledopolice.com
X-WR-CALDESC:Events for Toledo Police Department
REFRESH-INTERVAL;VALUE=DURATION:PT1H
X-Robots-Tag:noindex
X-PUBLISHED-TTL:PT1H
BEGIN:VTIMEZONE
TZID:America/New_York
BEGIN:DAYLIGHT
TZOFFSETFROM:-0500
TZOFFSETTO:-0400
TZNAME:EDT
DTSTART:20240310T070000
END:DAYLIGHT
BEGIN:STANDARD
TZOFFSETFROM:-0400
TZOFFSETTO:-0500
TZNAME:EST
DTSTART:20241103T060000
END:STANDARD
BEGIN:DAYLIGHT
TZOFFSETFROM:-0500
TZOFFSETTO:-0400
TZNAME:EDT
DTSTART:20250309T070000
END:DAYLIGHT
BEGIN:STANDARD
TZOFFSETFROM:-0400
TZOFFSETTO:-0500
TZNAME:EST
DTSTART:20251102T060000
END:STANDARD
BEGIN:DAYLIGHT
TZOFFSETFROM:-0500
TZOFFSETTO:-0400
TZNAME:EDT
DTSTART:20260308T070000
END:DAYLIGHT
BEGIN:STANDARD
TZOFFSETFROM:-0400
TZOFFSETTO:-0500
TZNAME:EST
DTSTART:20261101T060000
END:STANDARD
END:VTIMEZONE
BEGIN:VEVENT
DTSTART;TZID=America/New_York:20251015T080000
DTEND;TZID=America/New_York:20251015T170000
DTSTAMP:20260422T190425
CREATED:20251015T154209Z
LAST-MODIFIED:20251015T154209Z
UID:10000273-1760515200-1760547600@toledopolice.com
SUMMARY:TMC
DESCRIPTION:No officers needed for court call-in program
URL:https://toledopolice.com/event/tmc-72/
END:VEVENT
BEGIN:VEVENT
DTSTART;TZID=America/New_York:20251015T093000
DTEND;TZID=America/New_York:20251015T093000
DTSTAMP:20260422T190425
CREATED:20251014T160257Z
LAST-MODIFIED:20251014T160257Z
UID:10000260-1760520600-1760520600@toledopolice.com
SUMMARY:LCCP-DNA
DESCRIPTION:CR-2025-00769  10/15/2025 0930hrs. (#2569\,8321\,2817) 10/14/2025 1200hrs. #2527
URL:https://toledopolice.com/event/lccp-dna-64/
END:VEVENT
BEGIN:VEVENT
DTSTART;TZID=America/New_York:20251016T080000
DTEND;TZID=America/New_York:20251016T170000
DTSTAMP:20260422T190425
CREATED:20251015T114533Z
LAST-MODIFIED:20251015T114533Z
UID:10000262-1760601600-1760634000@toledopolice.com
SUMMARY:LCCP DNA
DESCRIPTION:CR2025-00629\, CR2025-00630\, CR2025-00631 10-16-25 0900hrs (#2700\, 2767\, 2672) 10-14-25 1618hrs #2526
URL:https://toledopolice.com/event/lccp-dna-66/
END:VEVENT
BEGIN:VEVENT
DTSTART;TZID=America/New_York:20251016T080000
DTEND;TZID=America/New_York:20251016T170000
DTSTAMP:20260422T190425
CREATED:20251016T143502Z
LAST-MODIFIED:20251016T143502Z
UID:10000280-1760601600-1760634000@toledopolice.com
SUMMARY:TMC
DESCRIPTION:No officers needed for the court call in program
URL:https://toledopolice.com/event/tmc-73/
END:VEVENT
BEGIN:VEVENT
DTSTART;TZID=America/New_York:20251016T080000
DTEND;TZID=America/New_York:20251016T170000
DTSTAMP:20260422T190425
CREATED:20251017T152443Z
LAST-MODIFIED:20251017T152443Z
UID:10000282-1760601600-1760634000@toledopolice.com
SUMMARY:TMC - No officers needed for court call in program
DESCRIPTION:
URL:https://toledopolice.com/event/tmc-no-officers-needed-for-court-call-in-program-4/
END:VEVENT
BEGIN:VEVENT
DTSTART;TZID=America/New_York:20251016T093000
DTEND;TZID=America/New_York:20251016T093000
DTSTAMP:20260422T190425
CREATED:20251014T160438Z
LAST-MODIFIED:20251014T160438Z
UID:10000261-1760607000-1760607000@toledopolice.com
SUMMARY:LCCP-DNA
DESCRIPTION:CR-2025-00769  10/16/2025 0930hrs. (#2569\,8321\,2817) 10/14/2025 1200hrs. #2527
URL:https://toledopolice.com/event/lccp-dna-65/
END:VEVENT
BEGIN:VEVENT
DTSTART;TZID=America/New_York:20251017T080000
DTEND;TZID=America/New_York:20251017T170000
DTSTAMP:20260422T190425
CREATED:20251016T112801Z
LAST-MODIFIED:20251016T112801Z
UID:10000274-1760688000-1760720400@toledopolice.com
SUMMARY:LCCP DNA
DESCRIPTION:CR2025-00208 10-17-25 0900hrs (#2668\, 2791\, 2972\, 2227\, 2407\, 2988\, 2747\, 2552\, 2550\, 2821\, 2300\, 2599\, 2803\, 2780) 10-15-25 1553hrs #2526
URL:https://toledopolice.com/event/lccp-dna-76/
END:VEVENT
BEGIN:VEVENT
DTSTART;TZID=America/New_York:20251017T080000
DTEND;TZID=America/New_York:20251017T170000
DTSTAMP:20260422T190425
CREATED:20251017T150837Z
LAST-MODIFIED:20251017T150837Z
UID:10000281-1760688000-1760720400@toledopolice.com
SUMMARY:TMC-No officers needed for court call-in program
DESCRIPTION:
URL:https://toledopolice.com/event/tmc-no-officers-needed-for-court-call-in-program-3/
END:VEVENT
BEGIN:VEVENT
DTSTART;TZID=America/New_York:20251020T080000
DTEND;TZID=America/New_York:20251020T170000
DTSTAMP:20260422T190425
CREATED:20251015T114936Z
LAST-MODIFIED:20251015T114936Z
UID:10000263-1760947200-1760979600@toledopolice.com
SUMMARY:LCCP DNA
DESCRIPTION:CR2025-00376 10-20-25 0900hrs (#2934\, 2567) 10-14-25 1418hrs #2526
URL:https://toledopolice.com/event/lccp-dna-67/
END:VEVENT
BEGIN:VEVENT
DTSTART;TZID=America/New_York:20251020T080000
DTEND;TZID=America/New_York:20251020T170000
DTSTAMP:20260422T190425
CREATED:20251016T112906Z
LAST-MODIFIED:20251016T112906Z
UID:10000275-1760947200-1760979600@toledopolice.com
SUMMARY:LCCP DNA
DESCRIPTION:CR2025-00208 10-20-25 0900hrs (#2668\, 2791\, 2972\, 2227\, 2407\, 2988\, 2747\, 2552\, 2550\, 2821\, 2300\, 2599\, 2803\, 2780) 10-15-25 1553hrs #2526
URL:https://toledopolice.com/event/lccp-dna-77/
END:VEVENT
BEGIN:VEVENT
DTSTART;TZID=America/New_York:20251020T080000
DTEND;TZID=America/New_York:20251020T170000
DTSTAMP:20260422T190425
CREATED:20251020T161418Z
LAST-MODIFIED:20251020T161418Z
UID:10000283-1760947200-1760979600@toledopolice.com
SUMMARY:TMC – No officers needed for court call in program
DESCRIPTION:
URL:https://toledopolice.com/event/tmc-no-officers-needed-for-court-call-in-program-5/
END:VEVENT
BEGIN:VEVENT
DTSTART;TZID=America/New_York:20251020T080000
DTEND;TZID=America/New_York:20251020T170000
DTSTAMP:20260422T190425
CREATED:20251020T183148Z
LAST-MODIFIED:20251020T183148Z
UID:10000284-1760947200-1760979600@toledopolice.com
SUMMARY:TMC
DESCRIPTION:No officers are needed for court call-in program
URL:https://toledopolice.com/event/tmc-74/
END:VEVENT
BEGIN:VEVENT
DTSTART;TZID=America/New_York:20251021T080000
DTEND;TZID=America/New_York:20251021T170000
DTSTAMP:20260422T190425
CREATED:20251015T115012Z
LAST-MODIFIED:20251015T115247Z
UID:10000264-1761033600-1761066000@toledopolice.com
SUMMARY:LCCP DNA
DESCRIPTION:CR2025-00376 10-21-25 0900hrs (#2934\, 2567) 10-14-25 1418hrs #2526
URL:https://toledopolice.com/event/lccp-dna-68/
END:VEVENT
BEGIN:VEVENT
DTSTART;TZID=America/New_York:20251021T080000
DTEND;TZID=America/New_York:20251021T170000
DTSTAMP:20260422T190425
CREATED:20251021T153504Z
LAST-MODIFIED:20251021T153504Z
UID:10000285-1761033600-1761066000@toledopolice.com
SUMMARY:TMC – No Officers Needed for Court Call In
DESCRIPTION:
URL:https://toledopolice.com/event/tmc-no-officers-needed-for-court-call-in-7/
END:VEVENT
BEGIN:VEVENT
DTSTART;TZID=America/New_York:20251021T080000
DTEND;TZID=America/New_York:20251021T170000
DTSTAMP:20260422T190425
CREATED:20251021T173529Z
LAST-MODIFIED:20251021T173529Z
UID:10000286-1761033600-1761066000@toledopolice.com
SUMMARY:TMC
DESCRIPTION:TMC-No officers are needed for the court call in program.
URL:https://toledopolice.com/event/tmc-75/
END:VEVENT
BEGIN:VEVENT
DTSTART;TZID=America/New_York:20251022T080000
DTEND;TZID=America/New_York:20251022T170000
DTSTAMP:20260422T190425
CREATED:20251015T115324Z
LAST-MODIFIED:20251015T115324Z
UID:10000265-1761120000-1761152400@toledopolice.com
SUMMARY:LCCP DNA
DESCRIPTION:CR2025-00376 10-22-25 0900hrs (#2934\, 2567) 10-14-25 1418hrs #2526
URL:https://toledopolice.com/event/lccp-dna-69/
END:VEVENT
BEGIN:VEVENT
DTSTART;TZID=America/New_York:20251022T080000
DTEND;TZID=America/New_York:20251022T170000
DTSTAMP:20260422T190425
CREATED:20251015T115727Z
LAST-MODIFIED:20251015T115910Z
UID:10000266-1761120000-1761152400@toledopolice.com
SUMMARY:LCCP DNA
DESCRIPTION:CR2025-00540 10-22-25 0900hrs (#8321) 10-14-25 1546hrs #2526
URL:https://toledopolice.com/event/lccp-dna-70/
END:VEVENT
BEGIN:VEVENT
DTSTART;TZID=America/New_York:20251022T080000
DTEND;TZID=America/New_York:20251022T170000
DTSTAMP:20260422T190425
CREATED:20251022T143821Z
LAST-MODIFIED:20251022T143821Z
UID:10000287-1761120000-1761152400@toledopolice.com
SUMMARY:TMC – No Officers Needed for Court Call In
DESCRIPTION:
URL:https://toledopolice.com/event/tmc-no-officers-needed-for-court-call-in-8/
END:VEVENT
BEGIN:VEVENT
DTSTART;TZID=America/New_York:20251023T080000
DTEND;TZID=America/New_York:20251023T170000
DTSTAMP:20260422T190425
CREATED:20251023T171548Z
LAST-MODIFIED:20251023T171548Z
UID:10000288-1761206400-1761238800@toledopolice.com
SUMMARY:TMC
DESCRIPTION:No officers are needed for the court call-in program.
URL:https://toledopolice.com/event/tmc-76/
END:VEVENT
BEGIN:VEVENT
DTSTART;TZID=America/New_York:20251024T080000
DTEND;TZID=America/New_York:20251024T170000
DTSTAMP:20260422T190425
CREATED:20251024T154459Z
LAST-MODIFIED:20251024T154535Z
UID:10000291-1761292800-1761325200@toledopolice.com
SUMMARY:TMC – No officers needed for court call in program
DESCRIPTION:
URL:https://toledopolice.com/event/tmc-no-officers-needed-for-court-call-in-program-6/
END:VEVENT
BEGIN:VEVENT
DTSTART;TZID=America/New_York:20251027T080000
DTEND;TZID=America/New_York:20251027T170000
DTSTAMP:20260422T190425
CREATED:20251015T120432Z
LAST-MODIFIED:20251015T120432Z
UID:10000267-1761552000-1761584400@toledopolice.com
SUMMARY:LCCP DNA
DESCRIPTION:CR2025-00540 10-27-25 0900hrs (#8321) 10-14-25 1546hrs #2526
URL:https://toledopolice.com/event/lccp-dna-71/
END:VEVENT
BEGIN:VEVENT
DTSTART;TZID=America/New_York:20251027T080000
DTEND;TZID=America/New_York:20251027T170000
DTSTAMP:20260422T190425
CREATED:20251016T120349Z
LAST-MODIFIED:20251016T120349Z
UID:10000276-1761552000-1761584400@toledopolice.com
SUMMARY:LCCP DNA
DESCRIPTION:CR2025-00540 10-27-25 0900hrs (#2227\, 2882\, 2636\, 2646\, 2787\, 2985\, 2963\, 2885\, 2684\, 2975\, 2253\, 3006\, 2770\, 2470\, 2978\, 2718\, 2862\, 2988\, 2727\, 2880\, 2752\, 2714\, 2951\, 2833\, 2564\, 3013\, 2498\, 2876\, 2940\, 2970\, 2697\, 3001) 10-15-25 1420hrs #2526
URL:https://toledopolice.com/event/lccp-dna-78/
END:VEVENT
BEGIN:VEVENT
DTSTART;TZID=America/New_York:20251027T080000
DTEND;TZID=America/New_York:20251027T170000
DTSTAMP:20260422T190425
CREATED:20251027T144420Z
LAST-MODIFIED:20251027T144420Z
UID:10000297-1761552000-1761584400@toledopolice.com
SUMMARY:TMC-No officers needed for court call-in program
DESCRIPTION:
URL:https://toledopolice.com/event/tmc-no-officers-needed-for-court-call-in-program-7/
END:VEVENT
BEGIN:VEVENT
DTSTART;TZID=America/New_York:20251027T090000
DTEND;TZID=America/New_York:20251027T090000
DTSTAMP:20260422T190425
CREATED:20251006T155627Z
LAST-MODIFIED:20251006T155627Z
UID:10000245-1761555600-1761555600@toledopolice.com
SUMMARY:LCCP-DNA
DESCRIPTION:CR-2025-01197 10/27/2025 0900hrs. (#2227\,2102\,2890\,2907) 10/06/2025 1156hrs. #2527.
URL:https://toledopolice.com/event/lccp-dna-56/
END:VEVENT
BEGIN:VEVENT
DTSTART;TZID=America/New_York:20251027T090000
DTEND;TZID=America/New_York:20251027T090000
DTSTAMP:20260422T190425
CREATED:20251024T180551Z
LAST-MODIFIED:20251024T180551Z
UID:10000296-1761555600-1761555600@toledopolice.com
SUMMARY:LCCP-DNA
DESCRIPTION:CR2025-00879  10/27/2025 0900hrs. (#2227\,2906\,2750) 10/24/2025 1403hrs. #2527
URL:https://toledopolice.com/event/lccp-dna-86/
END:VEVENT
BEGIN:VEVENT
DTSTART;TZID=America/New_York:20251028T080000
DTEND;TZID=America/New_York:20251028T170000
DTSTAMP:20260422T190425
CREATED:20251015T120533Z
LAST-MODIFIED:20251015T120533Z
UID:10000268-1761638400-1761670800@toledopolice.com
SUMMARY:LCCP DNA
DESCRIPTION:CR2025-00540 10-28-25 0900hrs (#8321) 10-14-25 1546hrs #2526
URL:https://toledopolice.com/event/lccp-dna-72/
END:VEVENT
BEGIN:VEVENT
DTSTART;TZID=America/New_York:20251028T080000
DTEND;TZID=America/New_York:20251028T170000
DTSTAMP:20260422T190425
CREATED:20251016T120439Z
LAST-MODIFIED:20251016T120439Z
UID:10000277-1761638400-1761670800@toledopolice.com
SUMMARY:LCCP DNA
DESCRIPTION:CR2025-00540 10-28-25 0900hrs (#2227\, 2882\, 2636\, 2646\, 2787\, 2985\, 2963\, 2885\, 2684\, 2975\, 2253\, 3006\, 2770\, 2470\, 2978\, 2718\, 2862\, 2988\, 2727\, 2880\, 2752\, 2714\, 2951\, 2833\, 2564\, 3013\, 2498\, 2876\, 2940\, 2970\, 2697\, 3001) 10-15-25 1420hrs #2526
URL:https://toledopolice.com/event/lccp-dna-79/
END:VEVENT
BEGIN:VEVENT
DTSTART;TZID=America/New_York:20251028T080000
DTEND;TZID=America/New_York:20251028T170000
DTSTAMP:20260422T190425
CREATED:20251028T182607Z
LAST-MODIFIED:20251028T182607Z
UID:10000298-1761638400-1761670800@toledopolice.com
SUMMARY:TMC-No officers needed for court call-in program
DESCRIPTION:
URL:https://toledopolice.com/event/tmc-no-officers-needed-for-court-call-in-program-8/
END:VEVENT
BEGIN:VEVENT
DTSTART;TZID=America/New_York:20251028T090000
DTEND;TZID=America/New_York:20251028T090000
DTSTAMP:20260422T190425
CREATED:20251006T155756Z
LAST-MODIFIED:20251006T155756Z
UID:10000246-1761642000-1761642000@toledopolice.com
SUMMARY:LCCP-DNA
DESCRIPTION:CR-2025-01197 10/28/2025 0900HRS. (#2227\,2102\,2890\,2907) 10/06/2025 1157HRS. #2527
URL:https://toledopolice.com/event/lccp-dna-57/
END:VEVENT
BEGIN:VEVENT
DTSTART;TZID=America/New_York:20251028T090000
DTEND;TZID=America/New_York:20251028T090000
DTSTAMP:20260422T190425
CREATED:20251024T180459Z
LAST-MODIFIED:20251024T180459Z
UID:10000295-1761642000-1761642000@toledopolice.com
SUMMARY:LCCP-DNA
DESCRIPTION:CR2025-00879  10/28/2025 0900hrs. (#2227\,2906\,2750) 10/24/2025 1403hrs. #2527
URL:https://toledopolice.com/event/lccp-dna-85/
END:VEVENT
END:VCALENDAR