BEGIN:VCALENDAR
VERSION:2.0
PRODID:-//Toledo Police Department - ECPv6.15.20//NONSGML v1.0//EN
CALSCALE:GREGORIAN
METHOD:PUBLISH
X-ORIGINAL-URL:https://toledopolice.com
X-WR-CALDESC:Events for Toledo Police Department
REFRESH-INTERVAL;VALUE=DURATION:PT1H
X-Robots-Tag:noindex
X-PUBLISHED-TTL:PT1H
BEGIN:VTIMEZONE
TZID:America/New_York
BEGIN:DAYLIGHT
TZOFFSETFROM:-0500
TZOFFSETTO:-0400
TZNAME:EDT
DTSTART:20240310T070000
END:DAYLIGHT
BEGIN:STANDARD
TZOFFSETFROM:-0400
TZOFFSETTO:-0500
TZNAME:EST
DTSTART:20241103T060000
END:STANDARD
BEGIN:DAYLIGHT
TZOFFSETFROM:-0500
TZOFFSETTO:-0400
TZNAME:EDT
DTSTART:20250309T070000
END:DAYLIGHT
BEGIN:STANDARD
TZOFFSETFROM:-0400
TZOFFSETTO:-0500
TZNAME:EST
DTSTART:20251102T060000
END:STANDARD
BEGIN:DAYLIGHT
TZOFFSETFROM:-0500
TZOFFSETTO:-0400
TZNAME:EDT
DTSTART:20260308T070000
END:DAYLIGHT
BEGIN:STANDARD
TZOFFSETFROM:-0400
TZOFFSETTO:-0500
TZNAME:EST
DTSTART:20261101T060000
END:STANDARD
END:VTIMEZONE
BEGIN:VEVENT
DTSTART;TZID=America/New_York:20251030T080000
DTEND;TZID=America/New_York:20251030T170000
DTSTAMP:20260422T190558
CREATED:20251016T120719Z
LAST-MODIFIED:20251016T120719Z
UID:10000279-1761811200-1761843600@toledopolice.com
SUMMARY:LCCP DNA
DESCRIPTION:CR2025-00540 10-30-25 0900hrs (#2227\, 2882\, 2636\, 2646\, 2787\, 2985\, 2963\, 2885\, 2684\, 2975\, 2253\, 3006\, 2770\, 2470\, 2978\, 2718\, 2862\, 2988\, 2727\, 2880\, 2752\, 2714\, 2951\, 2833\, 2564\, 3013\, 2498\, 2876\, 2940\, 2970\, 2697\, 3001) 10-15-25 1420hrs #2526
URL:https://toledopolice.com/event/lccp-dna-81/
END:VEVENT
BEGIN:VEVENT
DTSTART;TZID=America/New_York:20251030T080000
DTEND;TZID=America/New_York:20251030T170000
DTSTAMP:20260422T190558
CREATED:20251030T150754Z
LAST-MODIFIED:20251030T150754Z
UID:10000300-1761811200-1761843600@toledopolice.com
SUMMARY:TMC-No officers needed for the court call-in program
DESCRIPTION:
URL:https://toledopolice.com/event/tmc-no-officers-needed-for-the-court-call-in-program-2/
END:VEVENT
BEGIN:VEVENT
DTSTART;TZID=America/New_York:20251030T090000
DTEND;TZID=America/New_York:20251030T090000
DTSTAMP:20260422T190558
CREATED:20251024T175847Z
LAST-MODIFIED:20251024T180012Z
UID:10000293-1761814800-1761814800@toledopolice.com
SUMMARY:LCCP-DNA
DESCRIPTION:CR2025-00879 10/30/2025 0900HRS. (#2227\,2906\,2750) 10/24/2025 1358 HRS. #2527
URL:https://toledopolice.com/event/lccp-dna-83/
END:VEVENT
BEGIN:VEVENT
DTSTART;TZID=America/New_York:20251031T080000
DTEND;TZID=America/New_York:20251031T170000
DTSTAMP:20260422T190558
CREATED:20251015T121231Z
LAST-MODIFIED:20251015T121231Z
UID:10000271-1761897600-1761930000@toledopolice.com
SUMMARY:LCCP DNA
DESCRIPTION:CR2025-00540 10-31-25 0900hrs (#8321) 10-14-25 1546hrs #2526
URL:https://toledopolice.com/event/lccp-dna-75/
END:VEVENT
BEGIN:VEVENT
DTSTART;TZID=America/New_York:20251031T080000
DTEND;TZID=America/New_York:20251031T170000
DTSTAMP:20260422T190558
CREATED:20251031T145720Z
LAST-MODIFIED:20251031T145720Z
UID:10000305-1761897600-1761930000@toledopolice.com
SUMMARY:TMC-No officers needed for the court call-in program
DESCRIPTION:
URL:https://toledopolice.com/event/tmc-no-officers-needed-for-the-court-call-in-program-3/
END:VEVENT
BEGIN:VEVENT
DTSTART;TZID=America/New_York:20251103T080000
DTEND;TZID=America/New_York:20251103T170000
DTSTAMP:20260422T190558
CREATED:20251103T163734Z
LAST-MODIFIED:20251103T163734Z
UID:10000306-1762156800-1762189200@toledopolice.com
SUMMARY:TMC
DESCRIPTION:TMC-No officers are needed for the court call-in.
URL:https://toledopolice.com/event/tmc-77/
END:VEVENT
BEGIN:VEVENT
DTSTART;TZID=America/New_York:20251103T090000
DTEND;TZID=America/New_York:20251103T090000
DTSTAMP:20260422T190558
CREATED:20251030T180434Z
LAST-MODIFIED:20251030T180434Z
UID:10000303-1762160400-1762160400@toledopolice.com
SUMMARY:LCCMP- DNA
DESCRIPTION:CR2025-00711 11/3/2025  0900hrs. (#2227\,2419\,2482\,2336\,2629) 10/30/2025  1402hrs. #2527
URL:https://toledopolice.com/event/lccmp-dna-7/
END:VEVENT
BEGIN:VEVENT
DTSTART;TZID=America/New_York:20251104T080000
DTEND;TZID=America/New_York:20251104T170000
DTSTAMP:20260422T190558
CREATED:20251110T124634Z
LAST-MODIFIED:20251110T124634Z
UID:10000318-1762243200-1762275600@toledopolice.com
SUMMARY:TMC-No officers needed for court call-in program
DESCRIPTION:
URL:https://toledopolice.com/event/tmc-no-officers-needed-for-court-call-in-program-9/
END:VEVENT
BEGIN:VEVENT
DTSTART;TZID=America/New_York:20251105T080000
DTEND;TZID=America/New_York:20251105T170000
DTSTAMP:20260422T190558
CREATED:20251105T155938Z
LAST-MODIFIED:20251105T155938Z
UID:10000307-1762329600-1762362000@toledopolice.com
SUMMARY:TMC
DESCRIPTION:No officers are needed for court call-in.
URL:https://toledopolice.com/event/tmc-78/
END:VEVENT
BEGIN:VEVENT
DTSTART;TZID=America/New_York:20251106T080000
DTEND;TZID=America/New_York:20251106T170000
DTSTAMP:20260422T190558
CREATED:20251110T124711Z
LAST-MODIFIED:20251110T124711Z
UID:10000319-1762416000-1762448400@toledopolice.com
SUMMARY:TMC-No officers needed for court call-in program
DESCRIPTION:
URL:https://toledopolice.com/event/tmc-no-officers-needed-for-court-call-in-program-10/
END:VEVENT
BEGIN:VEVENT
DTSTART;TZID=America/New_York:20251106T090000
DTEND;TZID=America/New_York:20251106T090000
DTSTAMP:20260422T190558
CREATED:20251030T180527Z
LAST-MODIFIED:20251030T180527Z
UID:10000304-1762419600-1762419600@toledopolice.com
SUMMARY:LCCMP-DNA
DESCRIPTION:CR2025-00711 11/6/2025  0900hrs. (#2227\,2419\,2482\,2336\,2629) 10/30/2025  1402hrs. #2527
URL:https://toledopolice.com/event/lccmp-dna-8/
END:VEVENT
BEGIN:VEVENT
DTSTART;TZID=America/New_York:20251107T080000
DTEND;TZID=America/New_York:20251107T170000
DTSTAMP:20260422T190558
CREATED:20251107T153633Z
LAST-MODIFIED:20251107T154537Z
UID:10000315-1762502400-1762534800@toledopolice.com
SUMMARY:TMC
DESCRIPTION:No officers are needed for court call-in.
URL:https://toledopolice.com/event/tmc-79/
END:VEVENT
BEGIN:VEVENT
DTSTART;TZID=America/New_York:20251110T080000
DTEND;TZID=America/New_York:20251110T170000
DTSTAMP:20260422T190558
CREATED:20251110T124102Z
LAST-MODIFIED:20251110T124854Z
UID:10000316-1762761600-1762794000@toledopolice.com
SUMMARY:LCCP DNA
DESCRIPTION:CR2025-00737 11-10-25 0900hrs (#8321\, 8598\, 2227\, 2337\, 3007\, 2645\, 2770\, 2944\, 2567\, 2881\, 2839\, 2841) 11-10-25 0700hrs #2526
URL:https://toledopolice.com/event/lccp-dna-87/
END:VEVENT
BEGIN:VEVENT
DTSTART;TZID=America/New_York:20251110T080000
DTEND;TZID=America/New_York:20251110T170000
DTSTAMP:20260422T190558
CREATED:20251110T154040Z
LAST-MODIFIED:20251110T154040Z
UID:10000320-1762761600-1762794000@toledopolice.com
SUMMARY:TMC-No officers needed for court call-in program
DESCRIPTION:
URL:https://toledopolice.com/event/tmc-no-officers-needed-for-court-call-in-program-11/
END:VEVENT
BEGIN:VEVENT
DTSTART;TZID=America/New_York:20251111T080000
DTEND;TZID=America/New_York:20251111T170000
DTSTAMP:20260422T190558
CREATED:20251113T133132Z
LAST-MODIFIED:20251113T133132Z
UID:10000321-1762848000-1762880400@toledopolice.com
SUMMARY:TMC-No officers needed for court call-in program
DESCRIPTION:
URL:https://toledopolice.com/event/tmc-no-officers-needed-for-court-call-in-program-12/
END:VEVENT
BEGIN:VEVENT
DTSTART;TZID=America/New_York:20251111T090000
DTEND;TZID=America/New_York:20251111T090000
DTSTAMP:20260422T190558
CREATED:20251024T161416Z
LAST-MODIFIED:20251024T161442Z
UID:10000292-1762851600-1762851600@toledopolice.com
SUMMARY:LCCMP- DNA
DESCRIPTION:CR2025-00923  11/11/2025 0900hrs (#2901\,2972\,2868\,2694\,2885)  10/24/2025 1213hrs #2527
URL:https://toledopolice.com/event/lccmp-dna-4/
END:VEVENT
BEGIN:VEVENT
DTSTART;TZID=America/New_York:20251112T080000
DTEND;TZID=America/New_York:20251112T170000
DTSTAMP:20260422T190558
CREATED:20251110T124539Z
LAST-MODIFIED:20251110T124942Z
UID:10000317-1762934400-1762966800@toledopolice.com
SUMMARY:LCCP DNA
DESCRIPTION:CR2025-00737 11-12-25 0900hrs (#8321\, 8598\, 2227\, 2337\, 3007\, 2645\, 2770\, 2944\, 2567\, 2881\, 2839\, 2841) 11-10-25 0700hrs #2526
URL:https://toledopolice.com/event/lccp-dna-88/
END:VEVENT
BEGIN:VEVENT
DTSTART;TZID=America/New_York:20251112T080000
DTEND;TZID=America/New_York:20251112T170000
DTSTAMP:20260422T190558
CREATED:20251113T133204Z
LAST-MODIFIED:20251113T133204Z
UID:10000322-1762934400-1762966800@toledopolice.com
SUMMARY:TMC-No officers needed for court call-in program
DESCRIPTION:
URL:https://toledopolice.com/event/tmc-no-officers-needed-for-court-call-in-program-13/
END:VEVENT
BEGIN:VEVENT
DTSTART;TZID=America/New_York:20251113T080000
DTEND;TZID=America/New_York:20251113T170000
DTSTAMP:20260422T190558
CREATED:20251125T180533Z
LAST-MODIFIED:20251125T180533Z
UID:10000334-1763020800-1763053200@toledopolice.com
SUMMARY:TMC-No officers needed for court call-in program
DESCRIPTION:
URL:https://toledopolice.com/event/tmc-no-officers-needed-for-court-call-in-program-18/
END:VEVENT
BEGIN:VEVENT
DTSTART;TZID=America/New_York:20251114T080000
DTEND;TZID=America/New_York:20251114T170000
DTSTAMP:20260422T190558
CREATED:20251125T180558Z
LAST-MODIFIED:20251125T180558Z
UID:10000335-1763107200-1763139600@toledopolice.com
SUMMARY:TMC-No officers needed for court call-in program
DESCRIPTION:
URL:https://toledopolice.com/event/tmc-no-officers-needed-for-court-call-in-program-19/
END:VEVENT
BEGIN:VEVENT
DTSTART;TZID=America/New_York:20251117T080000
DTEND;TZID=America/New_York:20251117T170000
DTSTAMP:20260422T190558
CREATED:20251113T134106Z
LAST-MODIFIED:20251113T134106Z
UID:10000323-1763366400-1763398800@toledopolice.com
SUMMARY:LCCP DNA
DESCRIPTION:CR2025-00271 11-17-25 0900hrs (#2817\, 2569) 11-12-25 1606hrs #2526
URL:https://toledopolice.com/event/lccp-dna-89/
END:VEVENT
BEGIN:VEVENT
DTSTART;TZID=America/New_York:20251117T080000
DTEND;TZID=America/New_York:20251117T170000
DTSTAMP:20260422T190558
CREATED:20251125T180741Z
LAST-MODIFIED:20251125T180741Z
UID:10000336-1763366400-1763398800@toledopolice.com
SUMMARY:TMC-No officers needed for court call-in program
DESCRIPTION:
URL:https://toledopolice.com/event/tmc-no-officers-needed-for-court-call-in-program-20/
END:VEVENT
BEGIN:VEVENT
DTSTART;TZID=America/New_York:20251117T090000
DTEND;TZID=America/New_York:20251117T090000
DTSTAMP:20260422T190558
CREATED:20251030T154009Z
LAST-MODIFIED:20251107T134010Z
UID:10000301-1763370000-1763370000@toledopolice.com
SUMMARY:LCCMP DNA
DESCRIPTION:CR2025-00799  11/17/2025 0900hrs. (#2227\,2226\,2407) 10/30/2025  1139hrs. #2527
URL:https://toledopolice.com/event/lccmp-dna-5/
END:VEVENT
BEGIN:VEVENT
DTSTART;TZID=America/New_York:20251117T090000
DTEND;TZID=America/New_York:20251117T090000
DTSTAMP:20260422T190558
CREATED:20251105T180011Z
LAST-MODIFIED:20251105T180011Z
UID:10000308-1763370000-1763370000@toledopolice.com
SUMMARY:LCCMP- DNA
DESCRIPTION:CR2025-00540 11/17/2025  0900hrs (#2285) 11/05/2025  1258 hrs.
URL:https://toledopolice.com/event/lccmp-dna-9/
END:VEVENT
BEGIN:VEVENT
DTSTART;TZID=America/New_York:20251117T130000
DTEND;TZID=America/New_York:20251117T130000
DTSTAMP:20260422T190558
CREATED:20251107T133352Z
LAST-MODIFIED:20251107T133352Z
UID:10000313-1763384400-1763384400@toledopolice.com
SUMMARY:LCCMP - DNA
DESCRIPTION:CR2025-00640 11/17/2025 1300hrs (#2227\,2172) 11/07/2025 0833 hrs. #2527
URL:https://toledopolice.com/event/lccmp-dna-14/
END:VEVENT
BEGIN:VEVENT
DTSTART;TZID=America/New_York:20251118T080000
DTEND;TZID=America/New_York:20251118T170000
DTSTAMP:20260422T190558
CREATED:20251113T151458Z
LAST-MODIFIED:20251113T151458Z
UID:10000324-1763452800-1763485200@toledopolice.com
SUMMARY:LCCP DNA
DESCRIPTION:CR2025-01251 11-18-25 0900hrs (#2330\, 2810\, 2227\, 2725) 11-13-25 0929hrs #2526
URL:https://toledopolice.com/event/lccp-dna-90/
END:VEVENT
BEGIN:VEVENT
DTSTART;TZID=America/New_York:20251118T080000
DTEND;TZID=America/New_York:20251118T170000
DTSTAMP:20260422T190558
CREATED:20251118T160821Z
LAST-MODIFIED:20251118T160953Z
UID:10000327-1763452800-1763485200@toledopolice.com
SUMMARY:TMC
DESCRIPTION:No officers are needed for court call-in.
URL:https://toledopolice.com/event/tmc-80/
END:VEVENT
BEGIN:VEVENT
DTSTART;TZID=America/New_York:20251118T090000
DTEND;TZID=America/New_York:20251118T090000
DTSTAMP:20260422T190558
CREATED:20251030T154431Z
LAST-MODIFIED:20251030T154431Z
UID:10000302-1763456400-1763456400@toledopolice.com
SUMMARY:LCCMP - DNA
DESCRIPTION:CR2025-00799  11/18/2025 0900HRS. (#2227\,2226\,2407) 1144HRS. 10/30/2025 #2527
URL:https://toledopolice.com/event/lccmp-dna-6/
END:VEVENT
BEGIN:VEVENT
DTSTART;TZID=America/New_York:20251118T090000
DTEND;TZID=America/New_York:20251118T090000
DTSTAMP:20260422T190558
CREATED:20251105T181248Z
LAST-MODIFIED:20251105T181248Z
UID:10000310-1763456400-1763456400@toledopolice.com
SUMMARY:LCCMP-DNA
DESCRIPTION:CR2025-00540  11/18/2025 0900hrs (#2885) 11/05/2025 1312hrs #2527
URL:https://toledopolice.com/event/lccmp-dna-11/
END:VEVENT
BEGIN:VEVENT
DTSTART;TZID=America/New_York:20251118T130000
DTEND;TZID=America/New_York:20251118T130000
DTSTAMP:20260422T190558
CREATED:20251107T134119Z
LAST-MODIFIED:20251107T134410Z
UID:10000314-1763470800-1763470800@toledopolice.com
SUMMARY:LCCMP-DNA
DESCRIPTION:CR2025-00640 11/18/2025 1300hrs (#2227\,2172) 11/07/2025 0833 hrs. #2527
URL:https://toledopolice.com/event/lccmp-dna-15/
END:VEVENT
END:VCALENDAR