BEGIN:VCALENDAR
VERSION:2.0
PRODID:-//Toledo Police Department - ECPv6.15.20//NONSGML v1.0//EN
CALSCALE:GREGORIAN
METHOD:PUBLISH
X-WR-CALNAME:Toledo Police Department
X-ORIGINAL-URL:https://toledopolice.com
X-WR-CALDESC:Events for Toledo Police Department
REFRESH-INTERVAL;VALUE=DURATION:PT1H
X-Robots-Tag:noindex
X-PUBLISHED-TTL:PT1H
BEGIN:VTIMEZONE
TZID:America/New_York
BEGIN:DAYLIGHT
TZOFFSETFROM:-0500
TZOFFSETTO:-0400
TZNAME:EDT
DTSTART:20240310T070000
END:DAYLIGHT
BEGIN:STANDARD
TZOFFSETFROM:-0400
TZOFFSETTO:-0500
TZNAME:EST
DTSTART:20241103T060000
END:STANDARD
BEGIN:DAYLIGHT
TZOFFSETFROM:-0500
TZOFFSETTO:-0400
TZNAME:EDT
DTSTART:20250309T070000
END:DAYLIGHT
BEGIN:STANDARD
TZOFFSETFROM:-0400
TZOFFSETTO:-0500
TZNAME:EST
DTSTART:20251102T060000
END:STANDARD
BEGIN:DAYLIGHT
TZOFFSETFROM:-0500
TZOFFSETTO:-0400
TZNAME:EDT
DTSTART:20260308T070000
END:DAYLIGHT
BEGIN:STANDARD
TZOFFSETFROM:-0400
TZOFFSETTO:-0500
TZNAME:EST
DTSTART:20261101T060000
END:STANDARD
BEGIN:DAYLIGHT
TZOFFSETFROM:-0500
TZOFFSETTO:-0400
TZNAME:EDT
DTSTART:20270314T070000
END:DAYLIGHT
BEGIN:STANDARD
TZOFFSETFROM:-0400
TZOFFSETTO:-0500
TZNAME:EST
DTSTART:20271107T060000
END:STANDARD
END:VTIMEZONE
BEGIN:VEVENT
DTSTART;TZID=America/New_York:20251216T080000
DTEND;TZID=America/New_York:20251216T170000
DTSTAMP:20260423T001551
CREATED:20251211T175955Z
LAST-MODIFIED:20251211T175955Z
UID:10000353-1765872000-1765904400@toledopolice.com
SUMMARY:LCCP DNA
DESCRIPTION:CR2025-00724 12-16-25 0900hrs (#2922\, 2857\, 2995\, 2881\, 2944\, 2856\, 2084\, 2883\, 2920) 12-11-25 0956hrs #2526
URL:https://toledopolice.com/event/lccp-dna-101/
END:VEVENT
BEGIN:VEVENT
DTSTART;TZID=America/New_York:20251216T080000
DTEND;TZID=America/New_York:20251216T170000
DTSTAMP:20260423T001551
CREATED:20251211T180526Z
LAST-MODIFIED:20251211T180526Z
UID:10000355-1765872000-1765904400@toledopolice.com
SUMMARY:LCCP DNA
DESCRIPTION:CR2025-01205 12-16-25 0900hrs (#2877\, 2769) 12-11-25 0956hrs #2526
URL:https://toledopolice.com/event/lccp-dna-103/
END:VEVENT
BEGIN:VEVENT
DTSTART;TZID=America/New_York:20251216T080000
DTEND;TZID=America/New_York:20251216T170000
DTSTAMP:20260423T001551
CREATED:20251211T182020Z
LAST-MODIFIED:20251211T182020Z
UID:10000358-1765872000-1765904400@toledopolice.com
SUMMARY:LCCP DNA
DESCRIPTION:CR2025-01268 12-16-25 0900hrs (#2227\, 3021\, 3015\, 2530\, 2501\, 2550) 12-11-25 1017hrs #2526
URL:https://toledopolice.com/event/lccp-dna-106/
END:VEVENT
BEGIN:VEVENT
DTSTART;TZID=America/New_York:20251216T080000
DTEND;TZID=America/New_York:20251216T170000
DTSTAMP:20260423T001551
CREATED:20251216T162811Z
LAST-MODIFIED:20251216T162811Z
UID:10000362-1765872000-1765904400@toledopolice.com
SUMMARY:TMC-No officers needed for court call-in program
DESCRIPTION:
URL:https://toledopolice.com/event/tmc-no-officers-needed-for-court-call-in-program-26/
END:VEVENT
BEGIN:VEVENT
DTSTART;TZID=America/New_York:20251217T080000
DTEND;TZID=America/New_York:20251217T170000
DTSTAMP:20260423T001551
CREATED:20251211T180601Z
LAST-MODIFIED:20251211T180601Z
UID:10000356-1765958400-1765990800@toledopolice.com
SUMMARY:LCCP DNA
DESCRIPTION:CR2025-01205 12-17-25 0900hrs (#2877\, 2769) 12-11-25 0956hrs #2526
URL:https://toledopolice.com/event/lccp-dna-104/
END:VEVENT
BEGIN:VEVENT
DTSTART;TZID=America/New_York:20251217T080000
DTEND;TZID=America/New_York:20251217T170000
DTSTAMP:20260423T001551
CREATED:20251217T174208Z
LAST-MODIFIED:20251217T174208Z
UID:10000363-1765958400-1765990800@toledopolice.com
SUMMARY:TMC-No officers needed for court call-in program
DESCRIPTION:
URL:https://toledopolice.com/event/tmc-no-officers-needed-for-court-call-in-program-27/
END:VEVENT
BEGIN:VEVENT
DTSTART;TZID=America/New_York:20251218T080000
DTEND;TZID=America/New_York:20251218T170000
DTSTAMP:20260423T001551
CREATED:20251218T174112Z
LAST-MODIFIED:20251218T174112Z
UID:10000369-1766044800-1766077200@toledopolice.com
SUMMARY:TMC - No officers needed for court call in program
DESCRIPTION:
URL:https://toledopolice.com/event/tmc-no-officers-needed-for-court-call-in-program-30/
END:VEVENT
BEGIN:VEVENT
DTSTART;TZID=America/New_York:20251218T080000
DTEND;TZID=America/New_York:20251218T170000
DTSTAMP:20260423T001551
CREATED:20251218T191612Z
LAST-MODIFIED:20251218T191612Z
UID:10000370-1766044800-1766077200@toledopolice.com
SUMMARY:LCCMP-DNA
DESCRIPTION:CR2025-01473  0900HRS. (#2227\,2709\,2849\,3008\,2703\,3001) 12/18/2025 1416HRS.
URL:https://toledopolice.com/event/lccmp-dna-16/
END:VEVENT
BEGIN:VEVENT
DTSTART;TZID=America/New_York:20251219T080000
DTEND;TZID=America/New_York:20251219T170000
DTSTAMP:20260423T001551
CREATED:20251211T181532Z
LAST-MODIFIED:20251211T181532Z
UID:10000357-1766131200-1766163600@toledopolice.com
SUMMARY:LCCP DNA
DESCRIPTION:CR2025-00362 12-19-25 0930hrs (#3009) 12-11-25 1037 #2526 \nCR2025-00363 12-19-25 0930hrs (#3009) 12-11-25 1037 #2526 \nCR2025-00364 12-19-25 0930hrs (#3009) 12-11-25 1037 #2526 \nCR2025-00365 12-19-25 0930hrs (#3009) 12-11-25 1037 #2526
URL:https://toledopolice.com/event/lccp-dna-105/
END:VEVENT
BEGIN:VEVENT
DTSTART;TZID=America/New_York:20251219T080000
DTEND;TZID=America/New_York:20251219T170000
DTSTAMP:20260423T001551
CREATED:20251219T162637Z
LAST-MODIFIED:20251219T162637Z
UID:10000371-1766131200-1766163600@toledopolice.com
SUMMARY:TMC-No officers needed for court call-in program
DESCRIPTION:
URL:https://toledopolice.com/event/tmc-no-officers-needed-for-court-call-in-program-31/
END:VEVENT
BEGIN:VEVENT
DTSTART;TZID=America/New_York:20251219T080000
DTEND;TZID=America/New_York:20251219T170000
DTSTAMP:20260423T001551
CREATED:20251219T185014Z
LAST-MODIFIED:20251219T185014Z
UID:10000372-1766131200-1766163600@toledopolice.com
SUMMARY:LCCP DNA
DESCRIPTION:CR2025-01082 12-19-25 0900hrs (#3017\, 2697\, 2893\, 3034\, 2227) 12-19-25 1331hrs #2526
URL:https://toledopolice.com/event/lccp-dna-111/
END:VEVENT
BEGIN:VEVENT
DTSTART;TZID=America/New_York:20251222T080000
DTEND;TZID=America/New_York:20251222T170000
DTSTAMP:20260423T001551
CREATED:20251222T164159Z
LAST-MODIFIED:20251222T164159Z
UID:10000377-1766390400-1766422800@toledopolice.com
SUMMARY:TMC - No officers needed for court call in program
DESCRIPTION:
URL:https://toledopolice.com/event/tmc-no-officers-needed-for-court-call-in-program-32/
END:VEVENT
BEGIN:VEVENT
DTSTART;TZID=America/New_York:20251223T080000
DTEND;TZID=America/New_York:20251223T170000
DTSTAMP:20260423T001551
CREATED:20251223T160612Z
LAST-MODIFIED:20251223T160612Z
UID:10000381-1766476800-1766509200@toledopolice.com
SUMMARY:TMC - No officers needed for Court Call In Program
DESCRIPTION:
URL:https://toledopolice.com/event/tmc-no-officers-needed-for-court-call-in-program-33/
END:VEVENT
BEGIN:VEVENT
DTSTART;TZID=America/New_York:20251226T080000
DTEND;TZID=America/New_York:20251226T170000
DTSTAMP:20260423T001551
CREATED:20251226T154310Z
LAST-MODIFIED:20251226T154310Z
UID:10000382-1766736000-1766768400@toledopolice.com
SUMMARY:TMC - No officers needed for court call in program
DESCRIPTION:
URL:https://toledopolice.com/event/tmc-no-officers-needed-for-court-call-in-program-34/
END:VEVENT
BEGIN:VEVENT
DTSTART;TZID=America/New_York:20251229T080000
DTEND;TZID=America/New_York:20251229T170000
DTSTAMP:20260423T001551
CREATED:20251222T191923Z
LAST-MODIFIED:20251222T191923Z
UID:10000378-1766995200-1767027600@toledopolice.com
SUMMARY:LCCP DNA
DESCRIPTION:CR2025-01470 12-29-25 0900hrs (#2716\, 2799) 12-22-25 0914hrs #2526
URL:https://toledopolice.com/event/lccp-dna-116/
END:VEVENT
BEGIN:VEVENT
DTSTART;TZID=America/New_York:20251229T080000
DTEND;TZID=America/New_York:20251229T170000
DTSTAMP:20260423T001551
CREATED:20251229T161132Z
LAST-MODIFIED:20251229T161132Z
UID:10000383-1766995200-1767027600@toledopolice.com
SUMMARY:TMC
DESCRIPTION:TMC-No officers are needed for court call-in.
URL:https://toledopolice.com/event/tmc-88/
END:VEVENT
BEGIN:VEVENT
DTSTART;TZID=America/New_York:20251229T080000
DTEND;TZID=America/New_York:20251229T170000
DTSTAMP:20260423T001551
CREATED:20251229T161456Z
LAST-MODIFIED:20251229T161456Z
UID:10000384-1766995200-1767027600@toledopolice.com
SUMMARY:TMC - No officers needed for court call in
DESCRIPTION:
URL:https://toledopolice.com/event/tmc-no-officers-needed-for-court-call-in-9/
END:VEVENT
BEGIN:VEVENT
DTSTART;TZID=America/New_York:20251230T080000
DTEND;TZID=America/New_York:20251230T170000
DTSTAMP:20260423T001551
CREATED:20251230T155348Z
LAST-MODIFIED:20251230T155348Z
UID:10000390-1767081600-1767114000@toledopolice.com
SUMMARY:TMC – No officers needed for court call in
DESCRIPTION:
URL:https://toledopolice.com/event/tmc-no-officers-needed-for-court-call-in-10/
END:VEVENT
BEGIN:VEVENT
DTSTART;TZID=America/New_York:20251230T080000
DTEND;TZID=America/New_York:20251230T170000
DTSTAMP:20260423T001551
CREATED:20251230T194108Z
LAST-MODIFIED:20251230T194108Z
UID:10000400-1767081600-1767114000@toledopolice.com
SUMMARY:LCCP DNA
DESCRIPTION:CR2024-02499 1-27-26 0900hrs (#2336\, 2227\, 2513\, 2652\, 2958\, 2550\, 2809) 12-3-25 1332hrs #2526
URL:https://toledopolice.com/event/lccp-dna-133/
END:VEVENT
BEGIN:VEVENT
DTSTART;TZID=America/New_York:20251231T080000
DTEND;TZID=America/New_York:20251231T170000
DTSTAMP:20260423T001551
CREATED:20251231T162547Z
LAST-MODIFIED:20251231T162547Z
UID:10000411-1767168000-1767200400@toledopolice.com
SUMMARY:TMC-No officers needed for court call-in program
DESCRIPTION:
URL:https://toledopolice.com/event/tmc-no-officers-needed-for-court-call-in-program-35/
END:VEVENT
BEGIN:VEVENT
DTSTART;TZID=America/New_York:20260102T080000
DTEND;TZID=America/New_York:20260102T170000
DTSTAMP:20260423T001551
CREATED:20251219T185107Z
LAST-MODIFIED:20251219T185107Z
UID:10000373-1767340800-1767373200@toledopolice.com
SUMMARY:LCCP DNA
DESCRIPTION:CR2025-01082 1-2-26 0900hrs (#3017\, 2697\, 2893\, 3034\, 2227) 12-19-25 1331hrs #2526
URL:https://toledopolice.com/event/lccp-dna-112/
END:VEVENT
BEGIN:VEVENT
DTSTART;TZID=America/New_York:20260102T080000
DTEND;TZID=America/New_York:20260102T170000
DTSTAMP:20260423T001551
CREATED:20260102T162635Z
LAST-MODIFIED:20260102T162635Z
UID:10000412-1767340800-1767373200@toledopolice.com
SUMMARY:TMC-No officers needed for court call-in program
DESCRIPTION:
URL:https://toledopolice.com/event/tmc-no-officers-needed-for-court-call-in-program-36/
END:VEVENT
BEGIN:VEVENT
DTSTART;TZID=America/New_York:20260105T080000
DTEND;TZID=America/New_York:20260105T170000
DTSTAMP:20260423T001551
CREATED:20251231T133309Z
LAST-MODIFIED:20251231T133309Z
UID:10000405-1767600000-1767632400@toledopolice.com
SUMMARY:LCCP DNA
DESCRIPTION:CR2025-01470 1-5-26 0930hrs (#2799\, 2863\, 2869\, 2926\, 3040\, 2716\, 3036\, 2274) 12-30-25 1647hrs #2526
URL:https://toledopolice.com/event/lccp-dna-137/
END:VEVENT
BEGIN:VEVENT
DTSTART;TZID=America/New_York:20260105T080000
DTEND;TZID=America/New_York:20260105T170000
DTSTAMP:20260423T001551
CREATED:20260105T151837Z
LAST-MODIFIED:20260105T152013Z
UID:10000413-1767600000-1767632400@toledopolice.com
SUMMARY:LCCP-DNA
DESCRIPTION:CR2025-01177  01/06/2026 0900hrs. (#2700\,2569\,2804)   01/05/2026  1017hrs. #2527
URL:https://toledopolice.com/event/lccp-dna-143/
END:VEVENT
BEGIN:VEVENT
DTSTART;TZID=America/New_York:20260105T080000
DTEND;TZID=America/New_York:20260105T170000
DTSTAMP:20260423T001551
CREATED:20260106T150309Z
LAST-MODIFIED:20260106T150309Z
UID:10000417-1767600000-1767632400@toledopolice.com
SUMMARY:TMC
DESCRIPTION:No officers are needed for court call-in.
URL:https://toledopolice.com/event/tmc-90/
END:VEVENT
BEGIN:VEVENT
DTSTART;TZID=America/New_York:20260106T080000
DTEND;TZID=America/New_York:20260106T170000
DTSTAMP:20260423T001551
CREATED:20251219T185139Z
LAST-MODIFIED:20251219T185139Z
UID:10000374-1767686400-1767718800@toledopolice.com
SUMMARY:LCCP DNA
DESCRIPTION:CR2025-01082 1-6-26 0900hrs (#3017\, 2697\, 2893\, 3034\, 2227) 12-19-25 1331hrs #2526
URL:https://toledopolice.com/event/lccp-dna-113/
END:VEVENT
BEGIN:VEVENT
DTSTART;TZID=America/New_York:20260106T080000
DTEND;TZID=America/New_York:20260106T170000
DTSTAMP:20260423T001551
CREATED:20251222T192131Z
LAST-MODIFIED:20251222T192131Z
UID:10000379-1767686400-1767718800@toledopolice.com
SUMMARY:LCCP DNA
DESCRIPTION:CR2025-00604 01-06-26 1030hrs (#2630) 12-22-25 1008hrs #2526
URL:https://toledopolice.com/event/lccp-dna-117/
END:VEVENT
BEGIN:VEVENT
DTSTART;TZID=America/New_York:20260106T080000
DTEND;TZID=America/New_York:20260106T170000
DTSTAMP:20260423T001551
CREATED:20251231T133222Z
LAST-MODIFIED:20251231T133222Z
UID:10000404-1767686400-1767718800@toledopolice.com
SUMMARY:LCCP DNA
DESCRIPTION:CR2025-01470 1-6-26 0930hrs (#2799\, 2863\, 2869\, 2926\, 3040\, 2716\, 3036\, 2274) 12-30-25 1647hrs #2526
URL:https://toledopolice.com/event/lccp-dna-136/
END:VEVENT
BEGIN:VEVENT
DTSTART;TZID=America/New_York:20260106T080000
DTEND;TZID=America/New_York:20260106T170000
DTSTAMP:20260423T001551
CREATED:20260105T170334Z
LAST-MODIFIED:20260105T170334Z
UID:10000414-1767686400-1767718800@toledopolice.com
SUMMARY:LCCP DNA
DESCRIPTION:CR2025-01253 1-6-26 0930hrs (#2903\, 3015\, 3032\, 2750\, 2880\, 2876\, 2349\, 2976\, 2642\, 2882\, 2749\, 2227) 1-5-26 1153hrs #2526
URL:https://toledopolice.com/event/lccp-dna-144/
END:VEVENT
BEGIN:VEVENT
DTSTART;TZID=America/New_York:20260106T080000
DTEND;TZID=America/New_York:20260106T170000
DTSTAMP:20260423T001551
CREATED:20260106T150220Z
LAST-MODIFIED:20260106T150220Z
UID:10000416-1767686400-1767718800@toledopolice.com
SUMMARY:TMC
DESCRIPTION:No officers are needed for court call-in.
URL:https://toledopolice.com/event/tmc-89/
END:VEVENT
END:VCALENDAR