BEGIN:VCALENDAR
VERSION:2.0
PRODID:-//Toledo Police Department - ECPv6.15.20//NONSGML v1.0//EN
CALSCALE:GREGORIAN
METHOD:PUBLISH
X-WR-CALNAME:Toledo Police Department
X-ORIGINAL-URL:https://toledopolice.com
X-WR-CALDESC:Events for Toledo Police Department
REFRESH-INTERVAL;VALUE=DURATION:PT1H
X-Robots-Tag:noindex
X-PUBLISHED-TTL:PT1H
BEGIN:VTIMEZONE
TZID:America/New_York
BEGIN:DAYLIGHT
TZOFFSETFROM:-0500
TZOFFSETTO:-0400
TZNAME:EDT
DTSTART:20240310T070000
END:DAYLIGHT
BEGIN:STANDARD
TZOFFSETFROM:-0400
TZOFFSETTO:-0500
TZNAME:EST
DTSTART:20241103T060000
END:STANDARD
BEGIN:DAYLIGHT
TZOFFSETFROM:-0500
TZOFFSETTO:-0400
TZNAME:EDT
DTSTART:20250309T070000
END:DAYLIGHT
BEGIN:STANDARD
TZOFFSETFROM:-0400
TZOFFSETTO:-0500
TZNAME:EST
DTSTART:20251102T060000
END:STANDARD
BEGIN:DAYLIGHT
TZOFFSETFROM:-0500
TZOFFSETTO:-0400
TZNAME:EDT
DTSTART:20260308T070000
END:DAYLIGHT
BEGIN:STANDARD
TZOFFSETFROM:-0400
TZOFFSETTO:-0500
TZNAME:EST
DTSTART:20261101T060000
END:STANDARD
BEGIN:DAYLIGHT
TZOFFSETFROM:-0500
TZOFFSETTO:-0400
TZNAME:EDT
DTSTART:20270314T070000
END:DAYLIGHT
BEGIN:STANDARD
TZOFFSETFROM:-0400
TZOFFSETTO:-0500
TZNAME:EST
DTSTART:20271107T060000
END:STANDARD
END:VTIMEZONE
BEGIN:VEVENT
DTSTART;TZID=America/New_York:20251230T080000
DTEND;TZID=America/New_York:20251230T170000
DTSTAMP:20260423T000443
CREATED:20251230T155348Z
LAST-MODIFIED:20251230T155348Z
UID:10000390-1767081600-1767114000@toledopolice.com
SUMMARY:TMC – No officers needed for court call in
DESCRIPTION:
URL:https://toledopolice.com/event/tmc-no-officers-needed-for-court-call-in-10/
END:VEVENT
BEGIN:VEVENT
DTSTART;TZID=America/New_York:20251230T080000
DTEND;TZID=America/New_York:20251230T170000
DTSTAMP:20260423T000443
CREATED:20251230T194108Z
LAST-MODIFIED:20251230T194108Z
UID:10000400-1767081600-1767114000@toledopolice.com
SUMMARY:LCCP DNA
DESCRIPTION:CR2024-02499 1-27-26 0900hrs (#2336\, 2227\, 2513\, 2652\, 2958\, 2550\, 2809) 12-3-25 1332hrs #2526
URL:https://toledopolice.com/event/lccp-dna-133/
END:VEVENT
BEGIN:VEVENT
DTSTART;TZID=America/New_York:20251231T080000
DTEND;TZID=America/New_York:20251231T170000
DTSTAMP:20260423T000443
CREATED:20251231T162547Z
LAST-MODIFIED:20251231T162547Z
UID:10000411-1767168000-1767200400@toledopolice.com
SUMMARY:TMC-No officers needed for court call-in program
DESCRIPTION:
URL:https://toledopolice.com/event/tmc-no-officers-needed-for-court-call-in-program-35/
END:VEVENT
BEGIN:VEVENT
DTSTART;TZID=America/New_York:20260102T080000
DTEND;TZID=America/New_York:20260102T170000
DTSTAMP:20260423T000443
CREATED:20251219T185107Z
LAST-MODIFIED:20251219T185107Z
UID:10000373-1767340800-1767373200@toledopolice.com
SUMMARY:LCCP DNA
DESCRIPTION:CR2025-01082 1-2-26 0900hrs (#3017\, 2697\, 2893\, 3034\, 2227) 12-19-25 1331hrs #2526
URL:https://toledopolice.com/event/lccp-dna-112/
END:VEVENT
BEGIN:VEVENT
DTSTART;TZID=America/New_York:20260102T080000
DTEND;TZID=America/New_York:20260102T170000
DTSTAMP:20260423T000443
CREATED:20260102T162635Z
LAST-MODIFIED:20260102T162635Z
UID:10000412-1767340800-1767373200@toledopolice.com
SUMMARY:TMC-No officers needed for court call-in program
DESCRIPTION:
URL:https://toledopolice.com/event/tmc-no-officers-needed-for-court-call-in-program-36/
END:VEVENT
BEGIN:VEVENT
DTSTART;TZID=America/New_York:20260105T080000
DTEND;TZID=America/New_York:20260105T170000
DTSTAMP:20260423T000443
CREATED:20251231T133309Z
LAST-MODIFIED:20251231T133309Z
UID:10000405-1767600000-1767632400@toledopolice.com
SUMMARY:LCCP DNA
DESCRIPTION:CR2025-01470 1-5-26 0930hrs (#2799\, 2863\, 2869\, 2926\, 3040\, 2716\, 3036\, 2274) 12-30-25 1647hrs #2526
URL:https://toledopolice.com/event/lccp-dna-137/
END:VEVENT
BEGIN:VEVENT
DTSTART;TZID=America/New_York:20260105T080000
DTEND;TZID=America/New_York:20260105T170000
DTSTAMP:20260423T000443
CREATED:20260105T151837Z
LAST-MODIFIED:20260105T152013Z
UID:10000413-1767600000-1767632400@toledopolice.com
SUMMARY:LCCP-DNA
DESCRIPTION:CR2025-01177  01/06/2026 0900hrs. (#2700\,2569\,2804)   01/05/2026  1017hrs. #2527
URL:https://toledopolice.com/event/lccp-dna-143/
END:VEVENT
BEGIN:VEVENT
DTSTART;TZID=America/New_York:20260105T080000
DTEND;TZID=America/New_York:20260105T170000
DTSTAMP:20260423T000443
CREATED:20260106T150309Z
LAST-MODIFIED:20260106T150309Z
UID:10000417-1767600000-1767632400@toledopolice.com
SUMMARY:TMC
DESCRIPTION:No officers are needed for court call-in.
URL:https://toledopolice.com/event/tmc-90/
END:VEVENT
BEGIN:VEVENT
DTSTART;TZID=America/New_York:20260106T080000
DTEND;TZID=America/New_York:20260106T170000
DTSTAMP:20260423T000443
CREATED:20251219T185139Z
LAST-MODIFIED:20251219T185139Z
UID:10000374-1767686400-1767718800@toledopolice.com
SUMMARY:LCCP DNA
DESCRIPTION:CR2025-01082 1-6-26 0900hrs (#3017\, 2697\, 2893\, 3034\, 2227) 12-19-25 1331hrs #2526
URL:https://toledopolice.com/event/lccp-dna-113/
END:VEVENT
BEGIN:VEVENT
DTSTART;TZID=America/New_York:20260106T080000
DTEND;TZID=America/New_York:20260106T170000
DTSTAMP:20260423T000443
CREATED:20251222T192131Z
LAST-MODIFIED:20251222T192131Z
UID:10000379-1767686400-1767718800@toledopolice.com
SUMMARY:LCCP DNA
DESCRIPTION:CR2025-00604 01-06-26 1030hrs (#2630) 12-22-25 1008hrs #2526
URL:https://toledopolice.com/event/lccp-dna-117/
END:VEVENT
BEGIN:VEVENT
DTSTART;TZID=America/New_York:20260106T080000
DTEND;TZID=America/New_York:20260106T170000
DTSTAMP:20260423T000443
CREATED:20251231T133222Z
LAST-MODIFIED:20251231T133222Z
UID:10000404-1767686400-1767718800@toledopolice.com
SUMMARY:LCCP DNA
DESCRIPTION:CR2025-01470 1-6-26 0930hrs (#2799\, 2863\, 2869\, 2926\, 3040\, 2716\, 3036\, 2274) 12-30-25 1647hrs #2526
URL:https://toledopolice.com/event/lccp-dna-136/
END:VEVENT
BEGIN:VEVENT
DTSTART;TZID=America/New_York:20260106T080000
DTEND;TZID=America/New_York:20260106T170000
DTSTAMP:20260423T000443
CREATED:20260105T170334Z
LAST-MODIFIED:20260105T170334Z
UID:10000414-1767686400-1767718800@toledopolice.com
SUMMARY:LCCP DNA
DESCRIPTION:CR2025-01253 1-6-26 0930hrs (#2903\, 3015\, 3032\, 2750\, 2880\, 2876\, 2349\, 2976\, 2642\, 2882\, 2749\, 2227) 1-5-26 1153hrs #2526
URL:https://toledopolice.com/event/lccp-dna-144/
END:VEVENT
BEGIN:VEVENT
DTSTART;TZID=America/New_York:20260106T080000
DTEND;TZID=America/New_York:20260106T170000
DTSTAMP:20260423T000443
CREATED:20260106T150220Z
LAST-MODIFIED:20260106T150220Z
UID:10000416-1767686400-1767718800@toledopolice.com
SUMMARY:TMC
DESCRIPTION:No officers are needed for court call-in.
URL:https://toledopolice.com/event/tmc-89/
END:VEVENT
BEGIN:VEVENT
DTSTART;TZID=America/New_York:20260106T090000
DTEND;TZID=America/New_York:20260106T090000
DTSTAMP:20260423T000443
CREATED:20260105T181951Z
LAST-MODIFIED:20260105T182011Z
UID:10000415-1767690000-1767690000@toledopolice.com
SUMMARY:LCCP-DNA
DESCRIPTION:CR2025-01304 0900hrs. (#2638\,2248\,2229\,2501) 01/05/2026  1318hrs. #2527
URL:https://toledopolice.com/event/lccp-dna-145/
END:VEVENT
BEGIN:VEVENT
DTSTART;TZID=America/New_York:20260107T080000
DTEND;TZID=America/New_York:20260107T170000
DTSTAMP:20260423T000443
CREATED:20251219T185214Z
LAST-MODIFIED:20251219T185214Z
UID:10000375-1767772800-1767805200@toledopolice.com
SUMMARY:LCCP DNA
DESCRIPTION:CR2025-01082 1-7-26 0900hrs (#3017\, 2697\, 2893\, 3034\, 2227) 12-19-25 1331hrs #2526
URL:https://toledopolice.com/event/lccp-dna-114/
END:VEVENT
BEGIN:VEVENT
DTSTART;TZID=America/New_York:20260107T080000
DTEND;TZID=America/New_York:20260107T170000
DTSTAMP:20260423T000443
CREATED:20251231T133144Z
LAST-MODIFIED:20251231T133144Z
UID:10000403-1767772800-1767805200@toledopolice.com
SUMMARY:LCCP DNA
DESCRIPTION:CR2025-01470 1-7-26 0930hrs (#2799\, 2863\, 2869\, 2926\, 3040\, 2716\, 3036\, 2274) 12-30-25 1647hrs #2526
URL:https://toledopolice.com/event/lccp-dna-135/
END:VEVENT
BEGIN:VEVENT
DTSTART;TZID=America/New_York:20260107T080000
DTEND;TZID=America/New_York:20260107T170000
DTSTAMP:20260423T000443
CREATED:20251231T133430Z
LAST-MODIFIED:20251231T133430Z
UID:10000406-1767772800-1767805200@toledopolice.com
SUMMARY:LCCP DNA
DESCRIPTION:CR2025-00394 1-7-26 0930hrs (#8321\, 8598\, 2431\, 2587\, 2840\, 2227\, 2322\, 2488\, 2424\, 3019\, 3015\, 2732\, 2539\, 2469) 12-30-25 1701hrs #2526
URL:https://toledopolice.com/event/lccp-dna-138/
END:VEVENT
BEGIN:VEVENT
DTSTART;TZID=America/New_York:20260107T080000
DTEND;TZID=America/New_York:20260107T170000
DTSTAMP:20260423T000443
CREATED:20260107T145937Z
LAST-MODIFIED:20260107T150004Z
UID:10000418-1767772800-1767805200@toledopolice.com
SUMMARY:TMC
DESCRIPTION:TMC-No officers are needed for court call-in.
URL:https://toledopolice.com/event/tmc-91/
END:VEVENT
BEGIN:VEVENT
DTSTART;TZID=America/New_York:20260108T080000
DTEND;TZID=America/New_York:20260108T170000
DTSTAMP:20260423T000443
CREATED:20251217T192956Z
LAST-MODIFIED:20251217T192956Z
UID:10000364-1767859200-1767891600@toledopolice.com
SUMMARY:LCCP DNA
DESCRIPTION:CR2023-02060 1-8-26 0930hrs (#2610\, 2614\, 2585\, 2401\, 2699\, 8624\, 2469\, 2482\, 8321) 12-17-25 1342hrs #2526
URL:https://toledopolice.com/event/lccp-dna-108/
END:VEVENT
BEGIN:VEVENT
DTSTART;TZID=America/New_York:20260108T080000
DTEND;TZID=America/New_York:20260108T170000
DTSTAMP:20260423T000443
CREATED:20251219T185252Z
LAST-MODIFIED:20251219T185252Z
UID:10000376-1767859200-1767891600@toledopolice.com
SUMMARY:LCCP DNA
DESCRIPTION:CR2025-01082 1-8-26 0900hrs (#3017\, 2697\, 2893\, 3034\, 2227) 12-19-25 1331hrs #2526
URL:https://toledopolice.com/event/lccp-dna-115/
END:VEVENT
BEGIN:VEVENT
DTSTART;TZID=America/New_York:20260108T080000
DTEND;TZID=America/New_York:20260108T170000
DTSTAMP:20260423T000443
CREATED:20251222T192358Z
LAST-MODIFIED:20251222T192358Z
UID:10000380-1767859200-1767891600@toledopolice.com
SUMMARY:LCCP DNA
DESCRIPTION:CR2025-00604 01-08-26 1030hrs (#2630) 12-22-25 1008hrs #2526
URL:https://toledopolice.com/event/lccp-dna-118/
END:VEVENT
BEGIN:VEVENT
DTSTART;TZID=America/New_York:20260108T080000
DTEND;TZID=America/New_York:20260108T170000
DTSTAMP:20260423T000443
CREATED:20260108T154439Z
LAST-MODIFIED:20260108T154439Z
UID:10000420-1767859200-1767891600@toledopolice.com
SUMMARY:TMC
DESCRIPTION:TMC-No officers are needed for court call-in.
URL:https://toledopolice.com/event/tmc-92/
END:VEVENT
BEGIN:VEVENT
DTSTART;TZID=America/New_York:20260109T080000
DTEND;TZID=America/New_York:20260109T170000
DTSTAMP:20260423T000443
CREATED:20260109T153045Z
LAST-MODIFIED:20260109T153045Z
UID:10000424-1767945600-1767978000@toledopolice.com
SUMMARY:TMC
DESCRIPTION:TMC-No officers are needed for court call-in.
URL:https://toledopolice.com/event/tmc-93/
END:VEVENT
BEGIN:VEVENT
DTSTART;TZID=America/New_York:20260112T080000
DTEND;TZID=America/New_York:20260112T170000
DTSTAMP:20260423T000443
CREATED:20251230T124754Z
LAST-MODIFIED:20251230T124754Z
UID:10000385-1768204800-1768237200@toledopolice.com
SUMMARY:LCCP DNA
DESCRIPTION:CR2025-00923 1-12-26 0930hrs (#2880\, 2694\, 2885\, 2989\, 2699\, 2951\, 2868\, 2901\, 2940\, 2972) 12-29-25 1327hrs #2526
URL:https://toledopolice.com/event/lccp-dna-119/
END:VEVENT
BEGIN:VEVENT
DTSTART;TZID=America/New_York:20260112T080000
DTEND;TZID=America/New_York:20260112T170000
DTSTAMP:20260423T000443
CREATED:20251230T192122Z
LAST-MODIFIED:20251230T192122Z
UID:10000396-1768204800-1768237200@toledopolice.com
SUMMARY:LCCP DNA
DESCRIPTION:CR2025-01000 1-12-26 0900hrs (#2654) 12-30-25 1350hrs #2526
URL:https://toledopolice.com/event/lccp-dna-129/
END:VEVENT
BEGIN:VEVENT
DTSTART;TZID=America/New_York:20260112T080000
DTEND;TZID=America/New_York:20260112T170000
DTSTAMP:20260423T000443
CREATED:20260108T174204Z
LAST-MODIFIED:20260108T174204Z
UID:10000421-1768204800-1768237200@toledopolice.com
SUMMARY:LCCP DNA
DESCRIPTION:CR2025-01238 1-12-26 0900hrs (#2459\, 2227\, 2542\, 2481) 1-7-26 1431hrs #2526
URL:https://toledopolice.com/event/lccp-dna-147/
END:VEVENT
BEGIN:VEVENT
DTSTART;TZID=America/New_York:20260112T080000
DTEND;TZID=America/New_York:20260112T170000
DTSTAMP:20260423T000443
CREATED:20260112T185832Z
LAST-MODIFIED:20260112T185832Z
UID:10000429-1768204800-1768237200@toledopolice.com
SUMMARY:TMC – No officers needed for court call in
DESCRIPTION:
URL:https://toledopolice.com/event/tmc-no-officers-needed-for-court-call-in-11/
END:VEVENT
BEGIN:VEVENT
DTSTART;TZID=America/New_York:20260112T090000
DTEND;TZID=America/New_York:20260112T090000
DTSTAMP:20260423T000443
CREATED:20260109T125127Z
LAST-MODIFIED:20260109T125152Z
UID:10000423-1768208400-1768208400@toledopolice.com
SUMMARY:LCCMP
DESCRIPTION:CR2025-00925 01/12/2026 0900hrs. (#2577\,2707\,2503\,2234\,3032\,2169\,2671\,2557\,2931\,2337\,2909\,2926\,2655\,2227\,2639\,2332\,2890\,2896\,2123\,2754\,2582\,2863\,2220\,2931\,2337\,2980\,2118\,2237\,2771\,2950\,2714\,2927\,2907) 1/09/2026 0751hrs #2527
URL:https://toledopolice.com/event/lccmp/
END:VEVENT
BEGIN:VEVENT
DTSTART;TZID=America/New_York:20260113T080000
DTEND;TZID=America/New_York:20260113T170000
DTSTAMP:20260423T000443
CREATED:20251230T124907Z
LAST-MODIFIED:20251230T124907Z
UID:10000386-1768291200-1768323600@toledopolice.com
SUMMARY:LCCP DNA
DESCRIPTION:CR2025-00923 1-13-26 0930hrs (#2880\, 2694\, 2885\, 2989\, 2699\, 2951\, 2868\, 2901\, 2940\, 2972) 12-29-25 1327hrs #2526
URL:https://toledopolice.com/event/lccp-dna-120/
END:VEVENT
BEGIN:VEVENT
DTSTART;TZID=America/New_York:20260113T080000
DTEND;TZID=America/New_York:20260113T170000
DTSTAMP:20260423T000443
CREATED:20260107T171247Z
LAST-MODIFIED:20260107T171247Z
UID:10000419-1768291200-1768323600@toledopolice.com
SUMMARY:LCCP DNA
DESCRIPTION:CR2025-00919 1-13-26 0830hrs (#3033) 1-7-26 1158hrs #2526
URL:https://toledopolice.com/event/lccp-dna-146/
END:VEVENT
END:VCALENDAR