BEGIN:VCALENDAR
VERSION:2.0
PRODID:-//Toledo Police Department - ECPv6.15.20//NONSGML v1.0//EN
CALSCALE:GREGORIAN
METHOD:PUBLISH
X-WR-CALNAME:Toledo Police Department
X-ORIGINAL-URL:https://toledopolice.com
X-WR-CALDESC:Events for Toledo Police Department
REFRESH-INTERVAL;VALUE=DURATION:PT1H
X-Robots-Tag:noindex
X-PUBLISHED-TTL:PT1H
BEGIN:VTIMEZONE
TZID:America/New_York
BEGIN:DAYLIGHT
TZOFFSETFROM:-0500
TZOFFSETTO:-0400
TZNAME:EDT
DTSTART:20250309T070000
END:DAYLIGHT
BEGIN:STANDARD
TZOFFSETFROM:-0400
TZOFFSETTO:-0500
TZNAME:EST
DTSTART:20251102T060000
END:STANDARD
BEGIN:DAYLIGHT
TZOFFSETFROM:-0500
TZOFFSETTO:-0400
TZNAME:EDT
DTSTART:20260308T070000
END:DAYLIGHT
BEGIN:STANDARD
TZOFFSETFROM:-0400
TZOFFSETTO:-0500
TZNAME:EST
DTSTART:20261101T060000
END:STANDARD
BEGIN:DAYLIGHT
TZOFFSETFROM:-0500
TZOFFSETTO:-0400
TZNAME:EDT
DTSTART:20270314T070000
END:DAYLIGHT
BEGIN:STANDARD
TZOFFSETFROM:-0400
TZOFFSETTO:-0500
TZNAME:EST
DTSTART:20271107T060000
END:STANDARD
END:VTIMEZONE
BEGIN:VEVENT
DTSTART;TZID=America/New_York:20260217T090000
DTEND;TZID=America/New_York:20260217T090000
DTSTAMP:20260421T190309
CREATED:20260205T135518Z
LAST-MODIFIED:20260205T135518Z
UID:10000502-1771318800-1771318800@toledopolice.com
SUMMARY:LCCMP-DNA
DESCRIPTION:CR2025-01034 02/17/2026 0900HRS (#2969\,3042\,2568\,2332\,2906\,2866\,2877\,28880\,2882\,3024\,2227\,2686\,2564) 02/05/2026 0850HRS. #2527
URL:https://toledopolice.com/event/lccmp-dna-23/
END:VEVENT
BEGIN:VEVENT
DTSTART;TZID=America/New_York:20260217T090000
DTEND;TZID=America/New_York:20260217T090000
DTSTAMP:20260421T190309
CREATED:20260205T135007Z
LAST-MODIFIED:20260205T135007Z
UID:10000498-1771318800-1771318800@toledopolice.com
SUMMARY:LCCMP-DNA
DESCRIPTION:CR2025-01033 02/17/2026 0900HRS (#2969\,3042\,2568\,2332\,2906\,2866\,2877\,28880\,2882\,3024\,2227\,2686\,2564) 02/05/2026 0850HRS. #2527
URL:https://toledopolice.com/event/lccmp-dna-19/
END:VEVENT
BEGIN:VEVENT
DTSTART;TZID=America/New_York:20260217T090000
DTEND;TZID=America/New_York:20260217T090000
DTSTAMP:20260421T190309
CREATED:20260120T175012Z
LAST-MODIFIED:20260120T175012Z
UID:10000446-1771318800-1771318800@toledopolice.com
SUMMARY:LUCCMP-DNA
DESCRIPTION:CR2025-01371  02/17/2026  0900HRS. (#2827\,2253\,2227\,2532\,2726\,2694\,2962\,2769\,2298) 01/20/2026  1250 HRS. #2527
URL:https://toledopolice.com/event/luccmp-dna/
END:VEVENT
BEGIN:VEVENT
DTSTART;TZID=America/New_York:20260217T080000
DTEND;TZID=America/New_York:20260217T170000
DTSTAMP:20260421T190309
CREATED:20260217T154617Z
LAST-MODIFIED:20260217T154755Z
UID:10000542-1771315200-1771347600@toledopolice.com
SUMMARY:TMC
DESCRIPTION:TMC-No officers are needed for court call-in.
URL:https://toledopolice.com/event/tmc-101/
END:VEVENT
BEGIN:VEVENT
DTSTART;TZID=America/New_York:20260213T093000
DTEND;TZID=America/New_York:20260213T093000
DTSTAMP:20260421T190309
CREATED:20260206T181939Z
LAST-MODIFIED:20260206T181939Z
UID:10000524-1770975000-1770975000@toledopolice.com
SUMMARY:LCCMP-DNA
DESCRIPTION:CR2025-01253 02/13/2026 0930HRS. (#2882\,2227\,2727\,2750\,2880\,2349\,2976\,2876\,2550) 02/06/2026 1315 HRS. #2527
URL:https://toledopolice.com/event/lccmp-dna-36/
END:VEVENT
BEGIN:VEVENT
DTSTART;TZID=America/New_York:20260213T093000
DTEND;TZID=America/New_York:20260213T093000
DTSTAMP:20260421T190309
CREATED:20260206T180608Z
LAST-MODIFIED:20260206T180700Z
UID:10000519-1770975000-1770975000@toledopolice.com
SUMMARY:LCCMP-DNA
DESCRIPTION:CR2025-01253 02/13/2026 0930HRS. (#2550)  02/06/2026  1303HRS. #2527
URL:https://toledopolice.com/event/lccmp-dna-31/
END:VEVENT
BEGIN:VEVENT
DTSTART;TZID=America/New_York:20260213T090000
DTEND;TZID=America/New_York:20260213T090000
DTSTAMP:20260421T190309
CREATED:20260205T133716Z
LAST-MODIFIED:20260205T134646Z
UID:10000494-1770973200-1770973200@toledopolice.com
SUMMARY:LCCMP-DNA
DESCRIPTION:CR2025-00946  02/13/2026  0900hrs. (#2227\,3043\,2920) 02/05/2026  0837hrs. #2527
URL:https://toledopolice.com/event/lccmp-10/
END:VEVENT
BEGIN:VEVENT
DTSTART;TZID=America/New_York:20260213T080000
DTEND;TZID=America/New_York:20260213T170000
DTSTAMP:20260421T190309
CREATED:20260213T154730Z
LAST-MODIFIED:20260213T154730Z
UID:10000541-1770969600-1771002000@toledopolice.com
SUMMARY:TMC – No officers needed for court call in
DESCRIPTION:
URL:https://toledopolice.com/event/tmc-no-officers-needed-for-court-call-in-24/
END:VEVENT
BEGIN:VEVENT
DTSTART;TZID=America/New_York:20260212T093000
DTEND;TZID=America/New_York:20260212T093000
DTSTAMP:20260421T190309
CREATED:20260206T181852Z
LAST-MODIFIED:20260206T181852Z
UID:10000523-1770888600-1770888600@toledopolice.com
SUMMARY:LCCMP-DNA
DESCRIPTION:CR2025-01253 02/12/2026 0930HRS. (#2882\,2227\,2727\,2750\,2880\,2349\,2976\,2876\,2550) 02/06/2026 1315 HRS. #2527
URL:https://toledopolice.com/event/lccmp-dna-35/
END:VEVENT
BEGIN:VEVENT
DTSTART;TZID=America/New_York:20260212T093000
DTEND;TZID=America/New_York:20260212T093000
DTSTAMP:20260421T190309
CREATED:20260206T180457Z
LAST-MODIFIED:20260206T180457Z
UID:10000518-1770888600-1770888600@toledopolice.com
SUMMARY:LCCMP-DNA
DESCRIPTION:CR2025-01253 02/12/2026 0930HRS. (#2550)  02/06/2026  1303HRS. #2527
URL:https://toledopolice.com/event/lccmp-dna-30/
END:VEVENT
BEGIN:VEVENT
DTSTART;TZID=America/New_York:20260212T090000
DTEND;TZID=America/New_York:20260212T090000
DTSTAMP:20260421T190309
CREATED:20260205T133854Z
LAST-MODIFIED:20260205T134654Z
UID:10000495-1770886800-1770886800@toledopolice.com
SUMMARY:LCCMP-DNA
DESCRIPTION:CR2025-00946  02/12/2026  0900hrs. (#2227\,3043\,2920) 02/05/2026  0837hrs. #2527
URL:https://toledopolice.com/event/lccmp-11/
END:VEVENT
BEGIN:VEVENT
DTSTART;TZID=America/New_York:20260212T080000
DTEND;TZID=America/New_York:20260212T170000
DTSTAMP:20260421T190309
CREATED:20260212T155738Z
LAST-MODIFIED:20260212T155738Z
UID:10000539-1770883200-1770915600@toledopolice.com
SUMMARY:TMC – No officers needed for court call in
DESCRIPTION:
URL:https://toledopolice.com/event/tmc-no-officers-needed-for-court-call-in-23/
END:VEVENT
BEGIN:VEVENT
DTSTART;TZID=America/New_York:20260212T080000
DTEND;TZID=America/New_York:20260212T170000
DTSTAMP:20260421T190309
CREATED:20260205T172314Z
LAST-MODIFIED:20260205T172314Z
UID:10000511-1770883200-1770915600@toledopolice.com
SUMMARY:LCCP DNA
DESCRIPTION:CR2025-00640 2-12-26 0900hrs (#2227\, 3001\, 2965\, 2172) 2-5-26 1200hrs #2526
URL:https://toledopolice.com/event/lccp-dna-186/
END:VEVENT
BEGIN:VEVENT
DTSTART;TZID=America/New_York:20260211T093000
DTEND;TZID=America/New_York:20260211T093000
DTSTAMP:20260421T190309
CREATED:20260206T181803Z
LAST-MODIFIED:20260206T181803Z
UID:10000522-1770802200-1770802200@toledopolice.com
SUMMARY:LCCMP-DNA
DESCRIPTION:CR2025-01253 02/11/2026 0930HRS. (#2882\,2227\,2727\,2750\,2880\,2349\,2976\,2876\,2550) 02/06/2026 1315 HRS. #2527
URL:https://toledopolice.com/event/lccmp-dna-34/
END:VEVENT
BEGIN:VEVENT
DTSTART;TZID=America/New_York:20260211T093000
DTEND;TZID=America/New_York:20260211T093000
DTSTAMP:20260421T190309
CREATED:20260206T180355Z
LAST-MODIFIED:20260206T180355Z
UID:10000517-1770802200-1770802200@toledopolice.com
SUMMARY:LCCMP-DNA
DESCRIPTION:CR2025-01253 02/11/2026 0930HRS. (#2550)  02/06/2026  1303HRS. #2527
URL:https://toledopolice.com/event/lccmp-dna-29/
END:VEVENT
BEGIN:VEVENT
DTSTART;TZID=America/New_York:20260211T080000
DTEND;TZID=America/New_York:20260211T170000
DTSTAMP:20260421T190309
CREATED:20260211T153822Z
LAST-MODIFIED:20260211T153822Z
UID:10000538-1770796800-1770829200@toledopolice.com
SUMMARY:TMC – No officers needed for court call in
DESCRIPTION:
URL:https://toledopolice.com/event/tmc-no-officers-needed-for-court-call-in-22/
END:VEVENT
BEGIN:VEVENT
DTSTART;TZID=America/New_York:20260211T080000
DTEND;TZID=America/New_York:20260211T170000
DTSTAMP:20260421T190309
CREATED:20260205T172220Z
LAST-MODIFIED:20260205T172220Z
UID:10000510-1770796800-1770829200@toledopolice.com
SUMMARY:LCCP DNA
DESCRIPTION:CR2025-00640 2-11-26 0900hrs (#2227\, 3001\, 2965\, 2172) 2-5-26 1200hrs #2526
URL:https://toledopolice.com/event/lccp-dna-185/
END:VEVENT
BEGIN:VEVENT
DTSTART;TZID=America/New_York:20260210T130000
DTEND;TZID=America/New_York:20260210T130000
DTSTAMP:20260421T190309
CREATED:20260206T175117Z
LAST-MODIFIED:20260206T175240Z
UID:10000513-1770728400-1770728400@toledopolice.com
SUMMARY:LCCMP-DNA
DESCRIPTION:G-4801-CR-0202401391-000D1 02/10/2026 1300HRS. (#2716\,2639\,2799\,2697) 02/06/2026  1251HRS. #2527
URL:https://toledopolice.com/event/lccmp-15/
END:VEVENT
BEGIN:VEVENT
DTSTART;TZID=America/New_York:20260210T093000
DTEND;TZID=America/New_York:20260210T093000
DTSTAMP:20260421T190309
CREATED:20260206T181622Z
LAST-MODIFIED:20260206T181622Z
UID:10000521-1770715800-1770715800@toledopolice.com
SUMMARY:LCCMP-DNA
DESCRIPTION:CR2025-01253 02/10/2026 0930HRS. (#2882\,2227\,2727\,2750\,2880\,2349\,2976\,2876\,2550) 02/06/2026 1315 HRS. #2527
URL:https://toledopolice.com/event/lccmp-dna-33/
END:VEVENT
BEGIN:VEVENT
DTSTART;TZID=America/New_York:20260210T093000
DTEND;TZID=America/New_York:20260210T093000
DTSTAMP:20260421T190309
CREATED:20260206T180301Z
LAST-MODIFIED:20260206T180301Z
UID:10000516-1770715800-1770715800@toledopolice.com
SUMMARY:LCCMP-DNA
DESCRIPTION:CR2025-01253 02/10/2026 0930HRS. (#2550)  02/06/2026  1303HRS. #2527
URL:https://toledopolice.com/event/lccmp-dna-28/
END:VEVENT
BEGIN:VEVENT
DTSTART;TZID=America/New_York:20260210T090000
DTEND;TZID=America/New_York:20260210T090000
DTSTAMP:20260421T190309
CREATED:20260209T192239Z
LAST-MODIFIED:20260209T192239Z
UID:10000528-1770714000-1770714000@toledopolice.com
SUMMARY:LCCMP-DNA
DESCRIPTION:CR2025-01369 02/10/2026 0900hrs. (#2604) 02/09/2026  1423hrs #2527
URL:https://toledopolice.com/event/lccmp-dna-38/
END:VEVENT
BEGIN:VEVENT
DTSTART;TZID=America/New_York:20260210T090000
DTEND;TZID=America/New_York:20260210T090000
DTSTAMP:20260421T190309
CREATED:20260205T134315Z
LAST-MODIFIED:20260205T134315Z
UID:10000497-1770714000-1770714000@toledopolice.com
SUMMARY:LCCMP DNA
DESCRIPTION:CR2025-01035  02/10/2026 0900HRS. (#8321\,2227\,2804\,2919\,2926\,2466\,8635\,2961\,2869) 02/05/2026 0843HRS #2527
URL:https://toledopolice.com/event/lccmp-dna-18/
END:VEVENT
BEGIN:VEVENT
DTSTART;TZID=America/New_York:20260210T090000
DTEND;TZID=America/New_York:20260210T090000
DTSTAMP:20260421T190309
CREATED:20260204T190553Z
LAST-MODIFIED:20260205T134711Z
UID:10000493-1770714000-1770714000@toledopolice.com
SUMMARY:LCCMP-DNA
DESCRIPTION:CR2025-01292  02/10/2026 0900hrs. (#2336\,2776)  02/04/2026 1406hrs. #2527
URL:https://toledopolice.com/event/lccmp-9/
END:VEVENT
BEGIN:VEVENT
DTSTART;TZID=America/New_York:20260210T080000
DTEND;TZID=America/New_York:20260210T170000
DTSTAMP:20260421T190309
CREATED:20260210T154707Z
LAST-MODIFIED:20260210T154707Z
UID:10000529-1770710400-1770742800@toledopolice.com
SUMMARY:TMC – No officers needed for court call in
DESCRIPTION:
URL:https://toledopolice.com/event/tmc-no-officers-needed-for-court-call-in-21/
END:VEVENT
BEGIN:VEVENT
DTSTART;TZID=America/New_York:20260210T080000
DTEND;TZID=America/New_York:20260210T170000
DTSTAMP:20260421T190309
CREATED:20260209T121916Z
LAST-MODIFIED:20260209T121916Z
UID:10000525-1770710400-1770742800@toledopolice.com
SUMMARY:LCCP DNA
DESCRIPTION:CR0202401391 2-10-26 1300hrs (#2716\, 2799\, 2697\, 2639) 2-6-26 1630hrs #2526
URL:https://toledopolice.com/event/lccp-dna-187/
END:VEVENT
BEGIN:VEVENT
DTSTART;TZID=America/New_York:20260210T080000
DTEND;TZID=America/New_York:20260210T170000
DTSTAMP:20260421T190309
CREATED:20260205T172139Z
LAST-MODIFIED:20260205T172139Z
UID:10000509-1770710400-1770742800@toledopolice.com
SUMMARY:LCCP DNA
DESCRIPTION:CR2025-00640 2-10-26 0900hrs (#2227\, 3001\, 2965\, 2172) 2-5-26 1200hrs #2526
URL:https://toledopolice.com/event/lccp-dna-184/
END:VEVENT
BEGIN:VEVENT
DTSTART;TZID=America/New_York:20260209T093000
DTEND;TZID=America/New_York:20260209T093000
DTSTAMP:20260421T190309
CREATED:20260206T181523Z
LAST-MODIFIED:20260206T181523Z
UID:10000520-1770629400-1770629400@toledopolice.com
SUMMARY:LCCMP-DNA
DESCRIPTION:CR2025-01253 02/09/2026 0930HRS. (#2882\,2227\,2727\,2750\,2880\,2349\,2976\,2876\,2550) 02/06/2026 1315 HRS. #2527
URL:https://toledopolice.com/event/lccmp-dna-32/
END:VEVENT
BEGIN:VEVENT
DTSTART;TZID=America/New_York:20260209T090000
DTEND;TZID=America/New_York:20260209T090000
DTSTAMP:20260421T190309
CREATED:20260206T180028Z
LAST-MODIFIED:20260206T180028Z
UID:10000515-1770627600-1770627600@toledopolice.com
SUMMARY:LCCMP-DNA
DESCRIPTION:CR-2025-00760 & CR2025-00761  02/09/2026 0900HRS (#2928\,2714\,2699\,2668\,2609\,2747\,2892\,2141\,3019\,2931\,2227\,2503\,3038\,2372\,2857\,2900\,3043\,2484\,2926\,2753\,2711\,2089\,2681\,2856\,2337\,2942\,2220\,2162\,2625\,2582\,2835\,2968\,2771\,2791\,2930\,2950\,2237\,2743) 02/06/2026 1300HRS.  #2527
URL:https://toledopolice.com/event/lccmp-dna-27/
END:VEVENT
BEGIN:VEVENT
DTSTART;TZID=America/New_York:20260209T090000
DTEND;TZID=America/New_York:20260209T090000
DTSTAMP:20260421T190309
CREATED:20260205T134030Z
LAST-MODIFIED:20260205T134509Z
UID:10000496-1770627600-1770627600@toledopolice.com
SUMMARY:LCCMP-DNA
DESCRIPTION:CR2025-01035 02-09-2026 0900HRS (#8321\,2227\,2804\,2919\,2926\,2466\,8635\,2961\,2869) 02/05/2026 0840HRS. #2527
URL:https://toledopolice.com/event/lccmp-12/
END:VEVENT
BEGIN:VEVENT
DTSTART;TZID=America/New_York:20260209T090000
DTEND;TZID=America/New_York:20260209T090000
DTSTAMP:20260421T190309
CREATED:20260204T190427Z
LAST-MODIFIED:20260205T134522Z
UID:10000492-1770627600-1770627600@toledopolice.com
SUMMARY:LCCMP-DNA
DESCRIPTION:CR2025-01292  02/09/2026 0900hrs. (#2336\,2776)  02/04/2026 1406hrs. #2527
URL:https://toledopolice.com/event/lccmp-8/
END:VEVENT
END:VCALENDAR