BEGIN:VCALENDAR
VERSION:2.0
PRODID:-//Toledo Police Department - ECPv6.15.20//NONSGML v1.0//EN
CALSCALE:GREGORIAN
METHOD:PUBLISH
X-WR-CALNAME:Toledo Police Department
X-ORIGINAL-URL:https://toledopolice.com
X-WR-CALDESC:Events for Toledo Police Department
REFRESH-INTERVAL;VALUE=DURATION:PT1H
X-Robots-Tag:noindex
X-PUBLISHED-TTL:PT1H
BEGIN:VTIMEZONE
TZID:America/New_York
BEGIN:DAYLIGHT
TZOFFSETFROM:-0500
TZOFFSETTO:-0400
TZNAME:EDT
DTSTART:20250309T070000
END:DAYLIGHT
BEGIN:STANDARD
TZOFFSETFROM:-0400
TZOFFSETTO:-0500
TZNAME:EST
DTSTART:20251102T060000
END:STANDARD
BEGIN:DAYLIGHT
TZOFFSETFROM:-0500
TZOFFSETTO:-0400
TZNAME:EDT
DTSTART:20260308T070000
END:DAYLIGHT
BEGIN:STANDARD
TZOFFSETFROM:-0400
TZOFFSETTO:-0500
TZNAME:EST
DTSTART:20261101T060000
END:STANDARD
BEGIN:DAYLIGHT
TZOFFSETFROM:-0500
TZOFFSETTO:-0400
TZNAME:EDT
DTSTART:20270314T070000
END:DAYLIGHT
BEGIN:STANDARD
TZOFFSETFROM:-0400
TZOFFSETTO:-0500
TZNAME:EST
DTSTART:20271107T060000
END:STANDARD
END:VTIMEZONE
BEGIN:VEVENT
DTSTART;TZID=America/New_York:20260313T080000
DTEND;TZID=America/New_York:20260313T170000
DTSTAMP:20260421T171722
CREATED:20260303T124906Z
LAST-MODIFIED:20260303T124906Z
UID:10000594-1773388800-1773421200@toledopolice.com
SUMMARY:LCCP DNA
DESCRIPTION:CR2025-00923 3-13-26 0930hrs (#2699\, 2694\, 2868) 3-2-26 1330hrs #2526
URL:https://toledopolice.com/event/lccp-dna-234/
END:VEVENT
BEGIN:VEVENT
DTSTART;TZID=America/New_York:20260312T080000
DTEND;TZID=America/New_York:20260312T170000
DTSTAMP:20260421T171722
CREATED:20260312T144910Z
LAST-MODIFIED:20260312T144910Z
UID:10000617-1773302400-1773334800@toledopolice.com
SUMMARY:TMC – No officers needed for court call in
DESCRIPTION:
URL:https://toledopolice.com/event/tmc-no-officers-needed-for-court-call-in-31/
END:VEVENT
BEGIN:VEVENT
DTSTART;TZID=America/New_York:20260312T080000
DTEND;TZID=America/New_York:20260312T170000
DTSTAMP:20260421T171722
CREATED:20260303T124813Z
LAST-MODIFIED:20260303T124813Z
UID:10000593-1773302400-1773334800@toledopolice.com
SUMMARY:LCCP DNA
DESCRIPTION:CR2025-00923 3-12-26 0930hrs (#2699\, 2694\, 2868) 3-2-26 1330hrs #2526
URL:https://toledopolice.com/event/lccp-dna-233/
END:VEVENT
BEGIN:VEVENT
DTSTART;TZID=America/New_York:20260311T080000
DTEND;TZID=America/New_York:20260311T170000
DTSTAMP:20260421T171722
CREATED:20260311T152524Z
LAST-MODIFIED:20260311T152524Z
UID:10000614-1773216000-1773248400@toledopolice.com
SUMMARY:TMC
DESCRIPTION:TMC-No officers are needed for the court call-in program
URL:https://toledopolice.com/event/tmc-109/
END:VEVENT
BEGIN:VEVENT
DTSTART;TZID=America/New_York:20260311T080000
DTEND;TZID=America/New_York:20260311T170000
DTSTAMP:20260421T171722
CREATED:20260303T130620Z
LAST-MODIFIED:20260303T130620Z
UID:10000597-1773216000-1773248400@toledopolice.com
SUMMARY:LCCP DNA
DESCRIPTION:CR2025-00604 3-11-26 0900hrs (#2494\, 2355\, 2804\, 2603\, 8439\, 2487\, 2839\, 2630) 3-2-26 1104hrs #2526
URL:https://toledopolice.com/event/lccp-dna-237/
END:VEVENT
BEGIN:VEVENT
DTSTART;TZID=America/New_York:20260311T080000
DTEND;TZID=America/New_York:20260311T170000
DTSTAMP:20260421T171722
CREATED:20260303T124742Z
LAST-MODIFIED:20260303T124742Z
UID:10000592-1773216000-1773248400@toledopolice.com
SUMMARY:LCCP DNA
DESCRIPTION:CR2025-00923 3-11-26 0930hrs (#2699\, 2694\, 2868) 3-2-26 1330hrs #2526
URL:https://toledopolice.com/event/lccp-dna-232/
END:VEVENT
BEGIN:VEVENT
DTSTART;TZID=America/New_York:20260310T080000
DTEND;TZID=America/New_York:20260310T170000
DTSTAMP:20260421T171722
CREATED:20260310T143947Z
LAST-MODIFIED:20260310T143947Z
UID:10000613-1773129600-1773162000@toledopolice.com
SUMMARY:TMC – No officers needed for court call in
DESCRIPTION:
URL:https://toledopolice.com/event/tmc-no-officers-needed-for-court-call-in-30/
END:VEVENT
BEGIN:VEVENT
DTSTART;TZID=America/New_York:20260310T080000
DTEND;TZID=America/New_York:20260310T170000
DTSTAMP:20260421T171722
CREATED:20260306T171904Z
LAST-MODIFIED:20260306T171904Z
UID:10000610-1773129600-1773162000@toledopolice.com
SUMMARY:LCCP DNA
DESCRIPTION:CR2025-01168 3-10-26 1330hrs (#2465\, 2707\, 2771) 3-6-26 1146hrs #2526
URL:https://toledopolice.com/event/lccp-dna-241/
END:VEVENT
BEGIN:VEVENT
DTSTART;TZID=America/New_York:20260310T080000
DTEND;TZID=America/New_York:20260310T170000
DTSTAMP:20260421T171722
CREATED:20260303T130540Z
LAST-MODIFIED:20260303T130540Z
UID:10000596-1773129600-1773162000@toledopolice.com
SUMMARY:LCCP DNA
DESCRIPTION:CR2025-00604 3-10-26 0900hrs (#2494\, 2355\, 2804\, 2603\, 8439\, 2487\, 2839\, 2630) 3-2-26 1104hrs #2526
URL:https://toledopolice.com/event/lccp-dna-236/
END:VEVENT
BEGIN:VEVENT
DTSTART;TZID=America/New_York:20260310T080000
DTEND;TZID=America/New_York:20260310T170000
DTSTAMP:20260421T171722
CREATED:20260303T124637Z
LAST-MODIFIED:20260303T124637Z
UID:10000591-1773129600-1773162000@toledopolice.com
SUMMARY:LCCP DNA
DESCRIPTION:CR2025-00923 3-10-26 0930hrs (#2699\, 2694\, 2868) 3-2-26 1330hrs #2526
URL:https://toledopolice.com/event/lccp-dna-231/
END:VEVENT
BEGIN:VEVENT
DTSTART;TZID=America/New_York:20260309T080000
DTEND;TZID=America/New_York:20260309T170000
DTSTAMP:20260421T171722
CREATED:20260309T150123Z
LAST-MODIFIED:20260309T150123Z
UID:10000612-1773043200-1773075600@toledopolice.com
SUMMARY:TMC – No officers needed for court call in
DESCRIPTION:
URL:https://toledopolice.com/event/tmc-no-officers-needed-for-court-call-in-29/
END:VEVENT
BEGIN:VEVENT
DTSTART;TZID=America/New_York:20260309T080000
DTEND;TZID=America/New_York:20260309T170000
DTSTAMP:20260421T171722
CREATED:20260304T170704Z
LAST-MODIFIED:20260304T170704Z
UID:10000601-1773043200-1773075600@toledopolice.com
SUMMARY:LCCP DNA
DESCRIPTION:CR2025-01120 3-9-26 0900hrs (#2869\, 2336\, 2926) 3-3-26 1134hrs #2526
URL:https://toledopolice.com/event/lccp-dna-240/
END:VEVENT
BEGIN:VEVENT
DTSTART;TZID=America/New_York:20260309T080000
DTEND;TZID=America/New_York:20260309T170000
DTSTAMP:20260421T171722
CREATED:20260303T130450Z
LAST-MODIFIED:20260303T130450Z
UID:10000595-1773043200-1773075600@toledopolice.com
SUMMARY:LCCP DNA
DESCRIPTION:CR2025-00604 3-9-26 0900hrs (#2494\, 2355\, 2804\, 2603\, 8439\, 2487\, 2839\, 2630) 3-2-26 1104hrs #2526
URL:https://toledopolice.com/event/lccp-dna-235/
END:VEVENT
BEGIN:VEVENT
DTSTART;TZID=America/New_York:20260309T080000
DTEND;TZID=America/New_York:20260309T170000
DTSTAMP:20260421T171722
CREATED:20260303T124607Z
LAST-MODIFIED:20260303T124607Z
UID:10000590-1773043200-1773075600@toledopolice.com
SUMMARY:LCCP DNA
DESCRIPTION:CR2025-00923 3-9-26 0930hrs (#2699\, 2694\, 2868) 3-2-26 1330hrs #2526
URL:https://toledopolice.com/event/lccp-dna-230/
END:VEVENT
BEGIN:VEVENT
DTSTART;TZID=America/New_York:20260306T080000
DTEND;TZID=America/New_York:20260306T170000
DTSTAMP:20260421T171722
CREATED:20260306T152512Z
LAST-MODIFIED:20260306T152512Z
UID:10000609-1772784000-1772816400@toledopolice.com
SUMMARY:TMC
DESCRIPTION:TMC-No officers are needed for the court call-in program.
URL:https://toledopolice.com/event/tmc-108/
END:VEVENT
BEGIN:VEVENT
DTSTART;TZID=America/New_York:20260306T080000
DTEND;TZID=America/New_York:20260306T170000
DTSTAMP:20260421T171722
CREATED:20260227T193135Z
LAST-MODIFIED:20260227T193350Z
UID:10000588-1772784000-1772816400@toledopolice.com
SUMMARY:LCCP DNA
DESCRIPTION:CR-0202302060 D1-D3 3-6-26 0900hrs (#2699\, 2482\, 2614\, 2574\, 2532\, 2666\, 2610) 2-27-26 1359hrs #2526
URL:https://toledopolice.com/event/lccp-dna-229/
END:VEVENT
BEGIN:VEVENT
DTSTART;TZID=America/New_York:20260306T080000
DTEND;TZID=America/New_York:20260306T170000
DTSTAMP:20260421T171722
CREATED:20260223T130137Z
LAST-MODIFIED:20260223T130137Z
UID:10000571-1772784000-1772816400@toledopolice.com
SUMMARY:LCCP DNA
DESCRIPTION:CR2025-01134 3-6-26 0900hrs (#2890\, 2681\, 2968\, 2227\, 2976\, 2220\, 2907\, 2950\, 2754\, 2931\, 2372\, 2743\, 8321) 2-20-26 1540hrs #2526
URL:https://toledopolice.com/event/lccp-dna-220/
END:VEVENT
BEGIN:VEVENT
DTSTART;TZID=America/New_York:20260306T080000
DTEND;TZID=America/New_York:20260306T170000
DTSTAMP:20260421T171722
CREATED:20260223T122940Z
LAST-MODIFIED:20260223T122940Z
UID:10000560-1772784000-1772816400@toledopolice.com
SUMMARY:LCCP DNA
DESCRIPTION:CR-0202302060 D1-D3 3-6-26 0900hrs (#2908\, 2469) 2-20-26 1502hrs #2526
URL:https://toledopolice.com/event/lccp-dna-209/
END:VEVENT
BEGIN:VEVENT
DTSTART;TZID=America/New_York:20260306T080000
DTEND;TZID=America/New_York:20260306T170000
DTSTAMP:20260421T171722
CREATED:20260211T132834Z
LAST-MODIFIED:20260211T132834Z
UID:10000537-1772784000-1772816400@toledopolice.com
SUMMARY:LCCP DNA
DESCRIPTION:CR2025-00394 3-6-26 0930hrs (#8321\, 8598\, 2587\, 2840\, 2322\, 2488\, 3019\, 3015\, 2732\, 2539\, 2469\, 2431\, 2227\, 2424) 2-10-26 1615hrs #2526
URL:https://toledopolice.com/event/lccp-dna-195/
END:VEVENT
BEGIN:VEVENT
DTSTART;TZID=America/New_York:20260305T080000
DTEND;TZID=America/New_York:20260305T170000
DTSTAMP:20260421T171722
CREATED:20260305T152616Z
LAST-MODIFIED:20260305T152616Z
UID:10000606-1772697600-1772730000@toledopolice.com
SUMMARY:TMC
DESCRIPTION:TMC-No officers are needed for the court call-in program.
URL:https://toledopolice.com/event/tmc-107/
END:VEVENT
BEGIN:VEVENT
DTSTART;TZID=America/New_York:20260305T080000
DTEND;TZID=America/New_York:20260305T170000
DTSTAMP:20260421T171722
CREATED:20260227T193056Z
LAST-MODIFIED:20260227T193056Z
UID:10000587-1772697600-1772730000@toledopolice.com
SUMMARY:LCCP DNA
DESCRIPTION:CR-0202302060 D1-D3 3-5-26 0900hrs (#2699\, 2482\, 2614\, 2574\, 2532\, 2666\, 2610) 2-27-26 1359hrs #2526
URL:https://toledopolice.com/event/lccp-dna-228/
END:VEVENT
BEGIN:VEVENT
DTSTART;TZID=America/New_York:20260305T080000
DTEND;TZID=America/New_York:20260305T170000
DTSTAMP:20260421T171722
CREATED:20260223T130106Z
LAST-MODIFIED:20260223T130106Z
UID:10000570-1772697600-1772730000@toledopolice.com
SUMMARY:LCCP DNA
DESCRIPTION:CR2025-01134 3-5-26 0900hrs (#2890\, 2681\, 2968\, 2227\, 2976\, 2220\, 2907\, 2950\, 2754\, 2931\, 2372\, 2743\, 8321) 2-20-26 1540hrs #2526
URL:https://toledopolice.com/event/lccp-dna-219/
END:VEVENT
BEGIN:VEVENT
DTSTART;TZID=America/New_York:20260305T080000
DTEND;TZID=America/New_York:20260305T170000
DTSTAMP:20260421T171722
CREATED:20260223T124935Z
LAST-MODIFIED:20260223T124935Z
UID:10000566-1772697600-1772730000@toledopolice.com
SUMMARY:LCCP DNA
DESCRIPTION:CR2025-01156 3-5-26 0900hrs (#2750\, 2828\, 2672\, 2972\, 2227\, 2617) 2-20-26 1616hrs #2526
URL:https://toledopolice.com/event/lccp-dna-215/
END:VEVENT
BEGIN:VEVENT
DTSTART;TZID=America/New_York:20260305T080000
DTEND;TZID=America/New_York:20260305T170000
DTSTAMP:20260421T171722
CREATED:20260223T122916Z
LAST-MODIFIED:20260223T122916Z
UID:10000559-1772697600-1772730000@toledopolice.com
SUMMARY:LCCP DNA
DESCRIPTION:CR-0202302060 D1-D3 3-5-26 0900hrs (#2908\, 2469) 2-20-26 1502hrs #2526
URL:https://toledopolice.com/event/lccp-dna-208/
END:VEVENT
BEGIN:VEVENT
DTSTART;TZID=America/New_York:20260305T080000
DTEND;TZID=America/New_York:20260305T170000
DTSTAMP:20260421T171722
CREATED:20260211T132755Z
LAST-MODIFIED:20260211T132755Z
UID:10000536-1772697600-1772730000@toledopolice.com
SUMMARY:LCCP DNA
DESCRIPTION:CR2025-00394 3-5-26 0930hrs (#8321\, 8598\, 2587\, 2840\, 2322\, 2488\, 3019\, 3015\, 2732\, 2539\, 2469\, 2431\, 2227\, 2424) 2-10-26 1615hrs #2526
URL:https://toledopolice.com/event/lccp-dna-194/
END:VEVENT
BEGIN:VEVENT
DTSTART;TZID=America/New_York:20260304T080000
DTEND;TZID=America/New_York:20260304T170000
DTSTAMP:20260421T171722
CREATED:20260304T154800Z
LAST-MODIFIED:20260304T154800Z
UID:10000600-1772611200-1772643600@toledopolice.com
SUMMARY:TMC
DESCRIPTION:TMC-No officers are needed for the court call-in program
URL:https://toledopolice.com/event/tmc-106/
END:VEVENT
BEGIN:VEVENT
DTSTART;TZID=America/New_York:20260304T080000
DTEND;TZID=America/New_York:20260304T170000
DTSTAMP:20260421T171722
CREATED:20260227T192944Z
LAST-MODIFIED:20260227T192944Z
UID:10000586-1772611200-1772643600@toledopolice.com
SUMMARY:LCCP DNA
DESCRIPTION:CR-0202302060 D1-D3 3-4-26 0900hrs (#2699\, 2482\, 2614\, 2574\, 2532\, 2666\, 2610) 2-27-26 1359hrs #2526
URL:https://toledopolice.com/event/lccp-dna-227/
END:VEVENT
BEGIN:VEVENT
DTSTART;TZID=America/New_York:20260304T080000
DTEND;TZID=America/New_York:20260304T170000
DTSTAMP:20260421T171722
CREATED:20260223T130035Z
LAST-MODIFIED:20260223T130035Z
UID:10000569-1772611200-1772643600@toledopolice.com
SUMMARY:LCCP DNA
DESCRIPTION:CR2025-01134 3-4-26 0900hrs (#2890\, 2681\, 2968\, 2227\, 2976\, 2220\, 2907\, 2950\, 2754\, 2931\, 2372\, 2743\, 8321) 2-20-26 1540hrs #2526
URL:https://toledopolice.com/event/lccp-dna-218/
END:VEVENT
BEGIN:VEVENT
DTSTART;TZID=America/New_York:20260304T080000
DTEND;TZID=America/New_York:20260304T170000
DTSTAMP:20260421T171722
CREATED:20260223T124908Z
LAST-MODIFIED:20260223T124908Z
UID:10000565-1772611200-1772643600@toledopolice.com
SUMMARY:LCCP DNA
DESCRIPTION:CR2025-01156 3-4-26 0900hrs (#2750\, 2828\, 2672\, 2972\, 2227\, 2617) 2-20-26 1616hrs #2526
URL:https://toledopolice.com/event/lccp-dna-214/
END:VEVENT
BEGIN:VEVENT
DTSTART;TZID=America/New_York:20260304T080000
DTEND;TZID=America/New_York:20260304T170000
DTSTAMP:20260421T171722
CREATED:20260223T122849Z
LAST-MODIFIED:20260223T122849Z
UID:10000558-1772611200-1772643600@toledopolice.com
SUMMARY:LCCP DNA
DESCRIPTION:CR-0202302060 D1-D3 3-4-26 0900hrs (#2908\, 2469) 2-20-26 1502hrs #2526
URL:https://toledopolice.com/event/lccp-dna-207/
END:VEVENT
END:VCALENDAR