BEGIN:VCALENDAR
VERSION:2.0
PRODID:-//Toledo Police Department - ECPv6.15.20//NONSGML v1.0//EN
CALSCALE:GREGORIAN
METHOD:PUBLISH
X-WR-CALNAME:Toledo Police Department
X-ORIGINAL-URL:https://toledopolice.com
X-WR-CALDESC:Events for Toledo Police Department
REFRESH-INTERVAL;VALUE=DURATION:PT1H
X-Robots-Tag:noindex
X-PUBLISHED-TTL:PT1H
BEGIN:VTIMEZONE
TZID:America/New_York
BEGIN:DAYLIGHT
TZOFFSETFROM:-0500
TZOFFSETTO:-0400
TZNAME:EDT
DTSTART:20250309T070000
END:DAYLIGHT
BEGIN:STANDARD
TZOFFSETFROM:-0400
TZOFFSETTO:-0500
TZNAME:EST
DTSTART:20251102T060000
END:STANDARD
BEGIN:DAYLIGHT
TZOFFSETFROM:-0500
TZOFFSETTO:-0400
TZNAME:EDT
DTSTART:20260308T070000
END:DAYLIGHT
BEGIN:STANDARD
TZOFFSETFROM:-0400
TZOFFSETTO:-0500
TZNAME:EST
DTSTART:20261101T060000
END:STANDARD
BEGIN:DAYLIGHT
TZOFFSETFROM:-0500
TZOFFSETTO:-0400
TZNAME:EDT
DTSTART:20270314T070000
END:DAYLIGHT
BEGIN:STANDARD
TZOFFSETFROM:-0400
TZOFFSETTO:-0500
TZNAME:EST
DTSTART:20271107T060000
END:STANDARD
END:VTIMEZONE
BEGIN:VEVENT
DTSTART;TZID=America/New_York:20260210T080000
DTEND;TZID=America/New_York:20260210T170000
DTSTAMP:20260421T190440
CREATED:20260209T121916Z
LAST-MODIFIED:20260209T121916Z
UID:10000525-1770710400-1770742800@toledopolice.com
SUMMARY:LCCP DNA
DESCRIPTION:CR0202401391 2-10-26 1300hrs (#2716\, 2799\, 2697\, 2639) 2-6-26 1630hrs #2526
URL:https://toledopolice.com/event/lccp-dna-187/
END:VEVENT
BEGIN:VEVENT
DTSTART;TZID=America/New_York:20260210T080000
DTEND;TZID=America/New_York:20260210T170000
DTSTAMP:20260421T190440
CREATED:20260205T172139Z
LAST-MODIFIED:20260205T172139Z
UID:10000509-1770710400-1770742800@toledopolice.com
SUMMARY:LCCP DNA
DESCRIPTION:CR2025-00640 2-10-26 0900hrs (#2227\, 3001\, 2965\, 2172) 2-5-26 1200hrs #2526
URL:https://toledopolice.com/event/lccp-dna-184/
END:VEVENT
BEGIN:VEVENT
DTSTART;TZID=America/New_York:20260209T093000
DTEND;TZID=America/New_York:20260209T093000
DTSTAMP:20260421T190440
CREATED:20260206T181523Z
LAST-MODIFIED:20260206T181523Z
UID:10000520-1770629400-1770629400@toledopolice.com
SUMMARY:LCCMP-DNA
DESCRIPTION:CR2025-01253 02/09/2026 0930HRS. (#2882\,2227\,2727\,2750\,2880\,2349\,2976\,2876\,2550) 02/06/2026 1315 HRS. #2527
URL:https://toledopolice.com/event/lccmp-dna-32/
END:VEVENT
BEGIN:VEVENT
DTSTART;TZID=America/New_York:20260209T090000
DTEND;TZID=America/New_York:20260209T090000
DTSTAMP:20260421T190440
CREATED:20260206T180028Z
LAST-MODIFIED:20260206T180028Z
UID:10000515-1770627600-1770627600@toledopolice.com
SUMMARY:LCCMP-DNA
DESCRIPTION:CR-2025-00760 & CR2025-00761  02/09/2026 0900HRS (#2928\,2714\,2699\,2668\,2609\,2747\,2892\,2141\,3019\,2931\,2227\,2503\,3038\,2372\,2857\,2900\,3043\,2484\,2926\,2753\,2711\,2089\,2681\,2856\,2337\,2942\,2220\,2162\,2625\,2582\,2835\,2968\,2771\,2791\,2930\,2950\,2237\,2743) 02/06/2026 1300HRS.  #2527
URL:https://toledopolice.com/event/lccmp-dna-27/
END:VEVENT
BEGIN:VEVENT
DTSTART;TZID=America/New_York:20260209T090000
DTEND;TZID=America/New_York:20260209T090000
DTSTAMP:20260421T190440
CREATED:20260205T134030Z
LAST-MODIFIED:20260205T134509Z
UID:10000496-1770627600-1770627600@toledopolice.com
SUMMARY:LCCMP-DNA
DESCRIPTION:CR2025-01035 02-09-2026 0900HRS (#8321\,2227\,2804\,2919\,2926\,2466\,8635\,2961\,2869) 02/05/2026 0840HRS. #2527
URL:https://toledopolice.com/event/lccmp-12/
END:VEVENT
BEGIN:VEVENT
DTSTART;TZID=America/New_York:20260209T090000
DTEND;TZID=America/New_York:20260209T090000
DTSTAMP:20260421T190440
CREATED:20260204T190427Z
LAST-MODIFIED:20260205T134522Z
UID:10000492-1770627600-1770627600@toledopolice.com
SUMMARY:LCCMP-DNA
DESCRIPTION:CR2025-01292  02/09/2026 0900hrs. (#2336\,2776)  02/04/2026 1406hrs. #2527
URL:https://toledopolice.com/event/lccmp-8/
END:VEVENT
BEGIN:VEVENT
DTSTART;TZID=America/New_York:20260209T090000
DTEND;TZID=America/New_York:20260209T090000
DTSTAMP:20260421T190440
CREATED:20260127T181620Z
LAST-MODIFIED:20260205T134534Z
UID:10000474-1770627600-1770627600@toledopolice.com
SUMMARY:LCCMP-DNA
DESCRIPTION:CR2025-00711  02/09/2026 0900hrs. (#2227\,2419\,2286\,3018\,2629\,2336) 01/27/2026 1300hr. #2527
URL:https://toledopolice.com/event/lccmp-7/
END:VEVENT
BEGIN:VEVENT
DTSTART;TZID=America/New_York:20260209T090000
DTEND;TZID=America/New_York:20260209T090000
DTSTAMP:20260421T190440
CREATED:20260127T181437Z
LAST-MODIFIED:20260205T134548Z
UID:10000473-1770627600-1770627600@toledopolice.com
SUMMARY:LCCMP-DNA
DESCRIPTION:CR2025-00711  02/09/2026 0900hrs. (#2227\,2419\,2286\,3018\,2629\,2336) 01/27/2026 1300hr. #2527
URL:https://toledopolice.com/event/lccmp-6/
END:VEVENT
BEGIN:VEVENT
DTSTART;TZID=America/New_York:20260209T080000
DTEND;TZID=America/New_York:20260209T170000
DTSTAMP:20260421T190440
CREATED:20260209T154910Z
LAST-MODIFIED:20260209T154910Z
UID:10000526-1770624000-1770656400@toledopolice.com
SUMMARY:TMC – No officers needed for court call in
DESCRIPTION:
URL:https://toledopolice.com/event/tmc-no-officers-needed-for-court-call-in-20/
END:VEVENT
BEGIN:VEVENT
DTSTART;TZID=America/New_York:20260209T080000
DTEND;TZID=America/New_York:20260209T170000
DTSTAMP:20260421T190440
CREATED:20260205T172105Z
LAST-MODIFIED:20260205T172105Z
UID:10000508-1770624000-1770656400@toledopolice.com
SUMMARY:LCCP DNA
DESCRIPTION:CR2025-00640 2-9-26 0900hrs (#2227\, 3001\, 2965\, 2172) 2-5-26 1200hrs #2526
URL:https://toledopolice.com/event/lccp-dna-183/
END:VEVENT
BEGIN:VEVENT
DTSTART;TZID=America/New_York:20260206T090000
DTEND;TZID=America/New_York:20260206T090000
DTSTAMP:20260421T190440
CREATED:20260202T191250Z
LAST-MODIFIED:20260202T191250Z
UID:10000487-1770368400-1770368400@toledopolice.com
SUMMARY:LUCCMP-DNA
DESCRIPTION:CR2025-01305  02/06/2026 0900hrs (#2643\,2229\,2590\,2984\,2802\,2703\,2962\,2623\,2349\,2795\,2981\,2618\,3025\,8321\,2885\,3009\,3012\,2768)  02/02/2026 1409hrs. #2527
URL:https://toledopolice.com/event/luccmp-dna-7/
END:VEVENT
BEGIN:VEVENT
DTSTART;TZID=America/New_York:20260206T090000
DTEND;TZID=America/New_York:20260206T090000
DTSTAMP:20260421T190440
CREATED:20260127T181337Z
LAST-MODIFIED:20260205T134619Z
UID:10000472-1770368400-1770368400@toledopolice.com
SUMMARY:LCCMP-DNA
DESCRIPTION:CR2025-00711  02/06/2026 0900hrs. (#2227\,2419\,2286\,3018\,2629\,2336) 01/27/2026 1300hr. #2527
URL:https://toledopolice.com/event/25565/
END:VEVENT
BEGIN:VEVENT
DTSTART;TZID=America/New_York:20260206T080000
DTEND;TZID=America/New_York:20260206T170000
DTSTAMP:20260421T190440
CREATED:20260206T175547Z
LAST-MODIFIED:20260206T175547Z
UID:10000514-1770364800-1770397200@toledopolice.com
SUMMARY:LCCMP-DNA
DESCRIPTION:G-4801-CR-0202401391-000D1 02/06/2026 (#2716)  02/06/2026  1256HRS. #2527
URL:https://toledopolice.com/event/lccmp-dna-26/
END:VEVENT
BEGIN:VEVENT
DTSTART;TZID=America/New_York:20260206T080000
DTEND;TZID=America/New_York:20260206T170000
DTSTAMP:20260421T190440
CREATED:20260206T153735Z
LAST-MODIFIED:20260206T153735Z
UID:10000512-1770364800-1770397200@toledopolice.com
SUMMARY:TMC
DESCRIPTION:TMC-No officers are needed for the court call-in program
URL:https://toledopolice.com/event/tmc-100/
END:VEVENT
BEGIN:VEVENT
DTSTART;TZID=America/New_York:20260206T080000
DTEND;TZID=America/New_York:20260206T170000
DTSTAMP:20260421T190440
CREATED:20251231T133659Z
LAST-MODIFIED:20251231T133659Z
UID:10000410-1770364800-1770397200@toledopolice.com
SUMMARY:LCCP DNA
DESCRIPTION:CR2025-00394 2-6-26 0930hrs (#8321\, 8598\, 2431\, 2587\, 2840\, 2227\, 2322\, 2488\, 2424\, 3019\, 3015\, 2732\, 2539\, 2469) 12-30-25 1701hrs #2526
URL:https://toledopolice.com/event/lccp-dna-142/
END:VEVENT
BEGIN:VEVENT
DTSTART;TZID=America/New_York:20260205T090000
DTEND;TZID=America/New_York:20260205T090000
DTSTAMP:20260421T190440
CREATED:20260202T191203Z
LAST-MODIFIED:20260202T191203Z
UID:10000486-1770282000-1770282000@toledopolice.com
SUMMARY:LUCCMP -DNA
DESCRIPTION:CR2025-01305  02/05/2026 0900hrs (#2643\,2229\,2590\,2984\,2802\,2703\,2962\,2623\,2349\,2795\,2981\,2618\,3025\,8321\,2885\,3009\,3012\,2768)  02/02/2026 1409hrs. #2527
URL:https://toledopolice.com/event/luccmp-dna-6/
END:VEVENT
BEGIN:VEVENT
DTSTART;TZID=America/New_York:20260205T080000
DTEND;TZID=America/New_York:20260205T170000
DTSTAMP:20260421T190440
CREATED:20260205T153000Z
LAST-MODIFIED:20260205T153000Z
UID:10000507-1770278400-1770310800@toledopolice.com
SUMMARY:TMC
DESCRIPTION:TMC-No officers are needed for the court call-in program
URL:https://toledopolice.com/event/tmc-99/
END:VEVENT
BEGIN:VEVENT
DTSTART;TZID=America/New_York:20260205T080000
DTEND;TZID=America/New_York:20260205T170000
DTSTAMP:20260421T190440
CREATED:20260129T171240Z
LAST-MODIFIED:20260129T171323Z
UID:10000480-1770278400-1770310800@toledopolice.com
SUMMARY:LCCP DNA
DESCRIPTION:CR2025-01424 2-5-26 0900hrs (#8439\, 3002\, 2227\, 2703\, 2947\, 2513\, 2652) 1-29-26 1159hrs #2526
URL:https://toledopolice.com/event/lccp-dna-182/
END:VEVENT
BEGIN:VEVENT
DTSTART;TZID=America/New_York:20260205T080000
DTEND;TZID=America/New_York:20260205T170000
DTSTAMP:20260421T190440
CREATED:20251231T133616Z
LAST-MODIFIED:20251231T133616Z
UID:10000409-1770278400-1770310800@toledopolice.com
SUMMARY:LCCP DNA
DESCRIPTION:CR2025-00394 2-5-26 0930hrs (#8321\, 8598\, 2431\, 2587\, 2840\, 2227\, 2322\, 2488\, 2424\, 3019\, 3015\, 2732\, 2539\, 2469) 12-30-25 1701hrs #2526
URL:https://toledopolice.com/event/lccp-dna-141/
END:VEVENT
BEGIN:VEVENT
DTSTART;TZID=America/New_York:20260204T090000
DTEND;TZID=America/New_York:20260204T090000
DTSTAMP:20260421T190440
CREATED:20260202T191620Z
LAST-MODIFIED:20260202T191620Z
UID:10000489-1770195600-1770195600@toledopolice.com
SUMMARY:LCCMP-DNA
DESCRIPTION:CR-2025-01451 02/04/2026 0900hrs (#2878\,2787\,2326\,2883\,2881) 02/02/2026 1414 hrs. #2527 \n  \nCR-2025-01452 02/04/2026 0900hrs (#2878\,2787\,2326\,2883\,2881) 02/02/2026 1414 hrs. #2527
URL:https://toledopolice.com/event/lccmp-dna-17/
END:VEVENT
BEGIN:VEVENT
DTSTART;TZID=America/New_York:20260204T090000
DTEND;TZID=America/New_York:20260204T090000
DTSTAMP:20260421T190440
CREATED:20260202T191114Z
LAST-MODIFIED:20260202T191114Z
UID:10000485-1770195600-1770195600@toledopolice.com
SUMMARY:LUCCMP-DNA
DESCRIPTION:CR2025-01305  02/04/2026 0900hrs (#2643\,2229\,2590\,2984\,2802\,2703\,2962\,2623\,2349\,2795\,2981\,2618\,3025\,8321\,2885\,3009\,3012\,2768)  02/02/2026 1409hrs. #2527
URL:https://toledopolice.com/event/luccmp-dna-5/
END:VEVENT
BEGIN:VEVENT
DTSTART;TZID=America/New_York:20260204T090000
DTEND;TZID=America/New_York:20260204T090000
DTSTAMP:20260421T190440
CREATED:20260127T181252Z
LAST-MODIFIED:20260127T181252Z
UID:10000471-1770195600-1770195600@toledopolice.com
SUMMARY:LCCMP
DESCRIPTION:CR2025-00711  02/04/2026 0900hrs. (#2227\,2419\,2286\,3018\,2629\,2336) 01/27/2026 1300hr. #2527
URL:https://toledopolice.com/event/lccmp-5/
END:VEVENT
BEGIN:VEVENT
DTSTART;TZID=America/New_York:20260204T080000
DTEND;TZID=America/New_York:20260204T170000
DTSTAMP:20260421T190440
CREATED:20260204T153852Z
LAST-MODIFIED:20260204T153852Z
UID:10000491-1770192000-1770224400@toledopolice.com
SUMMARY:TMC
DESCRIPTION:TMC- No officers are needed for the court call-in program
URL:https://toledopolice.com/event/tmc-98/
END:VEVENT
BEGIN:VEVENT
DTSTART;TZID=America/New_York:20260204T080000
DTEND;TZID=America/New_York:20260204T170000
DTSTAMP:20260421T190440
CREATED:20260129T171211Z
LAST-MODIFIED:20260129T171211Z
UID:10000479-1770192000-1770224400@toledopolice.com
SUMMARY:LCCP DNA
DESCRIPTION:CR2025-01424 2-4-26 0900hrs (#8439\, 3002\, 2227\, 2703\, 2947\, 2513\, 2652) 1-29-26 1159hrs #2526
URL:https://toledopolice.com/event/lccp-dna-181/
END:VEVENT
BEGIN:VEVENT
DTSTART;TZID=America/New_York:20260204T080000
DTEND;TZID=America/New_York:20260204T170000
DTSTAMP:20260421T190440
CREATED:20251231T133546Z
LAST-MODIFIED:20251231T133546Z
UID:10000408-1770192000-1770224400@toledopolice.com
SUMMARY:LCCP DNA
DESCRIPTION:CR2025-00394 2-4-26 0930hrs (#8321\, 8598\, 2431\, 2587\, 2840\, 2227\, 2322\, 2488\, 2424\, 3019\, 3015\, 2732\, 2539\, 2469) 12-30-25 1701hrs #2526
URL:https://toledopolice.com/event/lccp-dna-140/
END:VEVENT
BEGIN:VEVENT
DTSTART;TZID=America/New_York:20260203T090000
DTEND;TZID=America/New_York:20260203T090000
DTSTAMP:20260421T190440
CREATED:20260202T191454Z
LAST-MODIFIED:20260202T191454Z
UID:10000488-1770109200-1770109200@toledopolice.com
SUMMARY:LUCCMP-DNA
DESCRIPTION:CR-2025-01451 02/03/2026 0900hrs (#2878\,2787\,2326\,2883\,2881) 02/02/2026 1414 hrs. #2527 \nCR-2025-01452 02/03/2026 0900hrs (#2878\,2787\,2326\,2883\,2881) 02/02/2026 1414 hrs. #2527
URL:https://toledopolice.com/event/luccmp-dna-8/
END:VEVENT
BEGIN:VEVENT
DTSTART;TZID=America/New_York:20260203T090000
DTEND;TZID=America/New_York:20260203T090000
DTSTAMP:20260421T190440
CREATED:20260202T191015Z
LAST-MODIFIED:20260202T191015Z
UID:10000484-1770109200-1770109200@toledopolice.com
SUMMARY:LUCCMP-DNA
DESCRIPTION:CR2025-01305  02/03/2026 0900hrs (#2643\,2229\,2590\,2984\,2802\,2703\,2962\,2623\,2349\,2795\,2981\,2618\,3025\,8321\,2885\,3009\,3012\,2768)  02/02/2026 1409hrs. #2527
URL:https://toledopolice.com/event/luccmp-dna-4/
END:VEVENT
BEGIN:VEVENT
DTSTART;TZID=America/New_York:20260203T090000
DTEND;TZID=America/New_York:20260203T090000
DTSTAMP:20260421T190440
CREATED:20260127T181153Z
LAST-MODIFIED:20260127T181153Z
UID:10000470-1770109200-1770109200@toledopolice.com
SUMMARY:LCCMP
DESCRIPTION:CR2025-00711  02/03/2026 0900hrs. (#2227\,2419\,2286\,3018\,2629\,2336) 01/27/2026 1300hr. #2527
URL:https://toledopolice.com/event/lccmp-4/
END:VEVENT
BEGIN:VEVENT
DTSTART;TZID=America/New_York:20260203T080000
DTEND;TZID=America/New_York:20260203T170000
DTSTAMP:20260421T190440
CREATED:20260203T153156Z
LAST-MODIFIED:20260203T153156Z
UID:10000490-1770105600-1770138000@toledopolice.com
SUMMARY:TMC
DESCRIPTION:TMC-No officers are needed for the court call-in program
URL:https://toledopolice.com/event/tmc-97/
END:VEVENT
BEGIN:VEVENT
DTSTART;TZID=America/New_York:20260203T080000
DTEND;TZID=America/New_York:20260203T170000
DTSTAMP:20260421T190440
CREATED:20260129T171135Z
LAST-MODIFIED:20260129T171135Z
UID:10000478-1770105600-1770138000@toledopolice.com
SUMMARY:LCCP DNA
DESCRIPTION:CR2025-01424 2-3-26 0900hrs (#8439\, 3002\, 2227\, 2703\, 2947\, 2513\, 2652) 1-29-26 1159hrs #2526
URL:https://toledopolice.com/event/lccp-dna-180/
END:VEVENT
END:VCALENDAR