BEGIN:VCALENDAR
VERSION:2.0
PRODID:-//Toledo Police Department - ECPv6.15.20//NONSGML v1.0//EN
CALSCALE:GREGORIAN
METHOD:PUBLISH
X-ORIGINAL-URL:https://toledopolice.com
X-WR-CALDESC:Events for Toledo Police Department
REFRESH-INTERVAL;VALUE=DURATION:PT1H
X-Robots-Tag:noindex
X-PUBLISHED-TTL:PT1H
BEGIN:VTIMEZONE
TZID:America/New_York
BEGIN:DAYLIGHT
TZOFFSETFROM:-0500
TZOFFSETTO:-0400
TZNAME:EDT
DTSTART:20240310T070000
END:DAYLIGHT
BEGIN:STANDARD
TZOFFSETFROM:-0400
TZOFFSETTO:-0500
TZNAME:EST
DTSTART:20241103T060000
END:STANDARD
BEGIN:DAYLIGHT
TZOFFSETFROM:-0500
TZOFFSETTO:-0400
TZNAME:EDT
DTSTART:20250309T070000
END:DAYLIGHT
BEGIN:STANDARD
TZOFFSETFROM:-0400
TZOFFSETTO:-0500
TZNAME:EST
DTSTART:20251102T060000
END:STANDARD
BEGIN:DAYLIGHT
TZOFFSETFROM:-0500
TZOFFSETTO:-0400
TZNAME:EDT
DTSTART:20260308T070000
END:DAYLIGHT
BEGIN:STANDARD
TZOFFSETFROM:-0400
TZOFFSETTO:-0500
TZNAME:EST
DTSTART:20261101T060000
END:STANDARD
END:VTIMEZONE
BEGIN:VEVENT
DTSTART;TZID=America/New_York:20250519T080000
DTEND;TZID=America/New_York:20250519T170000
DTSTAMP:20260421T211636
CREATED:20250414T114722Z
LAST-MODIFIED:20250516T143416Z
UID:10000061-1747641600-1747674000@toledopolice.com
SUMMARY:DNA LCCP
DESCRIPTION:CR-24-01175 5-19-2025 0900hrs. (#2567\, 2331\, 2856\, 2227\, 2084\, 2568) 4-14-2025 0745hrs. #2547. \nCR-24-02667 5-19-2025 0900hrs. (#2572\, 2550\, 2704\, 2780\, 2747\, 2886\, 8635\, 2943\, 2881\, 3007\, 8439) 5-13-2025 1355hrs. #2547 \nCR-24-02145 5-19-2025 0900hrs. (#2859\, 2679\, 2855\, 2844\, 2794\, 2602\, 8439\, 8321) 5-16-2025 1030hrs. #2547.
URL:https://toledopolice.com/event/dna-lccp-32/
END:VEVENT
BEGIN:VEVENT
DTSTART;TZID=America/New_York:20250519T080000
DTEND;TZID=America/New_York:20250519T170000
DTSTAMP:20260421T211636
CREATED:20250512T154326Z
LAST-MODIFIED:20250512T155145Z
UID:10000093-1747641600-1747674000@toledopolice.com
SUMMARY:DNA JJC
DESCRIPTION:JC25304390 5-19-2025 1330hrs. (#2586) 5-12-2025 1145hrs. #2547.
URL:https://toledopolice.com/event/dna-lcj/
END:VEVENT
BEGIN:VEVENT
DTSTART;TZID=America/New_York:20250519T080000
DTEND;TZID=America/New_York:20250519T170000
DTSTAMP:20260421T211636
CREATED:20250515T171132Z
LAST-MODIFIED:20250515T171132Z
UID:10000096-1747641600-1747674000@toledopolice.com
SUMMARY:LCCP-DNA
DESCRIPTION:CR-02024-02345  05/19/2025 0900hrs. (#2676\,2856\,2719\,2694\,2856\,2707\,2722) 05/15/2025  1311hrs. #2527
URL:https://toledopolice.com/event/lccp-dna-6/
END:VEVENT
BEGIN:VEVENT
DTSTART;TZID=America/New_York:20250520T080000
DTEND;TZID=America/New_York:20250520T170000
DTSTAMP:20260421T211636
CREATED:20250414T114750Z
LAST-MODIFIED:20250414T114750Z
UID:10000062-1747728000-1747760400@toledopolice.com
SUMMARY:DNA LCCP
DESCRIPTION:CR-24-01175 5-20-2025 0900hrs. (#2567\, 2331\, 2856\, 2227\, 2084\, 2568) 4-14-2025 0745hrs. #2547.
URL:https://toledopolice.com/event/dna-lccp-33/
END:VEVENT
BEGIN:VEVENT
DTSTART;TZID=America/New_York:20250520T080000
DTEND;TZID=America/New_York:20250520T170000
DTSTAMP:20260421T211636
CREATED:20250515T171318Z
LAST-MODIFIED:20250515T171343Z
UID:10000097-1747728000-1747760400@toledopolice.com
SUMMARY:LCCP-DNA
DESCRIPTION:CR-2025-00073 05/20/2025 0900hrs. (#2489\,2873\,2227\,2609\,2892) 05/15/2025 1312hrs. #2527
URL:https://toledopolice.com/event/lccp-dna-7/
END:VEVENT
BEGIN:VEVENT
DTSTART;TZID=America/New_York:20250520T080000
DTEND;TZID=America/New_York:20250520T170000
DTSTAMP:20260421T211636
CREATED:20250515T171524Z
LAST-MODIFIED:20250515T171524Z
UID:10000098-1747728000-1747760400@toledopolice.com
SUMMARY:LCCP - DNA
DESCRIPTION:CR-2024-02345  05/20/2025 0900hrs. (#2922\,2227\,2719\,2830\,2941\,2767\,2707\,2567)  05/15/2025  1315hrs. #2527
URL:https://toledopolice.com/event/lccp-dna-8/
END:VEVENT
BEGIN:VEVENT
DTSTART;TZID=America/New_York:20250520T080000
DTEND;TZID=America/New_York:20250520T170000
DTSTAMP:20260421T211636
CREATED:20250519T181604Z
LAST-MODIFIED:20250519T181634Z
UID:10000101-1747728000-1747760400@toledopolice.com
SUMMARY:LCCP -DNA
DESCRIPTION:CR-2025-00419  05/20/2025 0900hrs. (#2572\,3012\,2965\,2830) 05/19/2025 1415hrs. #2527
URL:https://toledopolice.com/event/lccp-dna-10/
END:VEVENT
BEGIN:VEVENT
DTSTART;TZID=America/New_York:20250520T080000
DTEND;TZID=America/New_York:20250520T170000
DTSTAMP:20260421T211636
CREATED:20250520T150908Z
LAST-MODIFIED:20250520T150908Z
UID:10000102-1747728000-1747760400@toledopolice.com
SUMMARY:TMC
DESCRIPTION:TMC-No officers are needed for court call-in.
URL:https://toledopolice.com/event/tmc-40/
END:VEVENT
BEGIN:VEVENT
DTSTART;TZID=America/New_York:20250521T080000
DTEND;TZID=America/New_York:20250521T170000
DTSTAMP:20260421T211636
CREATED:20250414T114823Z
LAST-MODIFIED:20250414T114823Z
UID:10000063-1747814400-1747846800@toledopolice.com
SUMMARY:DNA LCCP
DESCRIPTION:CR-24-01175 5-21-2025 0900hrs. (#2567\, 2331\, 2856\, 2227\, 2084\, 2568) 4-14-2025 0745hrs. #2547.
URL:https://toledopolice.com/event/dna-lccp-34/
END:VEVENT
BEGIN:VEVENT
DTSTART;TZID=America/New_York:20250521T080000
DTEND;TZID=America/New_York:20250521T170000
DTSTAMP:20260421T211636
CREATED:20250521T151512Z
LAST-MODIFIED:20250521T151512Z
UID:10000103-1747814400-1747846800@toledopolice.com
SUMMARY:TMC
DESCRIPTION:TMC-No officers are needed for court call-in.
URL:https://toledopolice.com/event/tmc-41/
END:VEVENT
BEGIN:VEVENT
DTSTART;TZID=America/New_York:20250522T080000
DTEND;TZID=America/New_York:20250522T170000
DTSTAMP:20260421T211636
CREATED:20250515T171631Z
LAST-MODIFIED:20250515T171631Z
UID:10000099-1747900800-1747933200@toledopolice.com
SUMMARY:LCCP-DNA
DESCRIPTION:CR-2024-02345  05/22/2025 0900hrs. (#2922\,2227\,2719\,2830\,2941\,2767\,2707\,2567)   05/15/2025 1316hrs. #2527
URL:https://toledopolice.com/event/lccp-dna-9/
END:VEVENT
BEGIN:VEVENT
DTSTART;TZID=America/New_York:20250522T080000
DTEND;TZID=America/New_York:20250522T170000
DTSTAMP:20260421T211636
CREATED:20250522T151044Z
LAST-MODIFIED:20250522T151044Z
UID:10000105-1747900800-1747933200@toledopolice.com
SUMMARY:TMC
DESCRIPTION:TMC-No officers are needed for court call-in.
URL:https://toledopolice.com/event/tmc-42/
END:VEVENT
BEGIN:VEVENT
DTSTART;TZID=America/New_York:20250523T080000
DTEND;TZID=America/New_York:20250523T170000
DTSTAMP:20260421T211636
CREATED:20250523T145104Z
LAST-MODIFIED:20250523T145104Z
UID:10000107-1747987200-1748019600@toledopolice.com
SUMMARY:TMC
DESCRIPTION:TMC-No officers are needed for court call-in.
URL:https://toledopolice.com/event/tmc-43/
END:VEVENT
BEGIN:VEVENT
DTSTART;TZID=America/New_York:20250527T080000
DTEND;TZID=America/New_York:20250527T170000
DTSTAMP:20260421T211636
CREATED:20250429T120036Z
LAST-MODIFIED:20250429T120036Z
UID:10000077-1748332800-1748365200@toledopolice.com
SUMMARY:DNA LCCP
DESCRIPTION:CR-24-02461 5-27-2025 0900hrs. (#2694\, 2372\, 2743\, 2681\, 2699\, 2668\, 2227\, 2839\, 2379\, 2976\, 2162\, 2791\, 2639\, 2982\, 2572\, 2980\, 2135\, 2884) 4-29-2025 0800hrs. #2547.
URL:https://toledopolice.com/event/dna-lccp-38/
END:VEVENT
BEGIN:VEVENT
DTSTART;TZID=America/New_York:20250527T080000
DTEND;TZID=America/New_York:20250527T170000
DTSTAMP:20260421T211636
CREATED:20250522T161608Z
LAST-MODIFIED:20250522T161608Z
UID:10000106-1748332800-1748365200@toledopolice.com
SUMMARY:LCCP-DNA
DESCRIPTION:CR2024-02801  05/27/2025 0900hrs. (#8439\,2723\,2391\,2844) 05/22/2025 1215hrs. #2527.
URL:https://toledopolice.com/event/lccp-dna-12/
END:VEVENT
BEGIN:VEVENT
DTSTART;TZID=America/New_York:20250527T080000
DTEND;TZID=America/New_York:20250527T170000
DTSTAMP:20260421T211636
CREATED:20250527T152215Z
LAST-MODIFIED:20250527T152215Z
UID:10000108-1748332800-1748365200@toledopolice.com
SUMMARY:TMC
DESCRIPTION:TMC-No officers are needed for court call-in.
URL:https://toledopolice.com/event/tmc-44/
END:VEVENT
BEGIN:VEVENT
DTSTART;VALUE=DATE:20250529
DTEND;VALUE=DATE:20250530
DTSTAMP:20260421T211636
CREATED:20250529T170138Z
LAST-MODIFIED:20250529T170138Z
UID:10000110-1748476800-1748563199@toledopolice.com
SUMMARY:TMC
DESCRIPTION:No Officers Needed for Court Call In Program
URL:https://toledopolice.com/event/tmc-45/
END:VEVENT
BEGIN:VEVENT
DTSTART;TZID=America/New_York:20250529T080000
DTEND;TZID=America/New_York:20250529T170000
DTSTAMP:20260421T211636
CREATED:20250522T120931Z
LAST-MODIFIED:20250522T121112Z
UID:10000104-1748505600-1748538000@toledopolice.com
SUMMARY:LCCP-DNA
DESCRIPTION:CR-2024-02491 05/29/2025 0900hrs  (#2888\,2845\,2572\,2372\,2260\,2863\,2926\,2234) 05/22/2025 0809hrs. #2527
URL:https://toledopolice.com/event/lccp-dna-11/
END:VEVENT
BEGIN:VEVENT
DTSTART;TZID=America/New_York:20250529T080000
DTEND;TZID=America/New_York:20250529T170000
DTSTAMP:20260421T211636
CREATED:20250529T165826Z
LAST-MODIFIED:20250529T165826Z
UID:10000109-1748505600-1748538000@toledopolice.com
SUMMARY:TMC No Officer Needed for Court Call In Program
DESCRIPTION:
URL:https://toledopolice.com/event/tmc-no-officer-needed-for-court-call-in-program/
END:VEVENT
BEGIN:VEVENT
DTSTART;TZID=America/New_York:20250609T080000
DTEND;TZID=America/New_York:20250609T170000
DTSTAMP:20260421T211636
CREATED:20250606T164122Z
LAST-MODIFIED:20250606T164122Z
UID:10000111-1749456000-1749488400@toledopolice.com
SUMMARY:DNA LCCP
DESCRIPTION:CR-25-00214 6-9-2025 0930 hrs. (#2672\, 2806\, 2569\, 2713\, 8439) 6-6-2025 1240hrs. #2547.
URL:https://toledopolice.com/event/dna-lccp-44/
END:VEVENT
BEGIN:VEVENT
DTSTART;TZID=America/New_York:20250609T080000
DTEND;TZID=America/New_York:20250609T170000
DTSTAMP:20260421T211636
CREATED:20250609T145233Z
LAST-MODIFIED:20250609T145233Z
UID:10000113-1749456000-1749488400@toledopolice.com
SUMMARY:TMC
DESCRIPTION:No Officers are Needed for the Court Call In Program.
URL:https://toledopolice.com/event/tmc-46/
END:VEVENT
BEGIN:VEVENT
DTSTART;TZID=America/New_York:20250610T080000
DTEND;TZID=America/New_York:20250610T170000
DTSTAMP:20260421T211636
CREATED:20250606T164257Z
LAST-MODIFIED:20250606T164257Z
UID:10000112-1749542400-1749574800@toledopolice.com
SUMMARY:DNA LCCP
DESCRIPTION:CR-25-00214 6-10-2025 0930 hrs. (#2672\, 2806\, 2569\, 2713\, 8439) 6-6-2025 1240hrs. #2547.
URL:https://toledopolice.com/event/dna-lccp-45/
END:VEVENT
BEGIN:VEVENT
DTSTART;TZID=America/New_York:20250611T080000
DTEND;TZID=America/New_York:20250611T170000
DTSTAMP:20260421T211636
CREATED:20250611T150234Z
LAST-MODIFIED:20250611T150234Z
UID:10000115-1749628800-1749661200@toledopolice.com
SUMMARY:TMC
DESCRIPTION:No Officers are Needed for the Court Call In Program.
URL:https://toledopolice.com/event/tmc-47/
END:VEVENT
BEGIN:VEVENT
DTSTART;TZID=America/New_York:20250612T080000
DTEND;TZID=America/New_York:20250612T170000
DTSTAMP:20260421T211636
CREATED:20250612T145124Z
LAST-MODIFIED:20250612T145124Z
UID:10000116-1749715200-1749747600@toledopolice.com
SUMMARY:TMC
DESCRIPTION:No Officers are Needed for the Court Call In Program.
URL:https://toledopolice.com/event/tmc-48/
END:VEVENT
BEGIN:VEVENT
DTSTART;TZID=America/New_York:20250617T080000
DTEND;TZID=America/New_York:20250617T170000
DTSTAMP:20260421T211636
CREATED:20250610T180237Z
LAST-MODIFIED:20250610T180237Z
UID:10000114-1750147200-1750179600@toledopolice.com
SUMMARY:DNA LCCP
DESCRIPTION:CR-24-02596 6-17-2025 0900hrs. (#2227\, 2740\, 3008\, 2929) 6-10-2025 1400hrs. #2547.
URL:https://toledopolice.com/event/dna-lccp-46/
END:VEVENT
BEGIN:VEVENT
DTSTART;TZID=America/New_York:20250624T080000
DTEND;TZID=America/New_York:20250624T170000
DTSTAMP:20260421T211636
CREATED:20250612T164146Z
LAST-MODIFIED:20250612T164146Z
UID:10000117-1750752000-1750784400@toledopolice.com
SUMMARY:DNA LCCP
DESCRIPTION:CR-24-02784 6-24-2025 0900hrs. (#2753\, 2654) 6-12-2025 1240hrs. #2547.
URL:https://toledopolice.com/event/dna-lccp-47/
END:VEVENT
BEGIN:VEVENT
DTSTART;TZID=America/New_York:20250624T080000
DTEND;TZID=America/New_York:20250624T170000
DTSTAMP:20260421T211636
CREATED:20250616T173734Z
LAST-MODIFIED:20250616T173756Z
UID:10000118-1750752000-1750784400@toledopolice.com
SUMMARY:LCCP-DNA
DESCRIPTION:CR-2025-00007 06/23/2025 0900hrs. (#2227\,2724\,2604\,2722) 06/16/2025 #2527
URL:https://toledopolice.com/event/lccp-dna-13/
END:VEVENT
BEGIN:VEVENT
DTSTART;TZID=America/New_York:20250624T080000
DTEND;TZID=America/New_York:20250624T170000
DTSTAMP:20260421T211636
CREATED:20250616T174210Z
LAST-MODIFIED:20250616T174333Z
UID:10000119-1750752000-1750784400@toledopolice.com
SUMMARY:LCCP-DNA
DESCRIPTION:CR-2025-00411 06/24/2025 0900hrs. (#2227\,2988\,3025\,3016\,2906\,2849\,2991\,2969\,2877\,2951\,2843\,2769) 06/16/2025 1341hrs.
URL:https://toledopolice.com/event/lccp-dna-14/
END:VEVENT
BEGIN:VEVENT
DTSTART;TZID=America/New_York:20250624T080000
DTEND;TZID=America/New_York:20250624T170000
DTSTAMP:20260421T211636
CREATED:20250619T172212Z
LAST-MODIFIED:20250619T172235Z
UID:10000121-1750752000-1750784400@toledopolice.com
SUMMARY:LCCP-DNA
DESCRIPTION:CR-2025-00063 06/24/2025 0900hrs (#2227\,2838\,2172\,2915) 06/19/2025 1321hrs. #2527
URL:https://toledopolice.com/event/lccp-dna-16/
END:VEVENT
BEGIN:VEVENT
DTSTART;TZID=America/New_York:20250626T080000
DTEND;TZID=America/New_York:20250626T170000
DTSTAMP:20260421T211636
CREATED:20250626T152953Z
LAST-MODIFIED:20250626T152953Z
UID:10000124-1750924800-1750957200@toledopolice.com
SUMMARY:TMC
DESCRIPTION:No Officers are Needed for the Court Call In Program.
URL:https://toledopolice.com/event/tmc-49/
END:VEVENT
END:VCALENDAR