BEGIN:VCALENDAR
VERSION:2.0
PRODID:-//Toledo Police Department - ECPv6.15.20//NONSGML v1.0//EN
CALSCALE:GREGORIAN
METHOD:PUBLISH
X-WR-CALNAME:Toledo Police Department
X-ORIGINAL-URL:https://toledopolice.com
X-WR-CALDESC:Events for Toledo Police Department
REFRESH-INTERVAL;VALUE=DURATION:PT1H
X-Robots-Tag:noindex
X-PUBLISHED-TTL:PT1H
BEGIN:VTIMEZONE
TZID:America/New_York
BEGIN:DAYLIGHT
TZOFFSETFROM:-0500
TZOFFSETTO:-0400
TZNAME:EDT
DTSTART:20250309T070000
END:DAYLIGHT
BEGIN:STANDARD
TZOFFSETFROM:-0400
TZOFFSETTO:-0500
TZNAME:EST
DTSTART:20251102T060000
END:STANDARD
BEGIN:DAYLIGHT
TZOFFSETFROM:-0500
TZOFFSETTO:-0400
TZNAME:EDT
DTSTART:20260308T070000
END:DAYLIGHT
BEGIN:STANDARD
TZOFFSETFROM:-0400
TZOFFSETTO:-0500
TZNAME:EST
DTSTART:20261101T060000
END:STANDARD
BEGIN:DAYLIGHT
TZOFFSETFROM:-0500
TZOFFSETTO:-0400
TZNAME:EDT
DTSTART:20270314T070000
END:DAYLIGHT
BEGIN:STANDARD
TZOFFSETFROM:-0400
TZOFFSETTO:-0500
TZNAME:EST
DTSTART:20271107T060000
END:STANDARD
END:VTIMEZONE
BEGIN:VEVENT
DTSTART;TZID=America/New_York:20260320T080000
DTEND;TZID=America/New_York:20260320T170000
DTSTAMP:20260421T190016
CREATED:20260313T120120Z
LAST-MODIFIED:20260313T120120Z
UID:10000623-1773993600-1774026000@toledopolice.com
SUMMARY:LCCP DNA
DESCRIPTION:CR2025-00362 3-20-26 0900hrs (#2598\, 2585\, 2599\, 2589\, 2689\, 2396\, 2552\, 2571\, 2227\, 2632\, 2603\, 2253\, 2481\, 2638\, 3009\, 2707\, 2332\, 2454\, 2520\, 2194\, 2550\, 2969\, 2401\, 2771\, 2686\, 2469\, 2326\, 3034\, 2141\, 2290\, 3042\, 8321\, 2651\, 2355) 3-12-26 1452hrs #2526 \nCR2025-00363 3-20-26 0900hrs (#2598\, 2585\, 2599\, 2589\, 2689\, 2396\, 2552\, 2571\, 2227\, 2632\, 2603\, 2253\, 2481\, 2638\, 3009\, 2707\, 2332\, 2454\, 2520\, 2194\, 2550\, 2969\, 2401\, 2771\, 2686\, 2469\, 2326\, 3034\, 2141\, 2290\, 3042\, 8321\, 2651\, 2355) 3-12-26 1452hrs #2526 \nCR2025-00364 3-20-26 0900hrs (#2598\, 2585\, 2599\, 2589\, 2689\, 2396\, 2552\, 2571\, 2227\, 2632\, 2603\, 2253\, 2481\, 2638\, 3009\, 2707\, 2332\, 2454\, 2520\, 2194\, 2550\, 2969\, 2401\, 2771\, 2686\, 2469\, 2326\, 3034\, 2141\, 2290\, 3042\, 8321\, 2651\, 2355) 3-12-26 1452hrs #2526 \nCR2025-00365 3-20-26 0900hrs (#2598\, 2585\, 2599\, 2589\, 2689\, 2396\, 2552\, 2571\, 2227\, 2632\, 2603\, 2253\, 2481\, 2638\, 3009\, 2707\, 2332\, 2454\, 2520\, 2194\, 2550\, 2969\, 2401\, 2771\, 2686\, 2469\, 2326\, 3034\, 2141\, 2290\, 3042\, 8321\, 2651\, 2355) 3-12-26 1452hrs #2526
URL:https://toledopolice.com/event/lccp-dna-248/
END:VEVENT
BEGIN:VEVENT
DTSTART;TZID=America/New_York:20260320T080000
DTEND;TZID=America/New_York:20260320T170000
DTSTAMP:20260421T190016
CREATED:20260320T152408Z
LAST-MODIFIED:20260320T152408Z
UID:10000638-1773993600-1774026000@toledopolice.com
SUMMARY:TMC - No officers needed for court call in program
DESCRIPTION:
URL:https://toledopolice.com/event/tmc-no-officers-needed-for-court-call-in-program-40/
END:VEVENT
BEGIN:VEVENT
DTSTART;TZID=America/New_York:20260323T080000
DTEND;TZID=America/New_York:20260323T170000
DTSTAMP:20260421T190016
CREATED:20260323T145704Z
LAST-MODIFIED:20260323T145704Z
UID:10000641-1774252800-1774285200@toledopolice.com
SUMMARY:TMC
DESCRIPTION:TMC-No officers are needed for court call-in.
URL:https://toledopolice.com/event/tmc-113/
END:VEVENT
BEGIN:VEVENT
DTSTART;TZID=America/New_York:20260323T090000
DTEND;TZID=America/New_York:20260323T090000
DTSTAMP:20260421T190016
CREATED:20260318T182631Z
LAST-MODIFIED:20260318T182631Z
UID:10000630-1774256400-1774256400@toledopolice.com
SUMMARY:LCCMP-DNA
DESCRIPTION:CR2025-00978 03/23/2026 0900hrs (#2648\,2723\,2392\,2636)  03/18/2026  1426hrs. #2527
URL:https://toledopolice.com/event/lccmp-dna-52/
END:VEVENT
BEGIN:VEVENT
DTSTART;TZID=America/New_York:20260323T090000
DTEND;TZID=America/New_York:20260323T090000
DTSTAMP:20260421T190016
CREATED:20260320T124442Z
LAST-MODIFIED:20260320T124650Z
UID:10000635-1774256400-1774256400@toledopolice.com
SUMMARY:LCCMP-DNA
DESCRIPTION:CR2025-01549 03/23/2026 0900hrs (#2227\,2922\,8635\,2447\,2995) 03/20/2026  0846hrs. #2527
URL:https://toledopolice.com/event/lccmp-dna-56/
END:VEVENT
BEGIN:VEVENT
DTSTART;TZID=America/New_York:20260323T090000
DTEND;TZID=America/New_York:20260323T090000
DTSTAMP:20260421T190016
CREATED:20260323T114417Z
LAST-MODIFIED:20260323T114417Z
UID:10000639-1774256400-1774256400@toledopolice.com
SUMMARY:LUCCMP-DNA
DESCRIPTION:CR2025-01607  03/23/2026 0900HRS. (#2864\,2274\,2950\,2931\,2709) 03/23/2026 0744HRS. #2527
URL:https://toledopolice.com/event/luccmp-dna-10/
END:VEVENT
BEGIN:VEVENT
DTSTART;TZID=America/New_York:20260324T080000
DTEND;TZID=America/New_York:20260324T170000
DTSTAMP:20260421T190016
CREATED:20260312T162837Z
LAST-MODIFIED:20260312T162837Z
UID:10000618-1774339200-1774371600@toledopolice.com
SUMMARY:LCCP DNA
DESCRIPTION:CR2025-00723 3-24-26 0900hrs (#2686\, 2227\, 2689\, 2924\, 2352) 3-12-26 1121hrs #2526
URL:https://toledopolice.com/event/lccp-dna-243/
END:VEVENT
BEGIN:VEVENT
DTSTART;TZID=America/New_York:20260324T080000
DTEND;TZID=America/New_York:20260324T170000
DTSTAMP:20260421T190016
CREATED:20260324T153555Z
LAST-MODIFIED:20260324T153555Z
UID:10000642-1774339200-1774371600@toledopolice.com
SUMMARY:TMC
DESCRIPTION:TMC-No officers are needed for court call-in.
URL:https://toledopolice.com/event/tmc-114/
END:VEVENT
BEGIN:VEVENT
DTSTART;TZID=America/New_York:20260324T090000
DTEND;TZID=America/New_York:20260324T090000
DTSTAMP:20260421T190016
CREATED:20260316T162445Z
LAST-MODIFIED:20260316T162445Z
UID:10000626-1774342800-1774342800@toledopolice.com
SUMMARY:LCCMP-DNA
DESCRIPTION:CR2025-01245  03/24/2026 0900HRS (#2721 )  03/16/2026  1225hrs. #2527
URL:https://toledopolice.com/event/lccmp-dna-49/
END:VEVENT
BEGIN:VEVENT
DTSTART;TZID=America/New_York:20260324T090000
DTEND;TZID=America/New_York:20260324T090000
DTSTAMP:20260421T190016
CREATED:20260318T182751Z
LAST-MODIFIED:20260318T182751Z
UID:10000631-1774342800-1774342800@toledopolice.com
SUMMARY:LCCMP-DNA
DESCRIPTION:CR2025-00978 03/24/2026 0900hrs (#2648\,2723\,2392\,2636)  03/18/2026  1426hrs. #2527
URL:https://toledopolice.com/event/lccmp-dna-53/
END:VEVENT
BEGIN:VEVENT
DTSTART;TZID=America/New_York:20260324T090000
DTEND;TZID=America/New_York:20260324T090000
DTSTAMP:20260421T190016
CREATED:20260323T115534Z
LAST-MODIFIED:20260323T115534Z
UID:10000640-1774342800-1774342800@toledopolice.com
SUMMARY:LUCCMP-DNA
DESCRIPTION:CR2025-01607  03/24/2026 0900HRS. (#2864\,2274\,2950\,2931\,2709) 03/23/2026 0744HRS. #2527
URL:https://toledopolice.com/event/luccmp-dna-11/
END:VEVENT
BEGIN:VEVENT
DTSTART;TZID=America/New_York:20260325T090000
DTEND;TZID=America/New_York:20260325T090000
DTSTAMP:20260421T190016
CREATED:20260320T124806Z
LAST-MODIFIED:20260320T124806Z
UID:10000636-1774429200-1774429200@toledopolice.com
SUMMARY:LCCMP-DNA
DESCRIPTION:CR2025-01549 03/25/2026 0900hrs (#2227\,2922\,8635\,2447\,2995) 03/20/2026  0846hrs. #2527
URL:https://toledopolice.com/event/lccmp-dna-57/
END:VEVENT
BEGIN:VEVENT
DTSTART;TZID=America/New_York:20260326T080000
DTEND;TZID=America/New_York:20260326T170000
DTSTAMP:20260421T190016
CREATED:20260326T143530Z
LAST-MODIFIED:20260326T144148Z
UID:10000643-1774512000-1774544400@toledopolice.com
SUMMARY:TMC
DESCRIPTION:TMC-No officers are needed for court call-in.
URL:https://toledopolice.com/event/tmc-115/
END:VEVENT
BEGIN:VEVENT
DTSTART;TZID=America/New_York:20260327T080000
DTEND;TZID=America/New_York:20260327T170000
DTSTAMP:20260421T190016
CREATED:20260327T143625Z
LAST-MODIFIED:20260327T143625Z
UID:10000656-1774598400-1774630800@toledopolice.com
SUMMARY:TMC
DESCRIPTION:TMC-No officers are needed for court call-in.
URL:https://toledopolice.com/event/tmc-116/
END:VEVENT
BEGIN:VEVENT
DTSTART;TZID=America/New_York:20260327T090000
DTEND;TZID=America/New_York:20260327T090000
DTSTAMP:20260421T190016
CREATED:20260327T114133Z
LAST-MODIFIED:20260327T114133Z
UID:10000654-1774602000-1774602000@toledopolice.com
SUMMARY:LUCCMP-DNA
DESCRIPTION:CR2025-01281  03/27/2026 0900hrs (#2513\,2488\,2523\,2652\,2372\,2227) 03/27/2026 0741hrs. #2527
URL:https://toledopolice.com/event/luccmp-dna-12/
END:VEVENT
BEGIN:VEVENT
DTSTART;TZID=America/New_York:20260330T080000
DTEND;TZID=America/New_York:20260330T170000
DTSTAMP:20260421T190016
CREATED:20260330T145635Z
LAST-MODIFIED:20260330T145635Z
UID:10000658-1774857600-1774890000@toledopolice.com
SUMMARY:TMC
DESCRIPTION:TMC=No officers are needed for court call-in.
URL:https://toledopolice.com/event/tmc-117/
END:VEVENT
BEGIN:VEVENT
DTSTART;TZID=America/New_York:20260330T090000
DTEND;TZID=America/New_York:20260330T090000
DTSTAMP:20260421T190016
CREATED:20260327T114305Z
LAST-MODIFIED:20260327T115224Z
UID:10000655-1774861200-1774861200@toledopolice.com
SUMMARY:LUCCMP-DNA
DESCRIPTION:CR2025-01281  03/30/2026 0900hrs (#2513\,2488\,2523\,2652\,2372\,2227) 03/27/2026 0741hrs. #2527
URL:https://toledopolice.com/event/luccmp-dna-13/
END:VEVENT
BEGIN:VEVENT
DTSTART;TZID=America/New_York:20260331T080000
DTEND;TZID=America/New_York:20260331T170000
DTSTAMP:20260421T190016
CREATED:20260326T175810Z
LAST-MODIFIED:20260326T175810Z
UID:10000644-1774944000-1774976400@toledopolice.com
SUMMARY:LCCP DNA
DESCRIPTION:CR2025-01557 3-31-26 0900hrs (#2469\, 3020\, 2089\, 2799\, 3015\, 2716\, 2332\, 3021\, 2227\, 3049\, 3016\, 2990\, 2290) 3-26-26 0934hrs #2526
URL:https://toledopolice.com/event/lccp-dna-249/
END:VEVENT
BEGIN:VEVENT
DTSTART;TZID=America/New_York:20260331T080000
DTEND;TZID=America/New_York:20260331T170000
DTSTAMP:20260421T190016
CREATED:20260327T182849Z
LAST-MODIFIED:20260327T182849Z
UID:10000657-1774944000-1774976400@toledopolice.com
SUMMARY:LCCP DNA
DESCRIPTION:CR2025-01237 3-31-26 0900hrs (#2352\, 2227) 3-27-26 1419hrs #2526
URL:https://toledopolice.com/event/lccp-dna-259/
END:VEVENT
BEGIN:VEVENT
DTSTART;TZID=America/New_York:20260331T080000
DTEND;TZID=America/New_York:20260331T170000
DTSTAMP:20260421T190016
CREATED:20260331T145256Z
LAST-MODIFIED:20260331T145256Z
UID:10000660-1774944000-1774976400@toledopolice.com
SUMMARY:TMC
DESCRIPTION:TMC-No officers are needed for the court call-in program
URL:https://toledopolice.com/event/tmc-118/
END:VEVENT
BEGIN:VEVENT
DTSTART;TZID=America/New_York:20260331T090000
DTEND;TZID=America/New_York:20260331T090000
DTSTAMP:20260421T190016
CREATED:20260320T124315Z
LAST-MODIFIED:20260320T124315Z
UID:10000634-1774947600-1774947600@toledopolice.com
SUMMARY:LCCMP-DNA
DESCRIPTION:CR2025-01475  03/31/2026 0900hrs (#2227\,8635\,2437\,2454\,2980\,8624\,2863\,2820\,2812\,2799\,2403\,2869) 03/20/2026 0841hrs.
URL:https://toledopolice.com/event/lccmp-dna-55/
END:VEVENT
BEGIN:VEVENT
DTSTART;TZID=America/New_York:20260401T080000
DTEND;TZID=America/New_York:20260401T170000
DTSTAMP:20260421T190016
CREATED:20260326T175923Z
LAST-MODIFIED:20260326T175923Z
UID:10000645-1775030400-1775062800@toledopolice.com
SUMMARY:LCCP DNA
DESCRIPTION:CR2025-01557 4-1-26 0900hrs (#2469\, 3020\, 2089\, 2799\, 3015\, 2716\, 2332\, 3021\, 2227\, 3049\, 3016\, 2990\, 2290) 3-26-26 0934hrs #2526
URL:https://toledopolice.com/event/lccp-dna-250/
END:VEVENT
BEGIN:VEVENT
DTSTART;TZID=America/New_York:20260401T080000
DTEND;TZID=America/New_York:20260401T170000
DTSTAMP:20260421T190016
CREATED:20260401T144157Z
LAST-MODIFIED:20260401T144157Z
UID:10000661-1775030400-1775062800@toledopolice.com
SUMMARY:TMC
DESCRIPTION:TMC-No officers are needed for court call-in.
URL:https://toledopolice.com/event/tmc-119/
END:VEVENT
BEGIN:VEVENT
DTSTART;TZID=America/New_York:20260402T080000
DTEND;TZID=America/New_York:20260402T170000
DTSTAMP:20260421T190016
CREATED:20260326T180032Z
LAST-MODIFIED:20260326T180032Z
UID:10000646-1775116800-1775149200@toledopolice.com
SUMMARY:LCCP DNA
DESCRIPTION:CR2025-01557 4-2-26 0900hrs (#2469\, 3020\, 2089\, 2799\, 3015\, 2716\, 2332\, 3021\, 2227\, 3049\, 3016\, 2990\, 2290) 3-26-26 0934hrs #2526
URL:https://toledopolice.com/event/lccp-dna-251/
END:VEVENT
BEGIN:VEVENT
DTSTART;TZID=America/New_York:20260402T080000
DTEND;TZID=America/New_York:20260402T170000
DTSTAMP:20260421T190016
CREATED:20260402T143311Z
LAST-MODIFIED:20260402T143311Z
UID:10000662-1775116800-1775149200@toledopolice.com
SUMMARY:TMC
DESCRIPTION:TMC-No officers are needed for court call-in.
URL:https://toledopolice.com/event/tmc-120/
END:VEVENT
BEGIN:VEVENT
DTSTART;TZID=America/New_York:20260403T080000
DTEND;TZID=America/New_York:20260403T170000
DTSTAMP:20260421T190016
CREATED:20260326T180139Z
LAST-MODIFIED:20260326T180139Z
UID:10000647-1775203200-1775235600@toledopolice.com
SUMMARY:LCCP DNA
DESCRIPTION:CR2025-01557 4-3-26 0900hrs (#2469\, 3020\, 2089\, 2799\, 3015\, 2716\, 2332\, 3021\, 2227\, 3049\, 3016\, 2990\, 2290) 3-26-26 0934hrs #2526
URL:https://toledopolice.com/event/lccp-dna-252/
END:VEVENT
BEGIN:VEVENT
DTSTART;TZID=America/New_York:20260406T080000
DTEND;TZID=America/New_York:20260406T170000
DTSTAMP:20260421T190016
CREATED:20260326T180329Z
LAST-MODIFIED:20260326T180329Z
UID:10000648-1775462400-1775494800@toledopolice.com
SUMMARY:LCCP DNA
DESCRIPTION:CR2025-01557 4-6-26 0900hrs (#2469\, 3020\, 2089\, 2799\, 3015\, 2716\, 2332\, 3021\, 2227\, 3049\, 3016\, 2990\, 2290) 3-26-26 0934hrs #2526
URL:https://toledopolice.com/event/lccp-dna-253/
END:VEVENT
BEGIN:VEVENT
DTSTART;TZID=America/New_York:20260406T080000
DTEND;TZID=America/New_York:20260406T170000
DTSTAMP:20260421T190016
CREATED:20260406T145748Z
LAST-MODIFIED:20260406T145748Z
UID:10000663-1775462400-1775494800@toledopolice.com
SUMMARY:TMC – No officers needed for court call in
DESCRIPTION:
URL:https://toledopolice.com/event/tmc-no-officers-needed-for-court-call-in-33/
END:VEVENT
BEGIN:VEVENT
DTSTART;TZID=America/New_York:20260407T080000
DTEND;TZID=America/New_York:20260407T170000
DTSTAMP:20260421T190016
CREATED:20260326T180433Z
LAST-MODIFIED:20260326T180433Z
UID:10000649-1775548800-1775581200@toledopolice.com
SUMMARY:LCCP DNA
DESCRIPTION:CR2025-01557 4-7-26 0900hrs (#2469\, 3020\, 2089\, 2799\, 3015\, 2716\, 2332\, 3021\, 2227\, 3049\, 3016\, 2990\, 2290) 3-26-26 0934hrs #2526
URL:https://toledopolice.com/event/lccp-dna-254/
END:VEVENT
BEGIN:VEVENT
DTSTART;TZID=America/New_York:20260407T080000
DTEND;TZID=America/New_York:20260407T170000
DTSTAMP:20260421T190016
CREATED:20260330T151649Z
LAST-MODIFIED:20260330T151649Z
UID:10000659-1775548800-1775581200@toledopolice.com
SUMMARY:LCCP DNA
DESCRIPTION:CR2025-01131 4-7-26 0930hrs (#2930) 3-30-26 1059hrs #2526
URL:https://toledopolice.com/event/lccp-dna-260/
END:VEVENT
END:VCALENDAR