BEGIN:VCALENDAR
VERSION:2.0
PRODID:-//Toledo Police Department - ECPv6.15.20//NONSGML v1.0//EN
CALSCALE:GREGORIAN
METHOD:PUBLISH
X-ORIGINAL-URL:https://toledopolice.com
X-WR-CALDESC:Events for Toledo Police Department
REFRESH-INTERVAL;VALUE=DURATION:PT1H
X-Robots-Tag:noindex
X-PUBLISHED-TTL:PT1H
BEGIN:VTIMEZONE
TZID:America/New_York
BEGIN:DAYLIGHT
TZOFFSETFROM:-0500
TZOFFSETTO:-0400
TZNAME:EDT
DTSTART:20240310T070000
END:DAYLIGHT
BEGIN:STANDARD
TZOFFSETFROM:-0400
TZOFFSETTO:-0500
TZNAME:EST
DTSTART:20241103T060000
END:STANDARD
BEGIN:DAYLIGHT
TZOFFSETFROM:-0500
TZOFFSETTO:-0400
TZNAME:EDT
DTSTART:20250309T070000
END:DAYLIGHT
BEGIN:STANDARD
TZOFFSETFROM:-0400
TZOFFSETTO:-0500
TZNAME:EST
DTSTART:20251102T060000
END:STANDARD
BEGIN:DAYLIGHT
TZOFFSETFROM:-0500
TZOFFSETTO:-0400
TZNAME:EDT
DTSTART:20260308T070000
END:DAYLIGHT
BEGIN:STANDARD
TZOFFSETFROM:-0400
TZOFFSETTO:-0500
TZNAME:EST
DTSTART:20261101T060000
END:STANDARD
END:VTIMEZONE
BEGIN:VEVENT
DTSTART;TZID=America/New_York:20250715T080000
DTEND;TZID=America/New_York:20250715T170000
DTSTAMP:20260421T213504
CREATED:20250718T145539Z
LAST-MODIFIED:20250718T145539Z
UID:10000147-1752566400-1752598800@toledopolice.com
SUMMARY:TMC
DESCRIPTION:No Officers are Needed for the Court Call In Program.
URL:https://toledopolice.com/event/tmc-57/
END:VEVENT
BEGIN:VEVENT
DTSTART;TZID=America/New_York:20250716T080000
DTEND;TZID=America/New_York:20250716T170000
DTSTAMP:20260421T213504
CREATED:20250716T115741Z
LAST-MODIFIED:20250716T115741Z
UID:10000144-1752652800-1752685200@toledopolice.com
SUMMARY:DNA JJC
DESCRIPTION:JC 25304390 7-16-2025 0900hrs. (#3009\, 248\, 2539\, 2481) 7-16-2025 0755hrs. #2547.
URL:https://toledopolice.com/event/dna-jjc/
END:VEVENT
BEGIN:VEVENT
DTSTART;TZID=America/New_York:20250716T080000
DTEND;TZID=America/New_York:20250716T170000
DTSTAMP:20260421T213504
CREATED:20250718T145623Z
LAST-MODIFIED:20250718T145623Z
UID:10000148-1752652800-1752685200@toledopolice.com
SUMMARY:TMC
DESCRIPTION:No Officers are Needed for the Court Call In Program.
URL:https://toledopolice.com/event/tmc-58/
END:VEVENT
BEGIN:VEVENT
DTSTART;TZID=America/New_York:20250717T080000
DTEND;TZID=America/New_York:20250717T170000
DTSTAMP:20260421T213504
CREATED:20250718T145703Z
LAST-MODIFIED:20250718T145703Z
UID:10000149-1752739200-1752771600@toledopolice.com
SUMMARY:TMC
DESCRIPTION:No Officers are Needed for the Court Call IN Program.
URL:https://toledopolice.com/event/tmc-59/
END:VEVENT
BEGIN:VEVENT
DTSTART;TZID=America/New_York:20250718T080000
DTEND;TZID=America/New_York:20250718T170000
DTSTAMP:20260421T213504
CREATED:20250718T145251Z
LAST-MODIFIED:20250718T145251Z
UID:10000146-1752825600-1752858000@toledopolice.com
SUMMARY:TMC
DESCRIPTION:No Officers are Needed for the Court Call In Program.
URL:https://toledopolice.com/event/tmc-56/
END:VEVENT
BEGIN:VEVENT
DTSTART;TZID=America/New_York:20250718T080000
DTEND;TZID=America/New_York:20250718T170000
DTSTAMP:20260421T213504
CREATED:20250718T182918Z
LAST-MODIFIED:20250718T182918Z
UID:10000150-1752825600-1752858000@toledopolice.com
SUMMARY:DNA LCCP
DESCRIPTION:CR-25-00160 7-18-2025 0900hrs. (#2087\, 2330\, 2227) 7-18-2025 0230hrs. #2547.
URL:https://toledopolice.com/event/dna-lccp-59/
END:VEVENT
BEGIN:VEVENT
DTSTART;TZID=America/New_York:20250721T080000
DTEND;TZID=America/New_York:20250721T170000
DTSTAMP:20260421T213504
CREATED:20250718T183358Z
LAST-MODIFIED:20250718T183358Z
UID:10000153-1753084800-1753117200@toledopolice.com
SUMMARY:DNA LCCP
DESCRIPTION:CR-25-00007 7-21-2025 0900hrs. (#2482\, 2722\, 2604\, 2227) 7-18-2025 1435hrs. #2547.
URL:https://toledopolice.com/event/dna-lccp-62/
END:VEVENT
BEGIN:VEVENT
DTSTART;TZID=America/New_York:20250722T080000
DTEND;TZID=America/New_York:20250722T170000
DTSTAMP:20260421T213504
CREATED:20250709T172055Z
LAST-MODIFIED:20250721T182943Z
UID:10000135-1753171200-1753203600@toledopolice.com
SUMMARY:DNA LCCP
DESCRIPTION:CR-24-02499 7-22-2025 0900hrs. (#2336\, 2227\, 2513\, 2652\, 2958\, 2550\, 2809) 7-9-2025 1320hrs. #2547. \nCR-24-02611 7-22-2025 0900hrs. (#2585\, 2703\, 2643\, 2403\, 2391\, 2770\, 2470\, 2878\, 2787\, 2718\, 2744\, 2599\, 2808\, 2723\, 2401\, 2429) 7-21-2025 1430hrs. #2547.
URL:https://toledopolice.com/event/dna-lccp-54/
END:VEVENT
BEGIN:VEVENT
DTSTART;TZID=America/New_York:20250722T080000
DTEND;TZID=America/New_York:20250722T170000
DTSTAMP:20260421T213504
CREATED:20250718T183259Z
LAST-MODIFIED:20250718T183259Z
UID:10000152-1753171200-1753203600@toledopolice.com
SUMMARY:DNA LCCP
DESCRIPTION:CR-24-02520 7-22-2025 0900hrs. (#2337\, 2476\, 2403\, 2699\, 2749\, 8598\, 2951\, 2694\, 8321\, 2590\, 2141\, 2765\, 2978\, 2227) 7-18-2025 1430hrs. #2547. \nCR-25-00007 7-22-2025 0900hrs. (#2482\, 2722\, 2604\, 2227) 7-18-2025 1430hrs. #2547.
URL:https://toledopolice.com/event/dna-lccp-61/
END:VEVENT
BEGIN:VEVENT
DTSTART;TZID=America/New_York:20250723T080000
DTEND;TZID=America/New_York:20250723T170000
DTSTAMP:20260421T213504
CREATED:20250709T172135Z
LAST-MODIFIED:20250721T183032Z
UID:10000136-1753257600-1753290000@toledopolice.com
SUMMARY:DNA LCCP
DESCRIPTION:CR-24-02499 7-23-2025 0900hrs. (#2336\, 2227\, 2513\, 2652\, 2958\, 2550\, 2809) 7-9-2025 1320hrs. #2547. \nCR-24-02611 7-23-2025 0900hrs. (#2585\, 2703\, 2643\, 2403\, 2391\, 2770\, 2470\, 2878\, 2787\, 2718\, 2744\, 2599\, 2808\, 2723\, 2401\, 2429) 7-21-2025 1430hrs. #2547.
URL:https://toledopolice.com/event/dna-lccp-55/
END:VEVENT
BEGIN:VEVENT
DTSTART;TZID=America/New_York:20250723T080000
DTEND;TZID=America/New_York:20250723T170000
DTSTAMP:20260421T213504
CREATED:20250723T114555Z
LAST-MODIFIED:20250723T114555Z
UID:10000155-1753257600-1753290000@toledopolice.com
SUMMARY:DNA-LCCP
DESCRIPTION:CR2025-00810 07/23/2025 0900hrs. (#2694\,2985\,2940\,2951\,2997\,2750) 07/23/2025  0743hrs. #2527
URL:https://toledopolice.com/event/dna-lccp-64/
END:VEVENT
BEGIN:VEVENT
DTSTART;TZID=America/New_York:20250724T080000
DTEND;TZID=America/New_York:20250724T170000
DTSTAMP:20260421T213504
CREATED:20250709T172211Z
LAST-MODIFIED:20250721T183108Z
UID:10000137-1753344000-1753376400@toledopolice.com
SUMMARY:DNA LCCP
DESCRIPTION:CR-24-02499 7-24-2025 0900hrs. (#2336\, 2227\, 2513\, 2652\, 2958\, 2550\, 2809) 7-9-2025 1320hrs. #2547. \nCR-24-02611 7-24-2025 0900hrs. (#2585\, 2703\, 2643\, 2403\, 2391\, 2770\, 2470\, 2878\, 2787\, 2718\, 2744\, 2599\, 2808\, 2723\, 2401\, 2429) 7-21-2025 1430hrs. #2547.
URL:https://toledopolice.com/event/dna-lccp-56/
END:VEVENT
BEGIN:VEVENT
DTSTART;TZID=America/New_York:20250725T080000
DTEND;TZID=America/New_York:20250725T170000
DTSTAMP:20260421T213504
CREATED:20250721T183156Z
LAST-MODIFIED:20250721T183156Z
UID:10000154-1753430400-1753462800@toledopolice.com
SUMMARY:DNA LCCP
DESCRIPTION:CR-24-02611 7-25-2025 0900hrs. (#2585\, 2703\, 2643\, 2403\, 2391\, 2770\, 2470\, 2878\, 2787\, 2718\, 2744\, 2599\, 2808\, 2723\, 2401\, 2429) 7-21-2025 1430hrs. #2547.
URL:https://toledopolice.com/event/dna-lccp-63/
END:VEVENT
BEGIN:VEVENT
DTSTART;TZID=America/New_York:20250728T080000
DTEND;TZID=America/New_York:20250728T170000
DTSTAMP:20260421T213504
CREATED:20250709T172322Z
LAST-MODIFIED:20250709T172322Z
UID:10000138-1753689600-1753722000@toledopolice.com
SUMMARY:DNA LCCP
DESCRIPTION:CR-24-02011 7-28-2025 0900hrs. (#2804\, 2835\, 2401\, 2429\, 2820\, 2823\, 8439) 7-9-2025 1325hrs. #2547.
URL:https://toledopolice.com/event/dna-lccp-57/
END:VEVENT
BEGIN:VEVENT
DTSTART;TZID=America/New_York:20250728T080000
DTEND;TZID=America/New_York:20250728T170000
DTSTAMP:20260421T213504
CREATED:20250724T130157Z
LAST-MODIFIED:20250730T133537Z
UID:10000156-1753689600-1753722000@toledopolice.com
SUMMARY:DNA-LCCP
DESCRIPTION:CR2025-02706 07/28/2025 900HRS. (#2679\,2699\,8321\,2227\,2135\,2694\,8635\,2599\,2585\,2422\,2468\,2332\,2220\,2567\,2237\,2792) 07/24/2025 0901HRS #2527 \nCR-24-02691 7-28-2025 0900hrs. (#2703\, 2227\, 2632\, 2928\, 2416\, 2975) 7-30-2025 0935hrs. #2547.
URL:https://toledopolice.com/event/dna-lccp-65/
END:VEVENT
BEGIN:VEVENT
DTSTART;TZID=America/New_York:20250728T080000
DTEND;TZID=America/New_York:20250728T170000
DTSTAMP:20260421T213504
CREATED:20250730T150236Z
LAST-MODIFIED:20250730T150236Z
UID:10000164-1753689600-1753722000@toledopolice.com
SUMMARY:TMC
DESCRIPTION:No Officers are Needed for the Court Call In Progam.
URL:https://toledopolice.com/event/tmc-62/
END:VEVENT
BEGIN:VEVENT
DTSTART;TZID=America/New_York:20250729T080000
DTEND;TZID=America/New_York:20250729T170000
DTSTAMP:20260421T213504
CREATED:20250709T172353Z
LAST-MODIFIED:20250730T133726Z
UID:10000139-1753776000-1753808400@toledopolice.com
SUMMARY:DNA LCCP
DESCRIPTION:CR-24-02011 7-29-2025 0900hrs. (#2804\, 2835\, 2401\, 2429\, 2820\, 2823\, 8439) 7-9-2025 1325hrs. #2547. \nCR-23-02900 7-29-2025 0900hrs. (#2326\, 2655\, 2227\, 2530\, 2571\, 2220\, 2396\, 2552) 7-24-2025 1225hrs. #2547. \nCR-25-00440 7-29-2025 0900hrs. (#2077\, 2541\, 2765\, 2227) 7-30-2025 0930hrs. #2547. \nCR-24-02691 7-29-2025 0900hrs. (#2703\, 2227\, 2632\, 2928\, 2416\, 2975) 7-30-2025 0935hrs. #2547. \nCR-24-02307 7-29-2025 0900hrs. (#2823\, 2862\, 2723\, 2752\, 8439\, 2744\, 2787) 7-30-2025 0935hrs. #2547.
URL:https://toledopolice.com/event/dna-lccp-58/
END:VEVENT
BEGIN:VEVENT
DTSTART;TZID=America/New_York:20250729T080000
DTEND;TZID=America/New_York:20250729T170000
DTSTAMP:20260421T213504
CREATED:20250730T145741Z
LAST-MODIFIED:20250730T150142Z
UID:10000163-1753776000-1753808400@toledopolice.com
SUMMARY:TMC
DESCRIPTION:No Officers are Needed for the Court Call In Program.
URL:https://toledopolice.com/event/tmc-61/
END:VEVENT
BEGIN:VEVENT
DTSTART;TZID=America/New_York:20250730T080000
DTEND;TZID=America/New_York:20250730T170000
DTSTAMP:20260421T213504
CREATED:20250724T163713Z
LAST-MODIFIED:20250730T135648Z
UID:10000157-1753862400-1753894800@toledopolice.com
SUMMARY:DNA LCCP
DESCRIPTION:CR-23-02900 7-30-2025 0900hrs. (#2326\, 2655\, 2227\, 2530\, 2571\, 2220\, 2396\, 2552) 7-24-2025 1225hrs. #2547. \nCR-25-00440 7-30-2025 0900hrs. (#2077\, 2541\, 2765\, 2227) 7-30-2025 0930hrs. #2547. \nCR-24-02307 7-30-2025 0900hrs. (#2823\, 2862\, 2723\, 2752\, 8439\, 2744\, 2787) 7-30-2025 0935hrs. #2547.
URL:https://toledopolice.com/event/dna-lccp-66/
END:VEVENT
BEGIN:VEVENT
DTSTART;TZID=America/New_York:20250730T080000
DTEND;TZID=America/New_York:20250730T170000
DTSTAMP:20260421T213504
CREATED:20250730T132834Z
LAST-MODIFIED:20250730T132834Z
UID:10000159-1753862400-1753894800@toledopolice.com
SUMMARY:DNA LCCP
DESCRIPTION:CR-23-02900 7-30-2025 0900hrs. (#2326\, 2655\, 2227\, 2530\, 2571\, 2220\, 2396\, 2552) 7-24-2025 1225hrs. #2547.
URL:https://toledopolice.com/event/dna-lccp-68/
END:VEVENT
BEGIN:VEVENT
DTSTART;TZID=America/New_York:20250730T080000
DTEND;TZID=America/New_York:20250730T170000
DTSTAMP:20260421T213504
CREATED:20250730T145632Z
LAST-MODIFIED:20250730T145632Z
UID:10000162-1753862400-1753894800@toledopolice.com
SUMMARY:TMC
DESCRIPTION:No Officers are Needed for the Court Call In Program.
URL:https://toledopolice.com/event/tmc-60/
END:VEVENT
BEGIN:VEVENT
DTSTART;TZID=America/New_York:20250731T080000
DTEND;TZID=America/New_York:20250731T170000
DTSTAMP:20260421T213504
CREATED:20250724T163744Z
LAST-MODIFIED:20250724T163744Z
UID:10000158-1753948800-1753981200@toledopolice.com
SUMMARY:DNA LCCP
DESCRIPTION:CR-23-02900 7-31-2025 0900hrs. (#2326\, 2655\, 2227\, 2530\, 2571\, 2220\, 2396\, 2552) 7-24-2025 1225hrs. #2547.
URL:https://toledopolice.com/event/dna-lccp-67/
END:VEVENT
BEGIN:VEVENT
DTSTART;TZID=America/New_York:20250731T080000
DTEND;TZID=America/New_York:20250731T170000
DTSTAMP:20260421T213504
CREATED:20250730T132907Z
LAST-MODIFIED:20250730T132907Z
UID:10000160-1753948800-1753981200@toledopolice.com
SUMMARY:DNA LCCP
DESCRIPTION:CR-23-02900 7-31-2025 0900hrs. (#2326\, 2655\, 2227\, 2530\, 2571\, 2220\, 2396\, 2552) 7-24-2025 1225hrs. #2547.
URL:https://toledopolice.com/event/dna-lccp-69/
END:VEVENT
BEGIN:VEVENT
DTSTART;TZID=America/New_York:20250804T080000
DTEND;TZID=America/New_York:20250804T170000
DTSTAMP:20260421T213504
CREATED:20250716T120056Z
LAST-MODIFIED:20250716T120056Z
UID:10000145-1754294400-1754326800@toledopolice.com
SUMMARY:DNA JJC
DESCRIPTION:JC 25304390 8-4-2025 1000hrs. (#3009\, 2468\, 2539\, 2481) 7-16-2025 0800hrs. #2547.
URL:https://toledopolice.com/event/dna-jjc-2/
END:VEVENT
BEGIN:VEVENT
DTSTART;TZID=America/New_York:20250804T080000
DTEND;TZID=America/New_York:20250804T170000
DTSTAMP:20260421T213504
CREATED:20250730T133116Z
LAST-MODIFIED:20250730T133116Z
UID:10000161-1754294400-1754326800@toledopolice.com
SUMMARY:DNA LCCP
DESCRIPTION:CR-25-00366 8-4-2025 0900hrs. (#2703\, 2779\, 2891\, 2866\, 2548) 7-30-2025 0930hrs. #2547
URL:https://toledopolice.com/event/dna-lccp-70/
END:VEVENT
BEGIN:VEVENT
DTSTART;TZID=America/New_York:20250805T080000
DTEND;TZID=America/New_York:20250805T170000
DTSTAMP:20260421T213504
CREATED:20250718T183008Z
LAST-MODIFIED:20250730T133044Z
UID:10000151-1754380800-1754413200@toledopolice.com
SUMMARY:DNA LCCP
DESCRIPTION:CR-25-00160 8-5-2025 0900hrs. (#2087\, 2330\, 2227) 7-18-2025 0230hrs. #2547. \nCR-25-00366 8-5-2025 0900hrs. (#2703\, 2779\, 2891\, 2866\, 2548) 7-30-2025 0930hrs. #2547.
URL:https://toledopolice.com/event/dna-lccp-60/
END:VEVENT
BEGIN:VEVENT
DTSTART;TZID=America/New_York:20250811T080000
DTEND;TZID=America/New_York:20250811T170000
DTSTAMP:20260421T213504
CREATED:20250807T161019Z
LAST-MODIFIED:20250807T161019Z
UID:10000165-1754899200-1754931600@toledopolice.com
SUMMARY:DNA LCCP
DESCRIPTION:CR2025-00395  8/11/25 1300hrs (#2418\, 2492\, 2520\, 2540\, 2158\, 2557\, 2577\, 2410\, 2627\, 2094\, 2776\, 2617\, 2512\, 2287)  8/7/25 1206hrs #2526
URL:https://toledopolice.com/event/dna-lccp-71/
END:VEVENT
BEGIN:VEVENT
DTSTART;TZID=America/New_York:20250813T080000
DTEND;TZID=America/New_York:20250813T170000
DTSTAMP:20260421T213504
CREATED:20250818T112858Z
LAST-MODIFIED:20250818T112858Z
UID:10000167-1755072000-1755104400@toledopolice.com
SUMMARY:DNA LCCP
DESCRIPTION:CR-24-02790 8-13-25 0900hrs (#2794\, 2823\, 2862\, 2627\, 2859) 8-14-25 1443hrs
URL:https://toledopolice.com/event/dna-lccp-73/
END:VEVENT
BEGIN:VEVENT
DTSTART;TZID=America/New_York:20250814T080000
DTEND;TZID=America/New_York:20250814T170000
DTSTAMP:20260421T213504
CREATED:20250818T112621Z
LAST-MODIFIED:20250818T112721Z
UID:10000166-1755158400-1755190800@toledopolice.com
SUMMARY:DNA LCCP
DESCRIPTION:CR-24-02790 8-14-25 0900hrs (#2794\, 2823\, 2862\, 2627\, 2859) 8-14-25 1443hrs
URL:https://toledopolice.com/event/dna-lccp-72/
END:VEVENT
BEGIN:VEVENT
DTSTART;TZID=America/New_York:20250819T080000
DTEND;TZID=America/New_York:20250819T170000
DTSTAMP:20260421T213504
CREATED:20250818T170934Z
LAST-MODIFIED:20250818T170934Z
UID:10000168-1755590400-1755622800@toledopolice.com
SUMMARY:DNA LCCP
DESCRIPTION:CR2024-02706 8/19/25 0900hrs (#2332\, 2567\, 2792\, 2679\, 2227\, 2237\, 2585\, 2699\, 2220\, and 2468) 8/18/25 1230hrs
URL:https://toledopolice.com/event/dna-lccp-74/
END:VEVENT
END:VCALENDAR