BEGIN:VCALENDAR
VERSION:2.0
PRODID:-//Toledo Police Department - ECPv6.15.20//NONSGML v1.0//EN
CALSCALE:GREGORIAN
METHOD:PUBLISH
X-ORIGINAL-URL:https://toledopolice.com
X-WR-CALDESC:Events for Toledo Police Department
REFRESH-INTERVAL;VALUE=DURATION:PT1H
X-Robots-Tag:noindex
X-PUBLISHED-TTL:PT1H
BEGIN:VTIMEZONE
TZID:America/New_York
BEGIN:DAYLIGHT
TZOFFSETFROM:-0500
TZOFFSETTO:-0400
TZNAME:EDT
DTSTART:20240310T070000
END:DAYLIGHT
BEGIN:STANDARD
TZOFFSETFROM:-0400
TZOFFSETTO:-0500
TZNAME:EST
DTSTART:20241103T060000
END:STANDARD
BEGIN:DAYLIGHT
TZOFFSETFROM:-0500
TZOFFSETTO:-0400
TZNAME:EDT
DTSTART:20250309T070000
END:DAYLIGHT
BEGIN:STANDARD
TZOFFSETFROM:-0400
TZOFFSETTO:-0500
TZNAME:EST
DTSTART:20251102T060000
END:STANDARD
BEGIN:DAYLIGHT
TZOFFSETFROM:-0500
TZOFFSETTO:-0400
TZNAME:EDT
DTSTART:20260308T070000
END:DAYLIGHT
BEGIN:STANDARD
TZOFFSETFROM:-0400
TZOFFSETTO:-0500
TZNAME:EST
DTSTART:20261101T060000
END:STANDARD
END:VTIMEZONE
BEGIN:VEVENT
DTSTART;TZID=America/New_York:20250821T080000
DTEND;TZID=America/New_York:20250821T170000
DTSTAMP:20260421T193229
CREATED:20250821T161800Z
LAST-MODIFIED:20250821T161830Z
UID:10000171-1755763200-1755795600@toledopolice.com
SUMMARY:DNA -LCCP
DESCRIPTION:CR2024-02819 08/21/2025 0900HRS. ( #2828\,2847\,2849\,2709\,2843\,2980)  08/21/2025  1217 HRS. #2527
URL:https://toledopolice.com/event/dna-lccp-77/
END:VEVENT
BEGIN:VEVENT
DTSTART;TZID=America/New_York:20250825T080000
DTEND;TZID=America/New_York:20250825T170000
DTSTAMP:20260421T193229
CREATED:20250818T171434Z
LAST-MODIFIED:20250818T171434Z
UID:10000169-1756108800-1756141200@toledopolice.com
SUMMARY:DNA LCCP
DESCRIPTION:CR2024-02706 8/25/25 0900hrs (#2332\, 2567\, 2792\, 2679\, 2227\, 2237\, 2585\, 2699\, 2220\, and 2468) 8/18/25 1230hrs
URL:https://toledopolice.com/event/dna-lccp-75/
END:VEVENT
BEGIN:VEVENT
DTSTART;TZID=America/New_York:20250828T080000
DTEND;TZID=America/New_York:20250828T170000
DTSTAMP:20260421T193229
CREATED:20250822T124617Z
LAST-MODIFIED:20250822T124651Z
UID:10000172-1756368000-1756400400@toledopolice.com
SUMMARY:LCCP - DNA
DESCRIPTION:CR-2025-00022 08/28/2025 0900hrs (#2227\,2771\,2961\,2919\,2976\,2989\,2909\,2571\,2908\,2332\,2685\,2385\,2591\,2234\,2552\,2484\,2681\,2879\,2372\,2089\,2928\,2290\,2141\,2878\,2483\,2617\,2530\,2462\,2606\,2638\,2988\,2972\,2684\,2787\,2572\,2432\,2627\,2666\,2573)  08/22/2025 0845hrs #2527
URL:https://toledopolice.com/event/lccp-dna-21/
END:VEVENT
BEGIN:VEVENT
DTSTART;TZID=America/New_York:20250909T080000
DTEND;TZID=America/New_York:20250909T170000
DTSTAMP:20260421T193229
CREATED:20250908T175322Z
LAST-MODIFIED:20250908T175715Z
UID:10000181-1757404800-1757437200@toledopolice.com
SUMMARY:DNA LCCP
DESCRIPTION:CR-25-00810 9-9-25 0900hrs (#2684\, 2985\, 2997\, 2750\, 2951\, 2940) 9-8-25 1326hrs
URL:https://toledopolice.com/event/dna-lccp-83/
END:VEVENT
BEGIN:VEVENT
DTSTART;TZID=America/New_York:20250909T110000
DTEND;TZID=America/New_York:20250909T110000
DTSTAMP:20260421T193229
CREATED:20250905T123126Z
LAST-MODIFIED:20250905T135858Z
UID:10000175-1757415600-1757415600@toledopolice.com
SUMMARY:DNA JJC
DESCRIPTION:09-09-25  1100  JC 25306233\, 25306235 (2928\, 3036\, 2769)  9-5-25  0830  2249
URL:https://toledopolice.com/event/dna-jjc-3/
END:VEVENT
BEGIN:VEVENT
DTSTART;TZID=America/New_York:20250912T080000
DTEND;TZID=America/New_York:20250912T170000
DTSTAMP:20260421T193229
CREATED:20250908T161915Z
LAST-MODIFIED:20250908T161915Z
UID:10000178-1757664000-1757696400@toledopolice.com
SUMMARY:DNA LCCP
DESCRIPTION:CR-2025-00129  9-12-25 0900hrs (#2703\, 2253\, 2949\, 2988\, 2900\, 2890\, 2548) 9-8-25 1213hrs #2526
URL:https://toledopolice.com/event/dna-lccp-80/
END:VEVENT
BEGIN:VEVENT
DTSTART;TZID=America/New_York:20250915T090000
DTEND;TZID=America/New_York:20250915T090000
DTSTAMP:20260421T193229
CREATED:20250912T115315Z
LAST-MODIFIED:20250912T115315Z
UID:10000184-1757926800-1757926800@toledopolice.com
SUMMARY:LCCP- DNA
DESCRIPTION:CR-2025-00475 09/15/2025 0900hrs (#3025\,2227\,2843\,2703\,2973\,2991) 09/12/2025 0752hrs #2527
URL:https://toledopolice.com/event/lccp-dna-23/
END:VEVENT
BEGIN:VEVENT
DTSTART;TZID=America/New_York:20250915T090000
DTEND;TZID=America/New_York:20250915T090000
DTSTAMP:20260421T193229
CREATED:20250912T115655Z
LAST-MODIFIED:20250912T115655Z
UID:10000186-1757926800-1757926800@toledopolice.com
SUMMARY:LCCP-DNA
DESCRIPTION:CR-2025-00736  09/15/2025 0900HRS (#2750\,2227\,2896) 09/12/2025 0742HRS #2527
URL:https://toledopolice.com/event/lccp-dna-25/
END:VEVENT
BEGIN:VEVENT
DTSTART;TZID=America/New_York:20250916T080000
DTEND;TZID=America/New_York:20250916T170000
DTSTAMP:20260421T193229
CREATED:20250908T154959Z
LAST-MODIFIED:20250908T154959Z
UID:10000176-1758009600-1758042000@toledopolice.com
SUMMARY:DNA LCCP
DESCRIPTION:CR-2025-00456  9-16-25 0900hrs (#2886\, 2774\, 2805\, 2833) 9-8-25 1144hrs #2526 \nCR-2025-00457  9-16-25 0900hrs (#2886\, 2774\, 2805\, 2833) 9-8-25 1144hrs#2526
URL:https://toledopolice.com/event/dna-lccp-78/
END:VEVENT
BEGIN:VEVENT
DTSTART;TZID=America/New_York:20250916T090000
DTEND;TZID=America/New_York:20250916T090000
DTSTAMP:20260421T193229
CREATED:20250912T114723Z
LAST-MODIFIED:20250912T115036Z
UID:10000183-1758013200-1758013200@toledopolice.com
SUMMARY:DNA- LCCP
DESCRIPTION:CR-2025-00736  09/16/2025 0900HRS (#2750\,2227\,2896) 09/12/2025 0742HRS #2527
URL:https://toledopolice.com/event/dna-lccp-84/
END:VEVENT
BEGIN:VEVENT
DTSTART;TZID=America/New_York:20250916T090000
DTEND;TZID=America/New_York:20250916T090000
DTSTAMP:20260421T193229
CREATED:20250912T115536Z
LAST-MODIFIED:20250912T115536Z
UID:10000185-1758013200-1758013200@toledopolice.com
SUMMARY:LCCP- DNA
DESCRIPTION:CR-2025-00475  09/16/2025  0900hrs. (#3025\,2227\,2703\,2843\,2973\,2991) 09/12/2025 0755hrs. #2527
URL:https://toledopolice.com/event/lccp-dna-24/
END:VEVENT
BEGIN:VEVENT
DTSTART;TZID=America/New_York:20250917T080000
DTEND;TZID=America/New_York:20250917T170000
DTSTAMP:20260421T193229
CREATED:20250908T155125Z
LAST-MODIFIED:20250908T155125Z
UID:10000177-1758096000-1758128400@toledopolice.com
SUMMARY:DNA LCCP
DESCRIPTION:CR-2025-00456  9-17-25 0900hrs (#2886\, 2774\, 2805\, 2833) 9-8-25 1144hrs #2526 \nCR-2025-00457  9-17-25 0900hrs (#2886\, 2774\, 2805\, 2833) 9-8-25 1144hrs #2526
URL:https://toledopolice.com/event/dna-lccp-79/
END:VEVENT
BEGIN:VEVENT
DTSTART;TZID=America/New_York:20250917T090000
DTEND;TZID=America/New_York:20250917T090000
DTSTAMP:20260421T193229
CREATED:20250912T114237Z
LAST-MODIFIED:20250912T114454Z
UID:10000182-1758099600-1758099600@toledopolice.com
SUMMARY:LCCP -DNA
DESCRIPTION:CR-2025-00475  09/17/2025 0900HRS (#3025\,2227\,2703\,2843\,2973\,2991) 09/12/2025 0742HRS #2527
URL:https://toledopolice.com/event/lccp-dna-22/
END:VEVENT
BEGIN:VEVENT
DTSTART;TZID=America/New_York:20250918T090000
DTEND;TZID=America/New_York:20250918T090000
DTSTAMP:20260421T193229
CREATED:20250915T183526Z
LAST-MODIFIED:20250915T183526Z
UID:10000187-1758186000-1758186000@toledopolice.com
SUMMARY:LCCP-DNA
DESCRIPTION:CR-2024-02706-  09/18/2025 0900hrs. (#2220\,2694\,2422\,2468)  09/15/2025  1435hrs. #2527
URL:https://toledopolice.com/event/lccp-dna-26/
END:VEVENT
BEGIN:VEVENT
DTSTART;TZID=America/New_York:20250922T080000
DTEND;TZID=America/New_York:20250922T170000
DTSTAMP:20260421T193229
CREATED:20250916T120010Z
LAST-MODIFIED:20250917T114113Z
UID:10000188-1758528000-1758560400@toledopolice.com
SUMMARY:DNA LCCP
DESCRIPTION:CR2025-00598 9-22-25 1300hrs (#2372; 2727; 3042; 2639; 3043; 2653; 2681; 2743; 2227) 9-15-25 1536hrs #2526
URL:https://toledopolice.com/event/dna-lccp-85/
END:VEVENT
BEGIN:VEVENT
DTSTART;TZID=America/New_York:20250922T080000
DTEND;TZID=America/New_York:20250922T170000
DTSTAMP:20260421T193229
CREATED:20250918T152336Z
LAST-MODIFIED:20250918T152336Z
UID:10000190-1758528000-1758560400@toledopolice.com
SUMMARY:DNA LCCP
DESCRIPTION:CR2025-00648 9-22-25 0900hrs (#2740\, 2864) 9-18-25 0913hrs #2526
URL:https://toledopolice.com/event/dna-lccp-87/
END:VEVENT
BEGIN:VEVENT
DTSTART;TZID=America/New_York:20250922T080000
DTEND;TZID=America/New_York:20250922T170000
DTSTAMP:20260421T193229
CREATED:20250918T153506Z
LAST-MODIFIED:20250918T153506Z
UID:10000193-1758528000-1758560400@toledopolice.com
SUMMARY:DNA LCCP
DESCRIPTION:CR2025-00343 9-22-25 0930hrs (#2703\, 2751\, 2741\, 2227) 9-18-25 0924hrs #2526
URL:https://toledopolice.com/event/dna-lccp-89/
END:VEVENT
BEGIN:VEVENT
DTSTART;TZID=America/New_York:20250922T080000
DTEND;TZID=America/New_York:20250922T170000
DTSTAMP:20260421T193229
CREATED:20250919T123214Z
LAST-MODIFIED:20250919T123214Z
UID:10000196-1758528000-1758560400@toledopolice.com
SUMMARY:DNA LCCP
DESCRIPTION:CR0202402106 9-22-25 0900hrs (#2750\, 8321) 9/18/25 1456hrs\, #2526
URL:https://toledopolice.com/event/dna-lccp-92/
END:VEVENT
BEGIN:VEVENT
DTSTART;TZID=America/New_York:20250922T080000
DTEND;TZID=America/New_York:20250922T170000
DTSTAMP:20260421T193229
CREATED:20250924T145942Z
LAST-MODIFIED:20250924T145942Z
UID:10000219-1758528000-1758560400@toledopolice.com
SUMMARY:TMC - No officers needed for court call in
DESCRIPTION:
URL:https://toledopolice.com/event/tmc-no-officers-needed-for-court-call-in/
END:VEVENT
BEGIN:VEVENT
DTSTART;TZID=America/New_York:20250923T080000
DTEND;TZID=America/New_York:20250923T170000
DTSTAMP:20260421T193229
CREATED:20250908T162020Z
LAST-MODIFIED:20250908T162020Z
UID:10000179-1758614400-1758646800@toledopolice.com
SUMMARY:DNA LCCP
DESCRIPTION:CR-2025-00129  9-23-25 0900hrs (#2703\, 2253\, 2949\, 2988\, 2900\, 2890\, 2548) 9-8-25 1213hrs #2526
URL:https://toledopolice.com/event/dna-lccp-81/
END:VEVENT
BEGIN:VEVENT
DTSTART;TZID=America/New_York:20250923T080000
DTEND;TZID=America/New_York:20250923T170000
DTSTAMP:20260421T193229
CREATED:20250917T113929Z
LAST-MODIFIED:20250917T113929Z
UID:10000189-1758614400-1758646800@toledopolice.com
SUMMARY:DNA LCCP
DESCRIPTION:CR2025-00749 9-23-25 0900hrs (#2771\, 2557\, 2577\, 2397\, 3024\, 2403) 9-16-25 1605hrs #2526
URL:https://toledopolice.com/event/dna-lccp-86/
END:VEVENT
BEGIN:VEVENT
DTSTART;TZID=America/New_York:20250923T080000
DTEND;TZID=America/New_York:20250923T170000
DTSTAMP:20260421T193229
CREATED:20250918T152624Z
LAST-MODIFIED:20250918T152940Z
UID:10000191-1758614400-1758646800@toledopolice.com
SUMMARY:DNA LCCP
DESCRIPTION:CR2025-00648 9-23-25 0900hrs (#2740\, 2864) 9-18-25 0913hrs #2526
URL:https://toledopolice.com/event/24219/
END:VEVENT
BEGIN:VEVENT
DTSTART;TZID=America/New_York:20250923T080000
DTEND;TZID=America/New_York:20250923T170000
DTSTAMP:20260421T193229
CREATED:20250918T153802Z
LAST-MODIFIED:20250918T153802Z
UID:10000194-1758614400-1758646800@toledopolice.com
SUMMARY:DNA LCCP
DESCRIPTION:CR2025-00343 9-23-25 0930hrs (#2703\, 2751\, 2741\, 2227) 9-18-25 0924hrs #2526
URL:https://toledopolice.com/event/dna-lccp-90/
END:VEVENT
BEGIN:VEVENT
DTSTART;TZID=America/New_York:20250923T080000
DTEND;TZID=America/New_York:20250923T170000
DTSTAMP:20260421T193229
CREATED:20250918T183326Z
LAST-MODIFIED:20250918T183326Z
UID:10000195-1758614400-1758646800@toledopolice.com
SUMMARY:DNA LCCP
DESCRIPTION:CR2025-00654 9-23-25 0900hrs (#2469\, 2118\, 2572\, 2552\, 8598\, 2141\, 2838\, 2915\, 2697\, 2253) 9-18-25 1417hrs #2526
URL:https://toledopolice.com/event/dna-lccp-91/
END:VEVENT
BEGIN:VEVENT
DTSTART;TZID=America/New_York:20250923T080000
DTEND;TZID=America/New_York:20250923T170000
DTSTAMP:20260421T193229
CREATED:20250919T123332Z
LAST-MODIFIED:20250919T123354Z
UID:10000197-1758614400-1758646800@toledopolice.com
SUMMARY:DNA LCCP
DESCRIPTION:CR0202402106 9-23-25 0900hrs (#2750\, 8321) 9-18-25 #2526
URL:https://toledopolice.com/event/dna-lccp-93/
END:VEVENT
BEGIN:VEVENT
DTSTART;TZID=America/New_York:20250923T080000
DTEND;TZID=America/New_York:20250923T170000
DTSTAMP:20260421T193229
CREATED:20250924T150346Z
LAST-MODIFIED:20250924T150346Z
UID:10000220-1758614400-1758646800@toledopolice.com
SUMMARY:TMC - No officers needed for court call in
DESCRIPTION:
URL:https://toledopolice.com/event/tmc-no-officers-needed-for-court-call-in-2/
END:VEVENT
BEGIN:VEVENT
DTSTART;TZID=America/New_York:20250924T080000
DTEND;TZID=America/New_York:20250924T170000
DTSTAMP:20260421T193229
CREATED:20250908T162112Z
LAST-MODIFIED:20250908T162112Z
UID:10000180-1758700800-1758733200@toledopolice.com
SUMMARY:DNA LCCP
DESCRIPTION:CR-2025-00129  9-24-25 0900hrs (#2703\, 2253\, 2949\, 2988\, 2900\, 2890\, 2548) 9-8-25 1213hrs #2526
URL:https://toledopolice.com/event/dna-lccp-82/
END:VEVENT
BEGIN:VEVENT
DTSTART;TZID=America/New_York:20250924T080000
DTEND;TZID=America/New_York:20250924T170000
DTSTAMP:20260421T193229
CREATED:20250918T152808Z
LAST-MODIFIED:20250918T152808Z
UID:10000192-1758700800-1758733200@toledopolice.com
SUMMARY:DNA LCCP
DESCRIPTION:CR2025-00648 9-24-25 0900hrs (#2740\, 2864) 9-18-25 0913hrs #2526
URL:https://toledopolice.com/event/dna-lccp-88/
END:VEVENT
BEGIN:VEVENT
DTSTART;TZID=America/New_York:20250924T080000
DTEND;TZID=America/New_York:20250924T170000
DTSTAMP:20260421T193229
CREATED:20250924T150423Z
LAST-MODIFIED:20250924T150423Z
UID:10000221-1758700800-1758733200@toledopolice.com
SUMMARY:TMC - No officers needed for court call in
DESCRIPTION:
URL:https://toledopolice.com/event/tmc-no-officers-needed-for-court-call-in-3/
END:VEVENT
BEGIN:VEVENT
DTSTART;TZID=America/New_York:20250925T080000
DTEND;TZID=America/New_York:20250925T170000
DTSTAMP:20260421T193229
CREATED:20250919T182748Z
LAST-MODIFIED:20250919T182748Z
UID:10000198-1758787200-1758819600@toledopolice.com
SUMMARY:DNA LCCP
DESCRIPTION:CR-2025-01138 09-25-25 0900hrs (#3022\, 2754\, 2227\, 2928\, 2642\, 3029)  09/19/25 1303hrs #2526
URL:https://toledopolice.com/event/dna-lccp-94/
END:VEVENT
END:VCALENDAR